{"text_format":"1","workbook":"xlsx","n_sheets":40,"sheets":["SCFI Weekly Figures","2025_SCFI","SCFI Graph - Flexi","SCFI All Trades Data for Trend","Asia to Europe Trend","Asia to Mediterranean Trend","Asia to USWC Trend","Asia to USEC Trend","Persian Gulf and Red Sea Trend","Australia and NZ Trend","East West Africa Trend","South Africa Trend","South America Trend","West Japan Trend","East Japan Trend","Southeast Asia Trend","Korea Trend","SCFI Trend Chart","CCFI Weekly Figures","2025_CCFI","CCFI Graph - Flexi","CCFI All Trades Data for Trend","CCFI Trend Chart","FAQ","2024","2023","2022","2021","2020","2019","2018","2017","2016","2015","2014","2024_CCFI","2023_CCFI","2022_CCFI","2021_CCFI","2020_CCFI"],"not_rendered":{"charts":65,"images":8,"macros":1,"external_links":1,"defined_names":24,"comments":0,"pivot_tables":8},"unopened":[],"bounds":{"document_bytes":16777216,"sheet_cells":100000,"rows_first":2000,"rows_last":500,"rows_between":2000,"halvings":0,"cell_chars":16384,"cell_head_chars":4096},"cells_cut":0,"cells_raw":0,"read":"whole","date_system":"1900"}

{"sheet":"SCFI Weekly Figures","index":0,"n_rows":546,"n_cols":31,"rows_kept":546,"cut":false,"hidden":false,"merged":[[324,1,324,26],[5,31,5,34],[150,1,150,26],[219,1,219,26],[220,1,220,26],[202,1,202,26],[180,1,180,26],[168,1,168,26]]}
[]
[]
["SCFI Weekly trend"]
[]
[]
["Date","Europe (Base port)","Europe Average by Month","Mediterranean (Base port)","Mediterranean Average by Month","USWC (Base port) /FEU right axes","USWC Average by Month","USEC (Base port)/FEU right axes","USEC Average by Month","Persian Gulf and Red Sea (Dubai)","Persian Gulf and Red Sea Average by Month","Austrlia/ New Zealand (Melbourne)","Australia/ NZ Average by Month","East/West Africa (Lagos)","East West Africa Average by Month","South Africa (Duban)","South Africa Average by Month","South America (Santos)","South America Average by Month","West Japan (Base port)","West Japan Average by Month","East Japan (Base port)","East Japan Average by Month","Southeast Asia (Singapore)","Southeast Asia Average by Month","Korea (Pusan)","Korea Average by Month","Central/South America West Coast (Manzanillo)","Central/South America West Coast (Manzanillo) Average by Month","East Africa (Mombasa)","East Africa (Mombasa) Average by Month"]
[null,"USD/TEU ",null,"USD/TEU ",null,"USD/FEU ",null,"USD/FEU ",null,"USD/TEU ",null,"USD/TEU ",null,"USD/TEU ",null,"USD/TEU ",null,"USD/TEU ",null,"USD/TEU ",null,"USD/TEU ",null,"USD/TEU ",null,"USD/TEU ",null,"USD/TEU ",null,"USD/TEU "]
["2016-01-08",932,null,1022,null,1498,null,2542,null,462,null,743,null,1470,null,523,null,278,null,102,null,110,null,95,null,108]
["2016-01-15",740,null,869,null,1417,null,2457,null,385,null,640,null,1431,null,549,null,203,null,119,null,130,null,93,null,109]
["2016-01-22",545,null,629,null,1377,null,2420,null,306,null,563,null,1358,null,530,null,155,null,137,null,146,null,88,null,124]
["2016-01-29",469,{"$f":"AVERAGE(B8:B11)","v":671.5},488,{"$f":"AVERAGE(D8:D11)","v":752},1388,{"$f":"AVERAGE(F8:F11)","v":1420},2466,{"$f":"AVERAGE(H8:H11)","v":2471.25},278,{"$f":"AVERAGE(J8:J11)","v":357.75},525,{"$f":"AVERAGE(L8:L11)","v":617.75},1321,{"$f":"AVERAGE(N8:N11)","v":1395},502,{"$f":"AVERAGE(P8:P11)","v":526},137,{"$f":"AVERAGE(R8:R11)","v":193.25},143,{"$f":"AVERAGE(T8:T11)","v":125.25},154,{"$f":"AVERAGE(V8:V11)","v":135},84,{"$f":"AVERAGE(X8:X11)","v":90},125,{"$f":"AVERAGE(Z8:Z11)","v":116.5}]
["2016-02-05",431,null,454,null,1321,null,2341,null,276,null,479,null,1301,null,493,null,113,null,144,null,155,null,83,null,125]
["2016-02-12"]
["2016-02-19",332,null,344,null,1070,null,2074,null,261,null,440,null,1249,null,469,null,99,null,126,null,131,null,83,null,125]
["2016-02-26",257,{"$f":"SUM(B12:B15)/3","v":340},266,{"$f":"SUM(D12:D15)/3","v":354.66666666666669},1005,{"$f":"SUM(F12:F15)/3","v":1132},1983,{"$f":"SUM(H12:H15)/3","v":2132.6666666666665},266,{"$f":"SUM(J12:J15)/3","v":267.66666666666669},400,{"$f":"SUM(L12:L15)/3","v":439.66666666666669},1197,{"$f":"SUM(N12:N15)/3","v":1249},460,{"$f":"SUM(P12:P15)/3","v":474},817,{"$f":"SUM(R12:R15)/3","v":343},138,{"$f":"SUM(T12:T15)/3","v":136},151,{"$f":"SUM(V12:V15)/3","v":145.66666666666666},84,{"$f":"SUM(X12:X15)/3","v":83.333333333333329},125,{"$f":"SUM(Z12:Z15)/3","v":125}]
["2016-03-04",231,null,236,null,884,null,1804,null,247,null,382,null,1148,null,429,null,633,null,140,null,156,null,83,null,125]
["2016-03-11",211,null,203,null,810,null,1710,null,211,null,362,null,1068,null,385,null,472,null,143,null,153,null,83,null,107]
["2016-03-18",205,null,195,null,761,null,1659,null,315,null,336,null,995,null,369,null,332,null,152,null,166,null,58,null,105]
["2016-03-25",247,{"$f":"AVERAGE(B16:B19)","v":223.5},248,{"$f":"AVERAGE(D16:D19)","v":220.5},748,{"$f":"AVERAGE(F16:F19)","v":800.75},1651,{"$f":"AVERAGE(H16:H19)","v":1706},346,{"$f":"AVERAGE(J16:J19)","v":279.75},332,{"$f":"AVERAGE(L16:L19)","v":353},966,{"$f":"AVERAGE(N16:N19)","v":1044.25},362,{"$f":"AVERAGE(P16:P19)","v":386.25},442,{"$f":"AVERAGE(R16:R19)","v":469.75},180,{"$f":"AVERAGE(T16:T19)","v":153.75},180,{"$f":"AVERAGE(V16:V19)","v":163.75},57,{"$f":"AVERAGE(X16:X19)","v":70.25},96,{"$f":"AVERAGE(Z16:Z19)","v":108.25}]
["2016-04-01",339,null,507,null,922,null,1787,null,511,null,465,null,982,null,350,null,674,null,193,null,191,null,56,null,95]
["2016-04-08",291,null,438,null,849,null,1732,null,558,null,430,null,908,null,335,null,505,null,200,null,193,null,58,null,95]
["2016-04-15",271,null,409,null,770,null,1648,null,561,null,377,null,888,null,318,null,730,null,201,null,194,null,58,null,104]
["2016-04-22",271,null,397,null,725,null,1599,null,521,null,342,null,841,null,317,null,649,null,201,null,194,null,58,null,115]
["2016-04-29",732,{"$f":"AVERAGE(B20:B24)","v":380.8},944,{"$f":"AVERAGE(D20:D24)","v":539},857,{"$f":"AVERAGE(F20:F24)","v":824.6},1694,{"$f":"AVERAGE(H20:H24)","v":1692},536,{"$f":"AVERAGE(J20:J24)","v":537.4},354,{"$f":"AVERAGE(L20:L24)","v":393.6},1254,{"$f":"AVERAGE(N20:N24)","v":974.6},307,{"$f":"AVERAGE(P20:P24)","v":325.39999999999998},887,{"$f":"AVERAGE(R20:R24)","v":689},196,{"$f":"AVERAGE(T20:T24)","v":198.2},192,{"$f":"AVERAGE(V20:V24)","v":192.8},58,{"$f":"AVERAGE(X20:X24)","v":57.6},115,{"$f":"AVERAGE(Z20:Z24)","v":104.8}]
["2016-05-06",636,null,873,null,863,null,1683,null,491,null,385,null,1247,null,308,null,925,null,201,null,194,null,59,null,105]
["2016-05-13",606,null,869,null,818,null,1619,null,407,null,442,null,1232,null,333,null,1259,null,199,null,193,null,59,null,103]
["2016-05-20",527,null,754,null,753,null,1547,null,386,null,397,null,1214,null,345,null,1303,null,199,null,192,null,59,null,103]
["2016-05-27",720,{"$f":"AVERAGE(B25:B28)","v":622.25},918,{"$f":"AVERAGE(D25:D28)","v":853.5},788,{"$f":"AVERAGE(F25:F28)","v":805.5},1622,{"$f":"AVERAGE(H25:H28)","v":1617.75},361,{"$f":"AVERAGE(J25:J28)","v":411.25},381,{"$f":"AVERAGE(L25:L28)","v":401.25},1181,{"$f":"AVERAGE(N25:N28)","v":1218.5},341,{"$f":"AVERAGE(P25:P28)","v":331.75},1698,{"$f":"AVERAGE(R25:R28)","v":1296.25},197,{"$f":"AVERAGE(T25:T28)","v":199},191,{"$f":"AVERAGE(V25:V28)","v":192.5},61,{"$f":"AVERAGE(X25:X28)","v":59.5},105,{"$f":"AVERAGE(Z25:Z28)","v":104}]
["2016-06-03",761,null,889,null,852,null,1685,null,336,null,345,null,1041,null,346,null,1911,null,194,null,188,null,62,null,105]
["2016-06-10",657,null,788,null,811,null,1649,null,356,null,321,null,1028,null,336,null,1894,null,193,null,187,null,62,null,105]
["2016-06-17",540,null,660,null,770,null,1528,null,358,null,305,null,982,null,330,null,2399,null,191,null,186,null,60,null,100]
["2016-06-24",680,{"$f":"AVERAGE(B29:B32)","v":659.5},776,{"$f":"AVERAGE(D29:D32)","v":778.25},753,{"$f":"AVERAGE(F29:F32)","v":796.5},1496,{"$f":"AVERAGE(H29:H32)","v":1589.5},361,{"$f":"AVERAGE(J29:J32)","v":352.75},315,{"$f":"AVERAGE(L29:L32)","v":321.5},909,{"$f":"AVERAGE(N29:N32)","v":990},326,{"$f":"AVERAGE(P29:P32)","v":334.5},2389,{"$f":"AVERAGE(R29:R32)","v":2148.25},190,{"$f":"AVERAGE(T29:T32)","v":192},184,{"$f":"AVERAGE(V29:V32)","v":186.25},56,{"$f":"AVERAGE(X29:X32)","v":60},113,{"$f":"AVERAGE(Z29:Z32)","v":105.75}]
["2016-07-01",1206,null,1172,null,1209,null,1785,null,401,null,414,null,1242,null,325,null,2543,null,190,null,184,null,56,null,109]
["2016-07-08",932,null,951,null,1166,null,1727,null,387,null,418,null,1201,null,319,null,2291,null,189,null,184,null,55,null,108]
["2016-07-15",776,null,758,null,1421,null,1871,null,320,null,373,null,1082,null,311,null,2626,null,190,null,185,null,55,null,107]
["2016-07-22",713,null,664,null,1296,null,1744,null,305,null,364,null,1072,null,308,null,2544,null,190,null,185,null,56,null,107]
["2016-07-29",1125,{"$f":"AVERAGE(B33:B37)","v":950.4},1004,{"$f":"AVERAGE(D33:D37)","v":909.8},1322,{"$f":"AVERAGE(F33:F37)","v":1282.8},1958,{"$f":"AVERAGE(H33:H37)","v":1817},308,{"$f":"AVERAGE(J33:J37)","v":344.2},410,{"$f":"AVERAGE(L33:L37)","v":395.8},1266,{"$f":"AVERAGE(N33:N37)","v":1172.5999999999999},643,{"$f":"AVERAGE(P33:P37)","v":381.2},2723,{"$f":"AVERAGE(R33:R37)","v":2545.4},193,{"$f":"AVERAGE(T33:T37)","v":190.4},187,{"$f":"AVERAGE(V33:V37)","v":185},54,{"$f":"AVERAGE(X33:X37)","v":55.2},109,{"$f":"AVERAGE(Z33:Z37)","v":108}]
["2016-08-05",861,null,865,null,1277,null,1884,null,277,null,367,null,1333,null,700,null,2774,null,195,null,189,null,53,null,107]
["2016-08-12",771,null,699,null,1225,null,1768,null,248,null,343,null,1224,null,661,null,2718,null,194,null,188,null,53,null,103]
["2016-08-19",691,null,594,null,1159,null,1694,null,230,null,337,null,1083,null,658,null,2832,null,195,null,188,null,54,null,88]
["2016-08-26",695,{"$f":"AVERAGE(B38:B41)","v":754.5},553,{"$f":"AVERAGE(D38:D41)","v":677.75},1153,{"$f":"AVERAGE(F38:F41)","v":1203.5},1684,{"$f":"AVERAGE(H38:H41)","v":1757.5},247,{"$f":"AVERAGE(J38:J41)","v":250.5},361,{"$f":"AVERAGE(L38:L41)","v":352},1030,{"$f":"AVERAGE(N38:N41)","v":1167.5},740,{"$f":"AVERAGE(P38:P41)","v":689.75},2711,{"$f":"AVERAGE(R38:R41)","v":2758.75},196,{"$f":"AVERAGE(T38:T41)","v":195},190,{"$f":"AVERAGE(V38:V41)","v":188.75},54,{"$f":"AVERAGE(X38:X41)","v":53.5},87,{"$f":"AVERAGE(Z38:Z41)","v":96.25}]
["2016-09-02",949,null,519,null,1746,null,2441,null,317,null,497,null,1419,null,812,null,2871,null,200,null,193,null,54,null,87]
["2016-09-09",943,null,702,null,1749,null,2447,null,414,null,516,null,1173,null,838,null,2351,null,202,null,196,null,53,null,86]
["2016-09-14",966,null,860,null,1742,null,2447,null,401,null,519,null,1166,null,901,null,2159,null,203,null,196,null,53,null,88]
["2016-09-23",764,null,667,null,1726,null,2433,null,374,null,523,null,1101,null,944,null,1613,null,201,null,196,null,53,null,88]
["2016-09-30",699,{"$f":"AVERAGE(B42:B46)","v":864.2},583,{"$f":"AVERAGE(D42:D46)","v":666.2},1686,{"$f":"AVERAGE(F42:F46)","v":1729.8},2416,{"$f":"AVERAGE(H42:H46)","v":2436.8000000000002},371,{"$f":"AVERAGE(J42:J46)","v":375.4},516,{"$f":"AVERAGE(L42:L46)","v":514.20000000000005},1037,{"$f":"AVERAGE(N42:N46)","v":1179.2},909,{"$f":"AVERAGE(P42:P46)","v":880.8},1427,{"$f":"AVERAGE(R42:R46)","v":2084.1999999999998},202,{"$f":"AVERAGE(T42:T46)","v":201.6},198,{"$f":"AVERAGE(V42:V46)","v":195.8},53,{"$f":"AVERAGE(X42:X46)","v":53.2},95,{"$f":"AVERAGE(Z42:Z46)","v":88.8}]
["2016-10-07"]
["2016-10-14",755,null,565,null,1914,null,2563,null,420,null,833,null,942,null,891,null,2239,null,202,null,197,null,58,null,94]
["2016-10-21",761,null,558,null,1917,null,2565,null,595,null,856,null,903,null,900,null,2219,null,203,null,198,null,59,null,95]
["2016-10-28",958,{"$f":"AVERAGE(B47:B50)","v":824.66666666666663},788,{"$f":"AVERAGE(D47:D50)","v":637},2034,{"$f":"AVERAGE(F47:F50)","v":1955},2836,{"$f":"AVERAGE(H47:H50)","v":2654.6666666666665},579,{"$f":"AVERAGE(J47:J50)","v":531.33333333333337},878,{"$f":"AVERAGE(L47:L50)","v":855.66666666666663},1190,{"$f":"AVERAGE(N47:N50)","v":1011.6666666666666},930,{"$f":"AVERAGE(P47:P50)","v":907},2719,{"$f":"AVERAGE(R47:R50)","v":2392.3333333333335},210,{"$f":"AVERAGE(T47:T50)","v":205},205,{"$f":"AVERAGE(V47:V50)","v":200},71,{"$f":"AVERAGE(X47:X50)","v":62.666666666666664},95,{"$f":"AVERAGE(Z47:Z50)","v":94.666666666666671}]
["2016-11-04",913,null,738,null,1990,null,2793,null,490,null,891,null,1222,null,911,null,2673,null,220,null,214,null,78,null,95]
["2016-11-11",869,null,728,null,1809,null,2671,null,441,null,973,null,1209,null,898,null,2908,null,219,null,213,null,92,null,94]
["2016-11-18",788,null,710,null,1687,null,2623,null,648,null,977,null,1209,null,869,null,2685,null,219,null,213,null,97,null,95]
["2016-11-25",775,{"$f":"AVERAGE(B51:B54)","v":836.25},725,{"$f":"AVERAGE(D51:D54)","v":725.25},1528,{"$f":"AVERAGE(F51:F54)","v":1753.5},2513,{"$f":"AVERAGE(H51:H54)","v":2650},641,{"$f":"AVERAGE(J51:J54)","v":555},924,{"$f":"AVERAGE(L51:L54)","v":941.25},1196,{"$f":"AVERAGE(N51:N54)","v":1209},869,{"$f":"AVERAGE(P51:P54)","v":886.75},2400,{"$f":"AVERAGE(R51:R54)","v":2666.5},219,{"$f":"AVERAGE(T51:T54)","v":219.25},213,{"$f":"AVERAGE(V51:V54)","v":213.25},98,{"$f":"AVERAGE(X51:X54)","v":91.25},98,{"$f":"AVERAGE(Z51:Z54)","v":95.5}]
["2016-12-02",930,null,865,null,1456,null,2414,null,545,null,795,null,1525,null,841,null,2477,null,219,null,213,null,100,null,98]
["2016-12-09",1046,null,944,null,1382,null,2340,null,527,null,730,null,1503,null,819,null,2058,null,219,null,213,null,100,null,98]
["2016-12-16",1006,null,947,null,1608,null,2627,null,495,null,720,null,1469,null,804,null,1816,null,219,null,213,null,101,null,98]
["2016-12-23",1049,null,963,null,1541,null,2613,null,495,null,747,null,1442,null,803,null,1757,null,219,null,213,null,105,null,98]
["2016-12-30",1168,{"$f":"AVERAGE(B55:B59)","v":1039.8},1086,{"$f":"AVERAGE(D55:D59)","v":961},1541,{"$f":"AVERAGE(F55:F59)","v":1505.6},2613,{"$f":"AVERAGE(H55:H59)","v":2521.4},495,{"$f":"AVERAGE(J55:J59)","v":511.4},982,{"$f":"AVERAGE(L55:L59)","v":794.8},1786,{"$f":"AVERAGE(N55:N59)","v":1545},1116,{"$f":"AVERAGE(P55:P59)","v":876.6},2828,{"$f":"AVERAGE(R55:R59)","v":2187.1999999999998},210,{"$f":"AVERAGE(T55:T59)","v":217.2},212,{"$f":"AVERAGE(V55:V59)","v":212.8},108,{"$f":"AVERAGE(X55:X59)","v":102.8},98,{"$f":"AVERAGE(Z55:Z59)","v":98}]
["2017-01-06",1116,null,1042,null,2082,null,3133,null,623,null,892,null,1693,null,1098,null,2707,null,210,null,212,null,104,null,98]
["2017-01-13",1086,null,1028,null,2211,null,3594,null,637,null,831,null,1646,null,997,null,2575,null,210,null,212,null,104,null,101]
["2017-01-20",1052,null,1004,null,2167,null,3647,null,634,null,772,null,1595,null,987,null,2294,null,210,null,212,null,102,null,101]
["2017-01-26",1041,{"$f":"AVERAGE(B60:B63)","v":1073.75},986,{"$f":"AVERAGE(D60:D63)","v":1015},2106,{"$f":"AVERAGE(F60:F63)","v":2141.5},3637,{"$f":"AVERAGE(H60:H63)","v":3502.75},630,{"$f":"AVERAGE(J60:J63)","v":631},738,{"$f":"AVERAGE(L60:L63)","v":808.25},1556,{"$f":"AVERAGE(N60:N63)","v":1622.5},995,{"$f":"AVERAGE(P60:P63)","v":1019.25},2056,{"$f":"AVERAGE(R60:R63)","v":2408},210,{"$f":"AVERAGE(T60:T63)","v":210},212,{"$f":"AVERAGE(V60:V63)","v":212},97,{"$f":"AVERAGE(X60:X63)","v":101.75},101,{"$f":"AVERAGE(Z60:Z63)","v":100.25}]
["2017-02-03",1023,null,988,null,2092,null,3639,null,630,null,730,null,1528,null,993,null,1982,null,210,null,212,null,98,null,101]
["2017-02-10",913,null,876,null,1964,null,3456,null,609,null,660,null,1408,null,896,null,1960,null,200,null,202,null,99,null,101]
["2017-02-17",858,null,844,null,1771,null,3214,null,578,null,572,null,1368,null,833,null,1756,null,204,null,206,null,100,null,93]
["2017-02-24",921,{"$f":"AVERAGE(B64:B67)","v":928.75},882,{"$f":"AVERAGE(D64:D67)","v":897.5},1650,{"$f":"AVERAGE(F64:F67)","v":1869.25},3055,{"$f":"AVERAGE(H64:H67)","v":3341},527,{"$f":"AVERAGE(J64:J67)","v":586},510,{"$f":"AVERAGE(L64:L67)","v":618},1385,{"$f":"AVERAGE(N64:N67)","v":1422.25},807,{"$f":"AVERAGE(P64:P67)","v":882.25},1757,{"$f":"AVERAGE(R64:R67)","v":1863.75},204,{"$f":"AVERAGE(T64:T67)","v":204.5},206,{"$f":"AVERAGE(V64:V67)","v":206.5},108,{"$f":"AVERAGE(X64:X67)","v":101.25},93,{"$f":"AVERAGE(Z64:Z67)","v":97}]
["2017-03-03",876,null,854,null,1496,null,2955,null,503,null,469,null,1523,null,792,null,1609,null,211,null,211,null,111,null,92]
["2017-03-10",859,null,838,null,1424,null,2887,null,477,null,460,null,1531,null,775,null,1613,null,213,null,213,null,113,null,92]
["2017-03-17",819,null,802,null,1338,null,2721,null,550,null,440,null,1493,null,749,null,1760,null,208,null,208,null,116,null,118]
["2017-03-24",815,null,798,null,1288,null,2625,null,690,null,443,null,1473,null,747,null,1726,null,213,null,213,null,112,null,160]
["2017-03-31",838,{"$f":"AVERAGE(B68:B72)","v":841.4},837,{"$f":"AVERAGE(D68:D72)","v":825.8},1479,{"$f":"AVERAGE(F68:F72)","v":1405},2565,{"$f":"AVERAGE(H68:H72)","v":2750.6},906,{"$f":"AVERAGE(J68:J72)","v":625.20000000000005},434,{"$f":"AVERAGE(L68:L72)","v":449.2},1827,{"$f":"AVERAGE(N68:N72)","v":1569.4},971,{"$f":"AVERAGE(P68:P72)","v":806.8},2332,{"$f":"AVERAGE(R68:R72)","v":1808},214,{"$f":"AVERAGE(T68:T72)","v":211.8},214,{"$f":"AVERAGE(V68:V72)","v":211.8},110,{"$f":"AVERAGE(X68:X72)","v":112.4},168,{"$f":"AVERAGE(Z68:Z72)","v":126}]
["2017-04-08",836,null,817,null,1375,null,2436,null,890,null,441,null,1911,null,990,null,2247,null,215,null,215,null,113,null,165]
["2017-04-14",866,null,827,null,1357,null,2360,null,847,null,430,null,1915,null,1002,null,2540,null,216,null,216,null,124,null,162]
["2017-04-21",880,null,841,null,1326,null,2307,null,829,null,424,null,1890,null,999,null,2448,null,219,null,219,null,143,null,162]
["2017-04-28",1021,{"$f":"AVERAGE(B73:B76)","v":900.75},1011,{"$f":"AVERAGE(D73:D76)","v":874},1606,{"$f":"AVERAGE(F73:F76)","v":1416},2625,{"$f":"AVERAGE(H73:H76)","v":2432},822,{"$f":"AVERAGE(J73:J76)","v":847},446,{"$f":"AVERAGE(L73:L76)","v":435.25},2231,{"$f":"AVERAGE(N73:N76)","v":1986.75},1149,{"$f":"AVERAGE(P73:P76)","v":1035},2927,{"$f":"AVERAGE(R73:R76)","v":2540.5},219,{"$f":"AVERAGE(T73:T76)","v":217.25},219,{"$f":"AVERAGE(V73:V76)","v":217.25},162,{"$f":"AVERAGE(X73:X76)","v":135.5},164,{"$f":"AVERAGE(Z73:Z76)","v":163.25}]
["2017-05-05",996,null,988,null,1555,null,2567,null,744,null,431,null,2288,null,1145,null,2820,null,219,null,219,null,178,null,164]
["2017-05-12",961,null,949,null,1432,null,2432,null,716,null,419,null,2211,null,1120,null,3284,null,219,null,219,null,183,null,164]
["2017-05-19",924,null,914,null,1310,null,2298,null,719,null,406,null,2181,null,1134,null,3069,null,218,null,218,null,185,null,164]
["2017-05-26",977,{"$f":"AVERAGE(B77:B80)","v":964.5},945,{"$f":"AVERAGE(D77:D80)","v":949},1264,{"$f":"AVERAGE(F77:F80)","v":1390.25},2229,{"$f":"AVERAGE(H77:H80)","v":2381.5},764,{"$f":"AVERAGE(J77:J80)","v":735.75},373,{"$f":"AVERAGE(L77:L80)","v":407.25},2213,{"$f":"AVERAGE(N77:N80)","v":2223.25},1194,{"$f":"AVERAGE(P77:P80)","v":1148.25},3294,{"$f":"AVERAGE(R77:R80)","v":3116.75},218,{"$f":"AVERAGE(T77:T80)","v":218.5},218,{"$f":"AVERAGE(V77:V80)","v":218.5},178,{"$f":"AVERAGE(X77:X80)","v":181},164,{"$f":"AVERAGE(Z77:Z80)","v":164}]
["2017-06-02",933,null,920,null,1413,null,2428,null,918,null,350,null,2561,null,1252,null,3424,null,219,null,219,null,175,null,164]
["2017-06-09",935,null,904,null,1277,null,2233,null,916,null,338,null,2465,null,1222,null,3460,null,217,null,217,null,178,null,162]
["2017-06-16",880,null,877,null,1146,null,2081,null,949,null,323,null,2380,null,1215,null,3551,null,216,null,217,null,178,null,162]
["2017-06-23",882,null,878,null,1092,null,2013,null,933,null,337,null,2335,null,1210,null,3599,null,216,null,216,null,176,null,160]
["2017-06-30",1015,{"$f":"AVERAGE(B81:B85)","v":929},951,{"$f":"AVERAGE(D81:D85)","v":906},1378,{"$f":"AVERAGE(F81:F85)","v":1261.2},2356,{"$f":"AVERAGE(H81:H85)","v":2222.1999999999998},910,{"$f":"AVERAGE(J81:J85)","v":925.2},394,{"$f":"AVERAGE(L81:L85)","v":348.4},2726,{"$f":"AVERAGE(N81:N85)","v":2493.4},1400,{"$f":"AVERAGE(P81:P85)","v":1259.8},3811,{"$f":"AVERAGE(R81:R85)","v":3569},216,{"$f":"AVERAGE(T81:T85)","v":216.8},216,{"$f":"AVERAGE(V81:V85)","v":217},180,{"$f":"AVERAGE(X81:X85)","v":177.4},160,{"$f":"AVERAGE(Z81:Z85)","v":161.6}]
["2017-07-07",969,null,906,null,1333,null,2307,null,846,null,374,null,2620,null,1391,null,3795,null,216,null,216,null,181,null,152]
["2017-07-14",939,null,864,null,1265,null,2251,null,772,null,366,null,2620,null,1390,null,3762,null,216,null,216,null,184,null,152]
["2017-07-21",919,null,852,null,1226,null,2233,null,717,null,365,null,2469,null,1395,null,3518,null,218,null,218,null,181,null,145]
["2017-07-28",963,{"$f":"AVERAGE(B86:B89)","v":947.5},883,{"$f":"AVERAGE(D86:D89)","v":876.25},1687,{"$f":"AVERAGE(F86:F89)","v":1377.75},2685,{"$f":"AVERAGE(H86:H89)","v":2369},690,{"$f":"AVERAGE(J86:J89)","v":756.25},513,{"$f":"AVERAGE(L86:L89)","v":404.5},2506,{"$f":"AVERAGE(N86:N89)","v":2553.75},1474,{"$f":"AVERAGE(P86:P89)","v":1412.5},3352,{"$f":"AVERAGE(R86:R89)","v":3606.75},218,{"$f":"AVERAGE(T86:T89)","v":217},218,{"$f":"AVERAGE(V86:V89)","v":217},179,{"$f":"AVERAGE(X86:X89)","v":181.25},144,{"$f":"AVERAGE(Z86:Z89)","v":148.25}]
["2017-08-04",935,null,859,null,1661,null,2661,null,672,null,504,null,2273,null,1366,null,3100,null,218,null,218,null,169,null,135]
["2017-08-11",931,null,849,null,1641,null,2620,null,633,null,493,null,1925,null,1347,null,2980,null,218,null,218,null,165,null,135]
["2017-08-18",918,null,831,null,1659,null,2592,null,548,null,489,null,1848,null,1298,null,2843,null,218,null,218,null,161,null,134]
["2017-08-25",923,{"$f":"AVERAGE(B90:B93)","v":926.75},822,{"$f":"AVERAGE(D90:D93)","v":840.25},1541,{"$f":"AVERAGE(F90:F93)","v":1625.5},2419,{"$f":"AVERAGE(H90:H93)","v":2573},475,{"$f":"AVERAGE(J90:J93)","v":582},514,{"$f":"AVERAGE(L90:L93)","v":500},1757,{"$f":"AVERAGE(N90:N93)","v":1950.75},1295,{"$f":"AVERAGE(P90:P93)","v":1326.5},2583,{"$f":"AVERAGE(R90:R93)","v":2876.5},218,{"$f":"AVERAGE(T90:T93)","v":218},218,{"$f":"AVERAGE(V90:V93)","v":218},152,{"$f":"AVERAGE(X90:X93)","v":161.75},133,{"$f":"AVERAGE(Z90:Z93)","v":134.25}]
["2017-09-01",886,null,791,null,1495,null,2280,null,450,null,710,null,1553,null,1394,null,2407,null,218,null,218,null,149,null,137]
["2017-09-08",812,null,758,null,1473,null,2231,null,430,null,706,null,1417,null,1337,null,2241,null,218,null,218,null,149,null,140]
["2017-09-15",769,null,730,null,1586,null,2269,null,420,null,714,null,1293,null,1264,null,2091,null,218,null,218,null,147,null,140]
["2017-09-22",734,null,709,null,1484,null,2105,null,376,null,730,null,1161,null,1196,null,1886,null,218,null,218,null,147,null,134]
["2017-09-29",714,{"$f":"AVERAGE(B94:B98)","v":783},692,{"$f":"AVERAGE(D94:D98)","v":736},1414,{"$f":"AVERAGE(F94:F98)","v":1490.4},1991,{"$f":"AVERAGE(H94:H98)","v":2175.1999999999998},366,{"$f":"AVERAGE(J94:J98)","v":408.4},708,{"$f":"AVERAGE(L94:L98)","v":713.6},1151,{"$f":"AVERAGE(N94:N98)","v":1315},1173,{"$f":"AVERAGE(P94:P98)","v":1272.8},1846,{"$f":"AVERAGE(R94:R98)","v":2094.1999999999998},218,{"$f":"AVERAGE(T94:T98)","v":218},218,{"$f":"AVERAGE(V94:V98)","v":218},148,{"$f":"AVERAGE(X94:X98)","v":148},137,{"$f":"AVERAGE(Z94:Z98)","v":137.6}]
["2017-10-07"]
["2017-10-13",686,null,652,null,1367,null,1801,null,410,null,1020,null,1189,null,1191,null,2582,null,207,null,207,null,150,null,137]
["2017-10-20",681,null,646,null,1366,null,1755,null,570,null,1052,null,1178,null,1240,null,2545,null,216,null,216,null,155,null,144]
["2017-10-27",744,{"$f":"AVERAGE(B100:B102)","v":703.66666666666663},640,{"$f":"AVERAGE(D100:D102)","v":646},1512,{"$f":"AVERAGE(F100:F102)","v":1415},2075,{"$f":"AVERAGE(H100:H102)","v":1877},576,{"$f":"AVERAGE(J100:J102)","v":518.66666666666663},1100,{"$f":"AVERAGE(L100:L102)","v":1057.3333333333333},1569,{"$f":"AVERAGE(N100:N102)","v":1312},1292,{"$f":"AVERAGE(P100:P102)","v":1241},2929,{"$f":"AVERAGE(R100:R102)","v":2685.3333333333335},217,{"$f":"AVERAGE(T100:T102)","v":213.33333333333334},271,{"$f":"AVERAGE(V100:V102)","v":231.33333333333334},162,{"$f":"AVERAGE(X100:X102)","v":155.66666666666666},149,{"$f":"AVERAGE(Z100:Z102)","v":143.33333333333334}]
["2017-11-03",779,null,660,null,1548,null,2089,null,521,null,1155,null,1619,null,1332,null,2813,null,215,null,215,null,174,null,153]
["2017-11-10",728,null,619,null,1411,null,1917,null,482,null,1309,null,1486,null,1342,null,2923,null,215,null,215,null,168,null,152]
["2017-11-17",689,null,595,null,1249,null,1801,null,410,null,1362,null,1339,null,1277,null,2678,null,215,null,215,null,168,null,154]
["2017-11-24",694,{"$f":"AVERAGE(B103:B106)","v":722.5},593,{"$f":"AVERAGE(D103:D106)","v":616.75},1097,{"$f":"AVERAGE(F103:F106)","v":1326.25},1681,{"$f":"AVERAGE(H103:H106)","v":1872},401,{"$f":"AVERAGE(J103:J106)","v":453.5},1358,{"$f":"AVERAGE(L103:L106)","v":1296},1260,{"$f":"AVERAGE(N103:N106)","v":1426},1258,{"$f":"AVERAGE(P103:P106)","v":1302.25},2613,{"$f":"AVERAGE(R103:R106)","v":2756.75},215,{"$f":"AVERAGE(T103:T106)","v":215},215,{"$f":"AVERAGE(V103:V106)","v":215},166,{"$f":"AVERAGE(X103:X106)","v":169},154,{"$f":"AVERAGE(Z103:Z106)","v":153.25}]
["2017-12-01",729,null,598,null,1177,null,1901,null,391,null,1280,null,1625,null,1253,null,2725,null,215,null,215,null,166,null,154]
["2017-12-08",751,null,600,null,1078,null,1804,null,360,null,1167,null,1331,null,1208,null,2681,null,215,null,215,null,161,null,154]
["2017-12-15",801,null,596,null,1183,null,1967,null,329,null,1144,null,1268,null,1191,null,3022,null,215,null,215,null,148,null,154]
["2017-12-22",800,null,596,null,1177,null,1972,null,319,null,1145,null,1194,null,1156,null,2986,null,213,null,213,null,150,null,154]
["2017-12-29",864,{"$f":"AVERAGE(B107:B111)","v":789},738,{"$f":"AVERAGE(D107:D111)","v":625.6},1523,{"$f":"AVERAGE(F107:F111)","v":1227.5999999999999},2418,{"$f":"AVERAGE(H107:H111)","v":2012.4},415,{"$f":"AVERAGE(J107:J111)","v":362.8},1185,{"$f":"AVERAGE(L107:L111)","v":1184.2},1279,{"$f":"AVERAGE(N107:N111)","v":1339.4},1194,{"$f":"AVERAGE(P107:P111)","v":1200.4000000000001},3150,{"$f":"AVERAGE(R107:R111)","v":2912.8},213,{"$f":"AVERAGE(T107:T111)","v":214.2},213,{"$f":"AVERAGE(V107:V111)","v":214.2},150,{"$f":"AVERAGE(X107:X111)","v":155},152,{"$f":"AVERAGE(Z107:Z111)","v":153.6}]
["2018-01-05",888,null,738,null,1465,null,2425,null,433,null,1218,null,1293,null,1178,null,2923,null,213,null,213,null,145,null,150]
["2018-01-12",897,null,759,null,1514,null,2608,null,450,null,1399,null,1481,null,1242,null,2517,null,213,null,213,null,153,null,150]
["2018-01-19",891,null,761,null,1436,null,2792,null,572,null,1360,null,1487,null,1264,null,2179,null,209,null,210,null,157,null,152]
["2018-01-26",907,{"$f":"AVERAGE(B112:B115)","v":895.75},772,{"$f":"AVERAGE(D112:D115)","v":757.5},1457,{"$f":"AVERAGE(F112:F115)","v":1468},2761,{"$f":"AVERAGE(H112:H115)","v":2646.5},631,{"$f":"AVERAGE(J112:J115)","v":521.5},1360,{"$f":"AVERAGE(L112:L115)","v":1334.25},1525,{"$f":"AVERAGE(N112:N115)","v":1446.5},1264,{"$f":"AVERAGE(P112:P115)","v":1237},2393,{"$f":"AVERAGE(R112:R115)","v":2503},209,{"$f":"AVERAGE(T112:T115)","v":211},210,{"$f":"AVERAGE(V112:V115)","v":211.5},159,{"$f":"AVERAGE(X112:X115)","v":153.5},157,{"$f":"AVERAGE(Z112:Z115)","v":152.25}]
["2018-02-02",912,null,797,null,1552,null,2843,null,611,null,1351,null,1804,null,1292,null,2584,null,209,null,210,null,161,null,160]
["2018-02-09",914,null,791,null,1486,null,2775,null,573,null,1314,null,1791,null,1304,null,2562,null,218,null,220,null,166,null,165]
["2018-02-14",905,null,791,null,1484,null,2767,null,579,null,1288,null,1788,null,1301,null,2559,null,218,null,220,null,161,null,163]
["2018-02-23",916,{"$f":"AVERAGE(B116:B119)","v":911.75},797,{"$f":"AVERAGE(D116:D119)","v":794},1412,{"$f":"AVERAGE(F116:F119)","v":1483.5},2708,{"$f":"AVERAGE(H116:H119)","v":2773.25},571,{"$f":"AVERAGE(J116:J119)","v":583.5},1263,{"$f":"AVERAGE(L116:L119)","v":1304},1788,{"$f":"AVERAGE(N116:N119)","v":1792.75},1303,{"$f":"AVERAGE(P116:P119)","v":1300},2539,{"$f":"AVERAGE(R116:R119)","v":2561},218,{"$f":"AVERAGE(T116:T119)","v":215.75},220,{"$f":"AVERAGE(V116:V119)","v":217.5},160,{"$f":"AVERAGE(X116:X119)","v":162},157,{"$f":"AVERAGE(Z116:Z119)","v":161.25}]
["2018-03-02",827,null,721,null,1252,null,2375,null,465,null,1136,null,1668,null,1251,null,2309,null,209,null,211,null,158,null,150]
["2018-03-09",791,null,701,null,1143,null,2181,null,427,null,1003,null,1582,null,1172,null,2391,null,218,null,220,null,140,null,150]
["2018-03-16",741,null,665,null,1016,null,2009,null,384,null,933,null,1367,null,1080,null,2007,null,215,null,217,null,142,null,146]
["2018-03-23",704,null,650,null,945,null,1933,null,355,null,897,null,1296,null,1027,null,1904,null,217,null,219,null,138,null,144]
["2018-03-30",633,{"$f":"AVERAGE(B120:B124)","v":739.2},615,{"$f":"AVERAGE(D120:D124)","v":670.4},1127,{"$f":"AVERAGE(F120:F124)","v":1096.5999999999999},2148,{"$f":"AVERAGE(H120:H124)","v":2129.1999999999998},319,{"$f":"AVERAGE(J120:J124)","v":390},894,{"$f":"AVERAGE(L120:L124)","v":972.6},1319,{"$f":"AVERAGE(N120:N124)","v":1446.4},1026,{"$f":"AVERAGE(P120:P124)","v":1111.2},1759,{"$f":"AVERAGE(R120:R124)","v":2074},216,{"$f":"AVERAGE(T120:T124)","v":215},219,{"$f":"AVERAGE(V120:V124)","v":217.2},142,{"$f":"AVERAGE(X120:X124)","v":144},144,{"$f":"AVERAGE(Z120:Z124)","v":146.80000000000001}]
["2018-04-06",617,null,616,null,1128,null,2150,null,311,null,883,null,1307,null,998,null,1707,null,216,null,219,null,144,null,144]
[{"$f":"A125+7","v":"2018-04-13"},585,null,600,null,1152,null,2192,null,327,null,846,null,1358,null,930,null,2094,null,218,null,219,null,142,null,148]
["2018-04-20",584,null,601,null,1152,null,2193,null,460,null,831,null,1340,null,894,null,1767,null,221,null,223,null,144,null,194]
["2018-04-27",774,{"$f":"AVERAGE(B125:B128)","v":640},694,{"$f":"AVERAGE(D125:D128)","v":627.75},1403,{"$f":"AVERAGE(F125:F128)","v":1208.75},2371,{"$f":"AVERAGE(H125:H128)","v":2226.5},436,{"$f":"AVERAGE(J125:J128)","v":383.5},832,{"$f":"AVERAGE(L125:L128)","v":848},1546,{"$f":"AVERAGE(N125:N128)","v":1387.75},868,{"$f":"AVERAGE(P125:P128)","v":922.5},2133,{"$f":"AVERAGE(R125:R128)","v":1925.25},230,{"$f":"AVERAGE(T125:T128)","v":221.25},229,{"$f":"AVERAGE(V125:V128)","v":222.5},141,{"$f":"AVERAGE(X125:X128)","v":142.75},191,{"$f":"AVERAGE(Z125:Z128)","v":169.25}]
["2018-05-04",788,null,756,null,1468,null,2433,null,431,null,837,null,1593,null,834,null,2086,null,229,null,228,null,136,null,204]
["2018-05-11",811,null,783,null,1382,null,2364,null,460,null,848,null,2004,null,797,null,2118,null,229,null,228,null,139,null,205]
["2018-05-18",793,null,795,null,1308,null,2331,null,459,null,826,null,1949,null,783,null,1655,null,227,null,226,null,141,null,200]
["2018-05-25",825,{"$f":"AVERAGE(B129:B132)","v":804.25},848,{"$f":"AVERAGE(D129:D132)","v":795.5},1283,{"$f":"AVERAGE(F129:F132)","v":1360.25},2271,{"$f":"AVERAGE(H129:H132)","v":2349.75},484,{"$f":"AVERAGE(J129:J132)","v":458.5},810,{"$f":"AVERAGE(L129:L132)","v":830.25},1954,{"$f":"AVERAGE(N129:N132)","v":1875},797,{"$f":"AVERAGE(P129:P132)","v":802.75},1849,{"$f":"AVERAGE(R129:R132)","v":1927},227,{"$f":"AVERAGE(T129:T132)","v":228},226,{"$f":"AVERAGE(V129:V132)","v":227},141,{"$f":"AVERAGE(X129:X132)","v":139.25},198,{"$f":"AVERAGE(Z129:Z132)","v":201.75}]
["2018-06-01",876,null,895,null,1445,null,2463,null,557,null,787,null,2331,null,888,null,2180,null,227,null,226,null,153,null,193]
["2018-06-08",870,null,904,null,1358,null,2354,null,547,null,757,null,2177,null,848,null,1990,null,227,null,225,null,159,null,189]
["2018-06-15",862,null,915,null,1266,null,2236,null,544,null,710,null,2213,null,800,null,1673,null,226,null,225,null,154,null,181]
[{"$f":"A135+7","v":"2018-06-22"},834,null,905,null,1194,null,2181,null,508,null,697,null,2165,null,749,null,1546,null,226,null,225,null,152,null,181]
[{"$f":"A136+7","v":"2018-06-29"},885,{"$f":"AVERAGE(B133:B137)","v":865.4},913,{"$f":"AVERAGE(D133:D137)","v":906.4},1545,{"$f":"AVERAGE(F133:F137)","v":1361.6},2524,{"$f":"AVERAGE(H133:H137)","v":2351.6},482,{"$f":"AVERAGE(J133:J137)","v":527.6},713,{"$f":"AVERAGE(L133:L137)","v":732.8},2148,{"$f":"AVERAGE(N133:N137)","v":2206.8000000000002},697,{"$f":"AVERAGE(P133:P137)","v":796.4},1988,{"$f":"AVERAGE(R133:R137)","v":1875.4},227,{"$f":"AVERAGE(T133:T137)","v":226.6},226,{"$f":"AVERAGE(V133:V137)","v":225.4},143,{"$f":"AVERAGE(X133:X137)","v":152.19999999999999},180,{"$f":"AVERAGE(Z133:Z137)","v":184.8}]
["2018-07-06",881,null,903,null,1555,null,2623,null,470,null,723,null,2042,null,623,null,1737,null,227,null,224,null,152,null,168]
[{"$f":"A138+7","v":"2018-07-13"},882,null,887,null,1685,null,2710,null,434,null,730,null,2173,null,589,null,1587,null,227,null,222,null,140,null,164]
[{"$f":"A139+7","v":"2018-07-20"},863,null,869,null,1616,null,2650,null,371,null,737,null,2008,null,569,null,1437,null,226,null,224,null,131,null,159]
[{"$f":"A140+7","v":"2018-07-27"},926,{"$f":"AVERAGE(B138:B141)","v":888},893,{"$f":"AVERAGE(D138:D141)","v":888},1877,{"$f":"AVERAGE(F138:F141)","v":1683.25},2846,{"$f":"AVERAGE(H138:H141)","v":2707.25},371,{"$f":"AVERAGE(J138:J141)","v":411.5},754,{"$f":"AVERAGE(L138:L141)","v":736},1960,{"$f":"AVERAGE(N138:N141)","v":2045.75},562,{"$f":"AVERAGE(P138:P141)","v":585.75},1931,{"$f":"AVERAGE(R138:R141)","v":1673},225,{"$f":"AVERAGE(T138:T141)","v":226.25},224,{"$f":"AVERAGE(V138:V141)","v":223.5},146,{"$f":"AVERAGE(X138:X141)","v":142.25},159,{"$f":"AVERAGE(Z138:Z141)","v":162.5}]
[{"$f":"A141+7","v":"2018-08-03"},935,null,881,null,2074,null,3099,null,364,null,756,null,2020,null,540,null,1576,null,225,null,224,null,142,null,159]
["2018-08-10",948,null,895,null,2068,null,3102,null,373,null,727,null,1963,null,502,null,1830,null,225,null,226,null,136,null,158]
["2018-08-17",928,null,909,null,2086,null,3317,null,357,null,663,null,1853,null,483,null,1607,null,226,null,226,null,140,null,155]
["2018-08-24",959,null,915,null,2126,null,3329,null,392,null,621,null,1859,null,488,null,1448,null,226,null,226,null,138,null,154]
["2018-08-31",933,{"$f":"SUM(B142:B146)/5","v":940.6},908,{"$f":"SUM(D142:D146)/5","v":901.6},2298,{"$f":"SUM(F142:F146)/5","v":2130.4},3485,{"$f":"SUM(H142:H146)/5","v":3266.4},409,{"$f":"SUM(J142:J146)/5","v":379},590,{"$f":"SUM(L142:L146)/5","v":671.4},2081,{"$f":"SUM(N142:N146)/5","v":1955.2},724,{"$f":"SUM(P142:P146)/5","v":547.4},1753,{"$f":"SUM(R142:R146)/5","v":1642.8},226,{"$f":"SUM(T142:T146)/5","v":225.6},226,{"$f":"SUM(V142:V146)/5","v":225.6},137,{"$f":"SUM(X142:X146)/5","v":138.6},154,{"$f":"SUM(Z142:Z146)/5","v":156}]
["2018-09-07",885,null,870,null,2332,null,3518,null,391,null,559,null,1898,null,712,null,1311,null,229,null,230,null,137,null,154]
["2018-09-14",821,null,852,null,2349,null,3512,null,391,null,552,null,1775,null,745,null,1272,null,229,null,228,null,137,null,155]
["2018-09-21",766,null,804,null,2343,null,3502,null,365,null,538,null,1773,null,753,null,1098,null,228,null,228,null,137,null,165]
["2018-09-28",735,{"$f":"AVERAGE(B147:B150)","v":801.75},767,{"$f":"AVERAGE(D147:D150)","v":823.25},2332,{"$f":"AVERAGE(F147:F150)","v":2339},3319,{"$f":"AVERAGE(H147:H150)","v":3462.75},354,{"$f":"AVERAGE(J147:J150)","v":375.25},532,{"$f":"AVERAGE(L147:L150)","v":545.25},1719,{"$f":"AVERAGE(N147:N150)","v":1791.25},752,{"$f":"AVERAGE(P147:P150)","v":740.5},976,{"$f":"AVERAGE(R147:R150)","v":1164.25},228,{"$f":"AVERAGE(T147:T150)","v":228.5},228,{"$f":"AVERAGE(V147:V150)","v":228.5},138,{"$f":"AVERAGE(X147:X150)","v":137.25},162,{"$f":"AVERAGE(Z147:Z150)","v":159}]
["2018-10-05","Nil info due to Golden Week "]
["2018-10-12",731,null,751,null,2503,null,3304,null,366,null,716,null,2003,null,895,null,952,null,220,null,221,null,140,null,160]
["2018-10-19",727,null,751,null,2587,null,3304,null,422,null,733,null,2082,null,954,null,885,null,220,null,220,null,149,null,158]
["2018-10-26",761,{"$f":"AVERAGE(B152:B154)","v":739.66666666666663},778,{"$f":"AVERAGE(D152:D154)","v":760},2587,{"$f":"AVERAGE(F152:F154)","v":2559},3294,{"$f":"AVERAGE(H152:H154)","v":3300.6666666666665},495,{"$f":"AVERAGE(J152:J154)","v":427.66666666666669},761,{"$f":"AVERAGE(L152:L154)","v":736.66666666666663},2226,{"$f":"AVERAGE(N152:N154)","v":2103.6666666666665},979,{"$f":"AVERAGE(P152:P154)","v":942.66666666666663},1310,{"$f":"AVERAGE(R152:R154)","v":1049},227,{"$f":"AVERAGE(T152:T154)","v":222.33333333333334},228,{"$f":"AVERAGE(V152:V154)","v":223},151,{"$f":"AVERAGE(X152:X154)","v":146.66666666666666},158,{"$f":"AVERAGE(Z152:Z154)","v":158.66666666666666}]
["2018-11-02",752,null,769,null,2606,null,3615,null,525,null,778,null,2437,null,930,null,1468,null,227,null,228,null,155,null,150]
["2018-11-09",753,null,767,null,2575,null,3613,null,528,null,735,null,2472,null,845,null,1243,null,226,null,227,null,147,null,150]
["2018-11-16",735,null,757,null,2529,null,3739,null,518,null,675,null,2538,null,824,null,1185,null,226,null,227,null,145,null,157]
["2018-11-23",738,null,755,null,2247,null,3652,null,513,null,632,null,2581,null,813,null,996,null,228,null,228,null,143,null,153]
["2018-11-30",747,{"$f":"AVERAGE(B155:B159)","v":745},783,{"$f":"AVERAGE(D155:D159)","v":766.2},2190,{"$f":"AVERAGE(F155:F159)","v":2429.4},3403,{"$f":"AVERAGE(H155:H159)","v":3604.4},518,{"$f":"AVERAGE(J155:J159)","v":520.4},564,{"$f":"AVERAGE(L155:L159)","v":676.8},2559,{"$f":"AVERAGE(N155:N159)","v":2517.4},1010,{"$f":"AVERAGE(P155:P159)","v":884.4},771,{"$f":"AVERAGE(R155:R159)","v":1132.5999999999999},226,{"$f":"AVERAGE(T155:T159)","v":226.6},227,{"$f":"AVERAGE(V155:V159)","v":227.4},148,{"$f":"AVERAGE(X155:X159)","v":147.6},153,{"$f":"AVERAGE(Z155:Z159)","v":152.6}]
["2018-12-07",774,null,788,null,2030,null,3136,null,523,null,563,null,2497,null,957,null,692,null,226,null,227,null,146,null,157]
["2018-12-14",832,null,821,null,1935,null,2901,null,530,null,564,null,2393,null,819,null,649,null,226,null,227,null,147,null,153]
["2018-12-21",872,null,839,null,1763,null,2750,null,597,null,564,null,2378,null,822,null,616,null,226,null,227,null,147,null,146]
["2018-12-28",996,{"$f":"AVERAGE(B160:B163)","v":868.5},967,{"$f":"AVERAGE(D160:D163)","v":853.75},1883,{"$f":"AVERAGE(F160:F163)","v":1902.75},2998,{"$f":"AVERAGE(H160:H163)","v":2946.25},668,{"$f":"AVERAGE(J160:J163)","v":579.5},634,{"$f":"AVERAGE(L160:L163)","v":581.25},2373,{"$f":"AVERAGE(N160:N163)","v":2410.25},829,{"$f":"AVERAGE(P160:P163)","v":856.75},1092,{"$f":"AVERAGE(R160:R163)","v":762.25},226,{"$f":"AVERAGE(T160:T163)","v":226},227,{"$f":"AVERAGE(V160:V163)","v":227},153,{"$f":"AVERAGE(X160:X163)","v":148.25},146,{"$f":"AVERAGE(Z160:Z163)","v":150.5}]
["2019-01-04",996,null,997,null,1933,null,3119,null,789,null,612,null,2367,null,901,null,1237,null,226,null,227,null,153,null,146]
["2019-01-11",979,null,980,null,1895,null,3040,null,814,null,551,null,2618,null,841,null,1675,null,226,null,227,null,153,null,146]
["2019-01-18",970,null,978,null,2114,null,3187,null,778,null,542,null,2627,null,828,null,1506,null,226,null,227,null,158,null,146]
["2019-01-25",960,{"$f":"AVERAGE(B164:B167)","v":976.25},957,{"$f":"AVERAGE(D164:D167)","v":978},2039,{"$f":"AVERAGE(F164:F167)","v":1995.25},3137,{"$f":"AVERAGE(H164:H167)","v":3120.75},736,{"$f":"AVERAGE(J164:J167)","v":779.25},536,{"$f":"AVERAGE(L164:L167)","v":560.25},2600,{"$f":"AVERAGE(N164:N167)","v":2553},835,{"$f":"AVERAGE(P164:P167)","v":851.25},1408,{"$f":"AVERAGE(R164:R167)","v":1456.5},228,{"$f":"AVERAGE(T164:T167)","v":226.5},230,{"$f":"AVERAGE(V164:V167)","v":227.75},156,{"$f":"AVERAGE(X164:X167)","v":155},145,{"$f":"AVERAGE(Z164:Z167)","v":145.75}]
["2019-02-01",960,null,962,null,1993,null,3054,null,721,null,532,null,2582,null,838,null,1363,null,228,null,227,null,156,null,153]
["2019-02-08","Nil info due to Chinese New Year"]
["2019-02-15",906,null,920,null,1834,null,2968,null,703,null,502,null,2536,null,818,null,1305,null,219,null,219,null,153,null,153]
["2019-02-22",831,{"$f":"AVERAGE(B168,B170,B171)","v":899},857,{"$f":"AVERAGE(D168,D170,D171)","v":913},1720,{"$f":"AVERAGE(F168,F170,F171)","v":1849},2837,{"$f":"AVERAGE(H168,H170,H171)","v":2953},690,{"$f":"AVERAGE(J168,J170,J171)","v":704.66666666666663},468,{"$f":"AVERAGE(L168,L170,L171)","v":500.66666666666669},2483,{"$f":"AVERAGE(N168,N170,N171)","v":2533.6666666666665},798,{"$f":"AVERAGE(P168,P170,P171)","v":818},1290,{"$f":"AVERAGE(R168,R170,R171)","v":1319.3333333333333},226,{"$f":"AVERAGE(T168,T170,T171)","v":224.33333333333334},227,{"$f":"AVERAGE(V168,V170,V171)","v":224.33333333333334},148,{"$f":"AVERAGE(X168,X170,X171)","v":152.33333333333334},153,{"$f":"AVERAGE(Z168,Z170,Z171)","v":153}]
["2019-03-01",796,null,810,null,1549,null,2640,null,639,null,394,null,2522,null,765,null,1498,null,226,null,227,null,148,null,153]
["2019-03-08",754,null,776,null,1431,null,2479,null,612,null,383,null,2485,null,726,null,1469,null,226,null,227,null,146,null,153]
["2019-03-15",714,null,748,null,1345,null,2357,null,590,null,358,null,2726,null,678,null,1498,null,228,null,229,null,148,null,147]
["2019-03-22",684,null,732,null,1329,null,2338,null,575,null,375,null,2745,null,663,null,1298,null,227,null,229,null,148,null,147]
["2019-03-29",651,{"$f":"AVERAGE(B172:B176)","v":719.8},725,{"$f":"AVERAGE(D172:D176)","v":758.2},1626,{"$f":"AVERAGE(F172:F176)","v":1456},2634,{"$f":"AVERAGE(H172:H176)","v":2489.6},689,{"$f":"AVERAGE(J172:J176)","v":621},374,{"$f":"AVERAGE(L172:L176)","v":376.8},2806,{"$f":"AVERAGE(N172:N176)","v":2656.8},686,{"$f":"AVERAGE(P172:P176)","v":703.6},1573,{"$f":"AVERAGE(R172:R176)","v":1467.2},230,{"$f":"AVERAGE(T172:T176)","v":227.4},232,{"$f":"AVERAGE(V172:V176)","v":228.8},148,{"$f":"AVERAGE(X172:X176)","v":147.6},149,{"$f":"AVERAGE(Z172:Z176)","v":149.80000000000001}]
["2019-04-05",658,null,711,null,1623,null,2644,null,730,null,360,null,2731,null,654,null,1418,null,231,null,232,null,146,null,149]
["2019-04-12",640,null,715,null,1606,null,2638,null,734,null,339,null,2691,null,644,null,1434,null,231,null,232,null,145,null,122]
["2019-04-19",638,null,717,null,1538,null,2634,null,702,null,308,null,2590,null,640,null,1230,null,232,null,233,null,142,null,120]
["2019-04-26",717,{"$f":"AVERAGE(B177:B180)","v":663.25},726,{"$f":"AVERAGE(D177:D180)","v":717.25},1569,{"$f":"AVERAGE(F177:F180)","v":1584},2705,{"$f":"AVERAGE(H177:H180)","v":2655.25},682,{"$f":"AVERAGE(J177:J180)","v":712},298,{"$f":"AVERAGE(L177:L180)","v":326.25},2668,{"$f":"AVERAGE(N177:N180)","v":2670},629,{"$f":"AVERAGE(P177:P180)","v":641.75},1139,{"$f":"AVERAGE(R177:R180)","v":1305.25},232,{"$f":"AVERAGE(T177:T180)","v":231.5},233,{"$f":"AVERAGE(V177:V180)","v":232.5},142,{"$f":"AVERAGE(X177:X180)","v":143.75},120,{"$f":"AVERAGE(Z177:Z180)","v":127.75}]
["2019-05-03","Nil info due to Labour Day"]
["2019-05-10",767.78,null,725.59,null,1441.84,null,2710.94,null,620.09,null,288.48,null,2601.16,null,626.05999999999995,null,940,null,233.07,null,237.31,null,141,null,119.67]
["2019-05-17",722.57,null,696.27,null,1340,null,2596.7600000000002,null,611.35,null,274.55,null,2615.84,null,619.59,null,886.63,null,233.07,null,237.31,null,139.66999999999999,null,117.67]
["2019-05-24",743,null,710,null,1294,null,2540,null,657,null,270,null,2554,null,613,null,803,null,231,null,233,null,140,null,118]
["2019-05-31",780,{"$f":"AVERAGE(B182:B185)","v":753.33749999999998},740,{"$f":"AVERAGE(D182:D185)","v":717.96500000000003},1471,{"$f":"AVERAGE(F182:F185)","v":1386.71},2541,{"$f":"AVERAGE(H182:H185)","v":2597.1750000000002},775,{"$f":"AVERAGE(J182:J185)","v":665.86},259,{"$f":"AVERAGE(L182:L185)","v":273.00749999999999},2525,{"$f":"AVERAGE(N182:N185)","v":2574},689,{"$f":"AVERAGE(P182:P185)","v":636.91250000000002},1361,{"$f":"AVERAGE(R182:R185)","v":997.65750000000003},231,{"$f":"AVERAGE(T182:T185)","v":232.035},233,{"$f":"AVERAGE(V182:V185)","v":235.155},140,{"$f":"AVERAGE(X182:X185)","v":140.16749999999999},118,{"$f":"AVERAGE(Z182:Z185)","v":118.33500000000001}]
[{"$f":"A185+7","v":"2019-06-07"},779,null,745,null,1439,null,2502,null,840,null,256,null,2468,null,705,null,1330,null,231,null,233,null,140,null,118]
["2019-06-14",745,null,741,null,1416,null,2464,null,820,null,249,null,2417,null,748,null,1774,null,231,null,233,null,140,null,118]
["2019-06-21",716,null,731,null,1382,null,2404,null,794,null,252,null,2366,null,765,null,1800,null,231,null,234,null,140,null,118]
["2019-06-28",701,{"$f":"AVERAGE(B186:B189)","v":735.25},726,{"$f":"AVERAGE(D186:D189)","v":735.75},1720,{"$f":"AVERAGE(F186:F189)","v":1489.25},2789,{"$f":"AVERAGE(H186:H189)","v":2539.75},784,{"$f":"AVERAGE(J186:J189)","v":809.5},300,{"$f":"AVERAGE(L186:L189)","v":264.25},2356,{"$f":"AVERAGE(N186:N189)","v":2401.75},777,{"$f":"AVERAGE(P186:P189)","v":748.75},2260,{"$f":"AVERAGE(R186:R189)","v":1791},231,{"$f":"AVERAGE(T186:T189)","v":231},234,{"$f":"AVERAGE(V186:V189)","v":233.5},138,{"$f":"AVERAGE(X186:X189)","v":139.5},117,{"$f":"AVERAGE(Z186:Z189)","v":117.75}]
["2019-07-05",688,null,705,null,1649,null,2764,null,782,null,348,null,2313,null,749,null,2014,null,234,null,234,null,134,null,125]
["2019-07-12",676,null,697,null,1659,null,2864,null,773,null,416,null,2385,null,769,null,2180,null,234,null,234,null,131,null,125]
["2019-07-19",672,null,695,null,1539,null,2891,null,738,null,464,null,2492,null,759,null,1958,null,234,null,234,null,119,null,125]
["2019-07-26",754,{"$f":"AVERAGE(B190:B193)","v":697.5},718,{"$f":"AVERAGE(D190:D193)","v":703.75},1433,{"$f":"AVERAGE(F190:F193)","v":1570},2800,{"$f":"AVERAGE(H190:H193)","v":2829.75},720,{"$f":"AVERAGE(J190:J193)","v":753.25},525,{"$f":"AVERAGE(L190:L193)","v":438.25},2530,{"$f":"AVERAGE(N190:N193)","v":2430},783,{"$f":"AVERAGE(P190:P193)","v":765},2052,{"$f":"AVERAGE(R190:R193)","v":2051},234,{"$f":"AVERAGE(T190:T193)","v":234},234,{"$f":"AVERAGE(V190:V193)","v":234},116,{"$f":"AVERAGE(X190:X193)","v":125},117,{"$f":"AVERAGE(Z190:Z193)","v":123}]
["2019-08-02",806,null,850,null,1589,null,2801,null,713,null,578,null,2556,null,774,null,1935,null,234,null,234,null,122,null,117]
["2019-08-09",810,null,974,null,1474,null,2660,null,683,null,591,null,2545,null,766,null,2104,null,234,null,234,null,125,null,117]
["2019-08-16",812,null,1017,null,1368,null,2543,null,684,null,609,null,2507,null,749,null,2028,null,232,null,234,null,120,null,117]
["2019-08-23",793,null,969,null,1286,null,2436,null,685,null,660,null,2494,null,746,null,1881,null,232,null,234,null,103,null,117]
["2019-08-30",757,{"$f":"AVERAGE(B194:B198)","v":795.6},895,{"$f":"AVERAGE(D194:D198)","v":941},1615,{"$f":"AVERAGE(F194:F198)","v":1466.4},2691,{"$f":"AVERAGE(H194:H198)","v":2626.2},657,{"$f":"AVERAGE(J194:J198)","v":684.4},770,{"$f":"AVERAGE(L194:L198)","v":641.6},2408,{"$f":"AVERAGE(N194:N198)","v":2502},779,{"$f":"AVERAGE(P194:P198)","v":762.8},2001,{"$f":"AVERAGE(R194:R198)","v":1989.8},232,{"$f":"AVERAGE(T194:T198)","v":232.8},234,{"$f":"AVERAGE(V194:V198)","v":234},103,{"$f":"AVERAGE(X194:X198)","v":114.6},117,{"$f":"AVERAGE(Z194:Z198)","v":117}]
["2019-09-06",710,null,877,null,1566,null,2631,null,633,null,790,null,2318,null,771,null,1866,null,232,null,234,null,101,null,117]
["2019-09-12",674,null,826,null,1447,null,2516,null,602,null,820,null,2352,null,789,null,1977,null,232,null,234,null,101,null,117]
["2019-09-20",639,null,797,null,1338,null,2351,null,562,null,898,null,2322,null,828,null,1849,null,234,null,236,null,101,null,117]
["2019-09-27",593,{"$f":"AVERAGE(B199:B202)","v":654},742,{"$f":"AVERAGE(D199:D202)","v":810.5},1328,{"$f":"AVERAGE(F199:F202)","v":1419.75},2346,{"$f":"AVERAGE(H199:H202)","v":2461},519,{"$f":"AVERAGE(J199:J202)","v":579},923,{"$f":"AVERAGE(L199:L202)","v":857.75},2308,{"$f":"AVERAGE(N199:N202)","v":2325},842,{"$f":"AVERAGE(P199:P202)","v":807.5},1770,{"$f":"AVERAGE(R199:R202)","v":1865.5},234,{"$f":"AVERAGE(T199:T202)","v":233},236,{"$f":"AVERAGE(V199:V202)","v":235},120,{"$f":"AVERAGE(X199:X202)","v":105.75},117,{"$f":"AVERAGE(Z199:Z202)","v":117}]
["2019-10-04","Nil info due to Golden Week "]
["2019-10-11",581,null,722,null,1313,null,2335,null,512,null,1064,null,2287,null,906,null,1811,null,224,null,226,null,110,null,117]
["2019-10-18",580,null,715,null,1368,null,2374,null,642,null,1121,null,2320,null,939,null,1798,null,234,null,236,null,114,null,117]
[{"$f":"A205+7","v":"2019-10-25"},594,{"$f":"AVERAGE(B204:B206)","v":585},710,{"$f":"AVERAGE(D204:D206)","v":715.66666666666663},1361,{"$f":"AVERAGE(F204:F206)","v":1347.3333333333333},2411,{"$f":"AVERAGE(H204:H206)","v":2373.3333333333335},786,{"$f":"AVERAGE(J204:J206)","v":646.66666666666663},1164,{"$f":"AVERAGE(L204:L206)","v":1116.3333333333333},2324,{"$f":"AVERAGE(N204:N206)","v":2310.3333333333335},955,{"$f":"AVERAGE(P204:P206)","v":933.33333333333337},1965,{"$f":"AVERAGE(R204:R206)","v":1858},223,{"$f":"AVERAGE(T204:T206)","v":227},235,{"$f":"AVERAGE(V204:V206)","v":232.33333333333334},122,{"$f":"AVERAGE(X204:X206)","v":115.33333333333333},140,{"$f":"AVERAGE(Z204:Z206)","v":124.66666666666667}]
["2019-11-01",707,null,735,null,1588,null,2604,null,830,null,1196,null,2446,null,991,null,2117,null,223,null,235,null,130,null,141]
["2019-11-08",729,null,721,null,1532,null,2572,null,773,null,1173,null,2405,null,950,null,2045,null,223,null,236,null,150,null,136]
["2019-11-15",708,null,706,null,1351,null,2398,null,755,null,1056,null,2325,null,970,null,1839,null,228,null,239,null,163,null,133]
["2019-11-22",702,null,689,null,1229,null,2256,null,772,null,926,null,2281,null,939,null,1627,null,228,null,244,null,165,null,120]
["2019-11-29",766,{"$f":"AVERAGE(B207:B211)","v":722.4},730,{"$f":"AVERAGE(D207:D211)","v":716.2},1405,{"$f":"AVERAGE(F207:F211)","v":1421},2684,{"$f":"AVERAGE(H207:H211)","v":2502.8000000000002},835,{"$f":"AVERAGE(J207:J211)","v":793},816,{"$f":"AVERAGE(L207:L211)","v":1033.4000000000001},2290,{"$f":"AVERAGE(N207:N211)","v":2349.4},996,{"$f":"AVERAGE(P207:P211)","v":969.2},1667,{"$f":"AVERAGE(R207:R211)","v":1859},229,{"$f":"AVERAGE(T207:T211)","v":226.2},244,{"$f":"AVERAGE(V207:V211)","v":239.6},158,{"$f":"AVERAGE(X207:X211)","v":153.19999999999999},120,{"$f":"AVERAGE(Z207:Z211)","v":130}]
["2019-12-06",800,null,771,null,1509,null,2638,null,930,null,760,null,2259,null,996,null,1747,null,226,null,241,null,158,null,121]
["2019-12-13",893,null,1083,null,1370,null,2512,null,1017,null,740,null,2209,null,993,null,2014,null,226,null,240,null,158,null,121]
["2019-12-20",944,null,1096,null,1342,null,2451,null,1158,null,774,null,2335,null,1012,null,2000,null,226,null,240,null,163,null,121]
["2019-12-27",1027,{"$f":"AVERAGE(B212:B215)","v":916},1172,{"$f":"AVERAGE(D212:D215)","v":1030.5},1434,{"$f":"AVERAGE(F212:F215)","v":1413.75},2562,{"$f":"AVERAGE(H212:H215)","v":2540.75},1172,{"$f":"AVERAGE(J212:J215)","v":1069.25},929,{"$f":"AVERAGE(L212:L215)","v":800.75},2521,{"$f":"AVERAGE(N212:N215)","v":2331},1076,{"$f":"AVERAGE(P212:P215)","v":1019.25},2236,{"$f":"AVERAGE(R212:R215)","v":1999.25},226,{"$f":"AVERAGE(T212:T215)","v":226},240,{"$f":"AVERAGE(V212:V215)","v":240.25},173,{"$f":"AVERAGE(X212:X215)","v":163},112,{"$f":"AVERAGE(Z212:Z215)","v":118.75}]
["2020-01-03",1124,null,1185,null,1636,null,2808,null,1218,null,949,null,2744,null,1159,null,2183,null,226,null,242,null,176,null,118]
["2020-01-10",1058,null,1179,null,1543,null,2888,null,1175,null,937,null,2873,null,1150,null,2136,null,226,null,243,null,191,null,120]
["2020-01-17",1010,null,1180,null,1562,null,2943,null,1123,null,949,null,2897,null,1084,null,1989,null,226,null,243,null,193,null,120]
["2020-01-24",969,{"$f":"AVERAGE(B216:B219)","v":1040.25},1179,{"$f":"AVERAGE(D216:D219)","v":1180.75},1545,{"$f":"AVERAGE(F216:F219)","v":1571.5},2951,{"$f":"AVERAGE(H216:H219)","v":2897.5},1126,{"$f":"AVERAGE(J216:J219)","v":1160.5},942,{"$f":"AVERAGE(L216:L219)","v":944.25},2908,{"$f":"AVERAGE(N216:N219)","v":2855.5},1087,{"$f":"AVERAGE(P216:P219)","v":1120},1967,{"$f":"AVERAGE(R216:R219)","v":2068.75},224,{"$f":"AVERAGE(T216:T219)","v":225.5},236,{"$f":"AVERAGE(V216:V219)","v":241},195,{"$f":"AVERAGE(X216:X219)","v":188.75},120,{"$f":"AVERAGE(Z216:Z219)","v":119.5}]
["2020-01-31","Nil due to CNY"]
["2020-02-07","Nil due to CNY"]
["2020-02-14",850,null,1031,null,1423,null,2768,null,1089,null,892,null,2983,null,1066,null,1848,null,215,null,230,null,178,null,120]
["2020-02-21",834,null,977,null,1367,null,2683,null,1027,null,863,null,2892,null,1005,null,1711,null,224,null,239,null,191,null,117]
["2020-02-28",804,{"$f":"AVERAGE(B222:B224)","v":829.33333333333337},928,{"$f":"AVERAGE(D222:D224)","v":978.66666666666663},1394,{"$f":"AVERAGE(F222:F224)","v":1394.6666666666667},2690,{"$f":"AVERAGE(H222:H224)","v":2713.6666666666665},985,{"$f":"AVERAGE(J222:J224)","v":1033.6666666666667},849,{"$f":"AVERAGE(L222:L224)","v":868},2916,{"$f":"AVERAGE(N222:N224)","v":2930.3333333333335},1025,{"$f":"AVERAGE(P222:P224)","v":1032},1582,{"$f":"AVERAGE(R222:R224)","v":1713.6666666666667},239,{"$f":"AVERAGE(T222:T224)","v":226},239,{"$f":"AVERAGE(V222:V224)","v":236},191,{"$f":"AVERAGE(X222:X224)","v":186.66666666666666},117,{"$f":"AVERAGE(Z222:Z224)","v":118}]
["2020-03-06",830,null,915,null,1361,null,2679,null,958,null,835,null,2939,null,1019,null,1580,null,225,null,240,null,191,null,117]
["2020-03-13",827,null,903,null,1610,null,2912,null,1009,null,771,null,2924,null,978,null,1460,null,225,null,240,null,191,null,117]
["2020-03-20",797,null,892,null,1549,null,2785,null,1015,null,753,null,2842,null,952,null,1358,null,225,null,240,null,211,null,116]
["2020-03-27",764,{"$f":"AVERAGE(B225:B228)","v":804.5},880,{"$f":"AVERAGE(D225:D228)","v":897.5},1515,{"$f":"AVERAGE(F225:F228)","v":1508.75},2758,{"$f":"AVERAGE(H225:H228)","v":2783.5},1004,{"$f":"AVERAGE(J225:J228)","v":996.5},899,{"$f":"AVERAGE(L225:L228)","v":814.5},2859,{"$f":"AVERAGE(N225:N228)","v":2891},926,{"$f":"AVERAGE(P225:P228)","v":968.75},1304,{"$f":"AVERAGE(R225:R228)","v":1425.5},233,{"$f":"AVERAGE(T225:T228)","v":227},240,{"$f":"AVERAGE(V225:V228)","v":240},209,{"$f":"AVERAGE(X225:X228)","v":200.5},120,{"$f":"AVERAGE(Z225:Z228)","v":117.5}]
["2020-04-03",750,null,863,null,1662,null,2782,null,896,null,918,null,2776,null,889,null,1114,null,233,null,240,null,209,null,120]
["2020-04-10",734,null,859,null,1630,null,2720,null,813,null,892,null,2736,null,849,null,1008,null,234,null,241,null,209,null,120]
["2020-04-17",725,null,841,null,1528,null,2637,null,708,null,872,null,2762,null,809,null,919,null,234,null,243,null,199,null,120]
["2020-04-24",753,{"$f":"AVERAGE(B229:B232)","v":740.5},844,{"$f":"AVERAGE(D229:D232)","v":851.75},1495,{"$f":"AVERAGE(F229:F232)","v":1578.75},2620,{"$f":"AVERAGE(H229:H232)","v":2689.75},650,{"$f":"AVERAGE(J229:J232)","v":766.75},929,{"$f":"AVERAGE(L229:L232)","v":902.75},2752,{"$f":"AVERAGE(N229:N232)","v":2756.5},788,{"$f":"AVERAGE(P229:P232)","v":833.75},886,{"$f":"AVERAGE(R229:R232)","v":981.75},234,{"$f":"AVERAGE(T229:T232)","v":233.75},243,{"$f":"AVERAGE(V229:V232)","v":241.75},186,{"$f":"AVERAGE(X229:X232)","v":200.75},120,{"$f":"AVERAGE(Z229:Z232)","v":120}]
["2020-05-01",739,null,840,null,1724,null,2773,null,637,null,947,null,2742,null,789,null,1050,null,234,null,243,null,179,null,120]
["2020-05-08",744,null,853,null,1730,null,2717,null,640,null,950,null,2727,null,762,null,1180,null,234,null,243,null,178,null,120]
["2020-05-15",831,null,875,null,1686,null,2542,null,656,null,935,null,2757,null,739,null,998,null,228,null,244,null,173,null,120]
["2020-05-22",827,null,879,null,1678,null,2543,null,618,null,937,null,2817,null,733,null,930,null,228,null,244,null,173,null,120]
["2020-05-29",863,{"$f":"AVERAGE(B233:B237)","v":800.8},924,{"$f":"AVERAGE(D233:D237)","v":874.2},2097,{"$f":"AVERAGE(F233:F237)","v":1783},2732,{"$f":"AVERAGE(H233:H237)","v":2661.4},581,{"$f":"AVERAGE(J233:J237)","v":626.4},959,{"$f":"AVERAGE(L233:L237)","v":945.6},2823,{"$f":"AVERAGE(N233:N237)","v":2773.2},698,{"$f":"AVERAGE(P233:P237)","v":744.2},1211,{"$f":"AVERAGE(R233:R237)","v":1073.8},226,{"$f":"AVERAGE(T233:T237)","v":230},238,{"$f":"AVERAGE(V233:V237)","v":242.4},170,{"$f":"AVERAGE(X233:X237)","v":174.6},120,{"$f":"AVERAGE(Z233:Z237)","v":120}]
[{"$f":"A237+7","v":"2020-06-05"},880,null,931,null,2132,null,2738,null,543,null,998,null,2647,null,682,null,1147,null,226,null,238,null,168,null,134]
["2020-06-12",875,null,954,null,2755,null,3255,null,470,null,1008,null,2818,null,656,null,936,null,226,null,238,null,165,null,134]
["2020-06-19",886,null,949,null,2669,null,3288,null,430,null,1017,null,2757,null,611,null,794,null,226,null,238,null,147,null,124]
["2020-06-26",890,{"$f":"AVERAGE(B238:B241)","v":882.75},968,{"$f":"AVERAGE(D238:D241)","v":950.5},2692,{"$f":"AVERAGE(F238:F241)","v":2562},3303,{"$f":"AVERAGE(H238:H241)","v":3146},458,{"$f":"AVERAGE(J238:J241)","v":475.25},1073,{"$f":"AVERAGE(L238:L241)","v":1024},2742,{"$f":"AVERAGE(N238:N241)","v":2741},635,{"$f":"AVERAGE(P238:P241)","v":646},779,{"$f":"AVERAGE(R238:R241)","v":914},226,{"$f":"AVERAGE(T238:T241)","v":226},238,{"$f":"AVERAGE(V238:V241)","v":238},150,{"$f":"AVERAGE(X238:X241)","v":157.5},124,{"$f":"AVERAGE(Z238:Z241)","v":129}]
["2020-07-03",907,null,970,null,2920,null,3459,null,595,null,1096,null,2736,null,665,null,615,null,229,null,238,null,151,null,121]
["2020-07-10",920,null,951,null,2783,null,3297,null,638,null,1076,null,2657,null,700,null,541,null,229,null,238,null,151,null,119]
["2020-07-17",907,null,940,null,2794,null,3334,null,675,null,1068,null,2681,null,703,null,500,null,229,null,238,null,148,null,119]
["2020-07-24",896,null,937,null,2704,null,3269,null,703,null,1079,null,2681,null,711,null,548,null,229,null,238,null,144,null,117]
["2020-07-31",901,{"$f":"AVERAGE(B242:B246)","v":906.2},935,{"$f":"AVERAGE(D242:D246)","v":946.6},3167,{"$f":"AVERAGE(F242:F246)","v":2873.6},3495,{"$f":"AVERAGE(H242:H246)","v":3370.8},751,{"$f":"AVERAGE(J242:J246)","v":672.4},1082,{"$f":"AVERAGE(L242:L246)","v":1080.2},2672,{"$f":"AVERAGE(N242:N246)","v":2685.4},752,{"$f":"AVERAGE(P242:P246)","v":706.2},959,{"$f":"AVERAGE(R242:R246)","v":632.6},229,{"$f":"AVERAGE(T242:T246)","v":229},238,{"$f":"AVERAGE(V242:V246)","v":238},131,{"$f":"AVERAGE(X242:X246)","v":145},117,{"$f":"AVERAGE(Z242:Z246)","v":118.6}]
["2020-08-07",910,null,940,null,3144,null,3504,null,783,null,1094,null,2612,null,761,null,963,null,231,null,238,null,134,null,117]
["2020-08-14",916,null,967,null,3406,null,3913,null,780,null,1098,null,2693,null,799,null,1309,null,231,null,238,null,134,null,118]
["2020-08-21",937,null,996,null,3440,null,3953,null,796,null,1107,null,2684,null,872,null,1367,null,231,null,238,null,133,null,118]
["2020-08-28",1029,{"$f":"AVERAGE(B247:B250)","v":948},1060,{"$f":"AVERAGE(D247:D250)","v":990.75},3639,{"$f":"AVERAGE(F247:F250)","v":3407.25},4207,{"$f":"AVERAGE(H247:H250)","v":3894.25},837,{"$f":"AVERAGE(J247:J250)","v":799},1213,{"$f":"AVERAGE(L247:L250)","v":1128},2837,{"$f":"AVERAGE(N247:N250)","v":2706.5},1064,{"$f":"AVERAGE(P247:P250)","v":874},1878,{"$f":"AVERAGE(R247:R250)","v":1379.25},231,{"$f":"AVERAGE(T247:T250)","v":231},238,{"$f":"AVERAGE(V247:V250)","v":238},132,{"$f":"AVERAGE(X247:X250)","v":133.25},118,{"$f":"AVERAGE(Z247:Z250)","v":117.75}]
["2020-09-04",1042,null,1082,null,3758,null,4538,null,909,null,1250,null,2937,null,1217,null,2223,null,231,null,238,null,148,null,118]
["2020-09-11",1054,null,1115,null,3813,null,4534,null,960,null,1315,null,3105,null,1416,null,2901,null,232,null,238,null,134,null,118]
["2020-09-18",1082,null,1188,null,3867,null,4634,null,1079,null,1358,null,3180,null,1619,null,3646,null,232,null,238,null,130,null,123]
["2020-09-25",1079,{"$f":"AVERAGE(B251:B254)","v":1064.25},1193,{"$f":"AVERAGE(D251:D254)","v":1144.5},3856,{"$f":"AVERAGE(F251:F254)","v":3823.5},4625,{"$f":"AVERAGE(H251:H254)","v":4582.75},1081,{"$f":"AVERAGE(J251:J254)","v":1007.25},1529,{"$f":"AVERAGE(L251:L254)","v":1363},3220,{"$f":"AVERAGE(N251:N254)","v":3110.5},1685,{"$f":"AVERAGE(P251:P254)","v":1484.25},3942,{"$f":"AVERAGE(R251:R254)","v":3178},232,{"$f":"AVERAGE(T251:T254)","v":231.75},238,{"$f":"AVERAGE(V251:V254)","v":238},131,{"$f":"AVERAGE(X251:X254)","v":135.75},118,{"$f":"AVERAGE(Z251:Z254)","v":119.25}]
["2020-10-02",1168,null,1211,null,3863,null,4622,null,1073,null,1633,null,3293,null,1737,null,3958,null,232,null,238,null,131,null,118]
["2020-10-09",1149,null,1202,null,3848,null,4622,null,1065,null,1648,null,3265,null,1736,null,3952,null,232,null,238,null,135,null,118]
["2020-10-16",1084,null,1239,null,3841,null,4619,null,1055,null,1821,null,3406,null,1869,null,3984,null,230,null,238,null,158,null,119]
["2020-10-23",1100,null,1261,null,3865,null,4625,null,1062,null,1919,null,3430,null,1947,null,3855,null,231,null,237,null,170,null,133]
["2020-10-30",1140,{"$f":"AVERAGE(B255:B259)","v":1128.2},1329,{"$f":"AVERAGE(D255:D259)","v":1248.4000000000001},3849,{"$f":"AVERAGE(F255:F259)","v":3853.2},4641,{"$f":"AVERAGE(H255:H259)","v":4625.8},1085,{"$f":"AVERAGE(J255:J259)","v":1068},2118,{"$f":"AVERAGE(L255:L259)","v":1827.8},3572,{"$f":"AVERAGE(N255:N259)","v":3393.2},1979,{"$f":"AVERAGE(P255:P259)","v":1853.6},4090,{"$f":"AVERAGE(R255:R259)","v":3967.8},236,{"$f":"AVERAGE(T255:T259)","v":232.2},240,{"$f":"AVERAGE(V255:V259)","v":238.2},254,{"$f":"AVERAGE(X255:X259)","v":169.6},146,{"$f":"AVERAGE(Z255:Z259)","v":126.8}]
["2020-11-06",1246,null,1365,null,3871,null,4665,null,1222,null,2243,null,3632,null,1969,null,4110,null,244,null,250,null,475,null,145]
["2020-11-13",1508,null,1674,null,3887,null,4676,null,1267,null,2360,null,3978,null,1897,null,4294,null,249,null,255,null,728,null,195]
["2020-11-20",1644,null,1797,null,3913,null,4682,null,1374,null,2375,null,4219,null,1887,null,4403,null,250,null,252,null,802,null,188]
["2020-11-27",2091,{"$f":"AVERAGE(B260:B263)","v":1622.25},2219,{"$f":"AVERAGE(D260:D263)","v":1763.75},3880,{"$f":"AVERAGE(F260:F263)","v":3887.75},4708,{"$f":"AVERAGE(H260:H263)","v":4682.75},1412,{"$f":"AVERAGE(J260:J263)","v":1318.75},2430,{"$f":"AVERAGE(L260:L263)","v":2352},4549,{"$f":"AVERAGE(N260:N263)","v":4094.5},1818,{"$f":"AVERAGE(P260:P263)","v":1892.75},4805,{"$f":"AVERAGE(R260:R263)","v":4403},250,{"$f":"AVERAGE(T260:T263)","v":248.25},253,{"$f":"AVERAGE(V260:V263)","v":252.5},776,{"$f":"AVERAGE(X260:X263)","v":695.25},197,{"$f":"AVERAGE(Z260:Z263)","v":181.25}]
["2020-12-04",2374,null,2384,null,3947,null,4700,null,1402,null,2490,null,4588,null,1996,null,5225,null,251,null,253,null,775,null,197]
["2020-12-11",2948,null,3073,null,3948,null,4804,null,1422,null,2431,null,5001,null,2289,null,5876,null,248,null,250,null,798,null,197]
["2020-12-18",3124,null,3223,null,3900,null,4874,null,1517,null,2438,null,5140,null,2505,null,6256,null,244,null,250,null,899,null,206]
["2020-12-25",3797,{"$f":"AVERAGE(B264:B267)","v":3060.75},3709,{"$f":"AVERAGE(D264:D267)","v":3097.25},4080,{"$f":"AVERAGE(F264:F267)","v":3968.75},4876,{"$f":"AVERAGE(H264:H267)","v":4813.5},1737,{"$f":"AVERAGE(J264:J267)","v":1519.5},2460,{"$f":"AVERAGE(L264:L267)","v":2454.75},5652,{"$f":"AVERAGE(N264:N267)","v":5095.25},2658,{"$f":"AVERAGE(P264:P267)","v":2362},7184,{"$f":"AVERAGE(R264:R267)","v":6135.25},244,{"$f":"AVERAGE(T264:T267)","v":246.75},251,{"$f":"AVERAGE(V264:V267)","v":251},910,{"$f":"AVERAGE(X264:X267)","v":845.5},206,{"$f":"AVERAGE(Z264:Z267)","v":201.5}]
["2021-01-01",4091,null,4286,null,4018,null,4729,null,1903,null,2465,null,6072,null,3158,null,8173,null,244,null,251,null,933,null,196]
["2021-01-08",4452,null,4298,null,4019,null,4750,null,1995,null,2451,null,6196,null,3307,null,8631,null,244,null,251,null,943,null,196]
[{"$f":"A269+7","v":"2021-01-15"},4413,null,4296,null,4054,null,4800,null,1982,null,2406,null,6630,null,3298,null,8907,null,244,null,251,null,958,null,203]
["2021-01-22",4394,null,4296,null,3995,null,4750,null,1934,null,2406,null,6560,null,3152,null,8870,null,246,null,253,null,974,null,203]
["2021-01-29",4276,{"$f":"AVERAGE(B268:B272)","v":4325.2},4337,{"$f":"AVERAGE(D268:D272)","v":4302.6000000000004},4088,{"$f":"AVERAGE(F268:F272)","v":4034.8},4679,{"$f":"AVERAGE(H268:H272)","v":4741.6000000000004},1895,{"$f":"AVERAGE(J268:J272)","v":1941.8},2408,{"$f":"AVERAGE(L268:L272)","v":2427.1999999999998},6604,{"$f":"AVERAGE(N268:N272)","v":6412.4},3063,{"$f":"AVERAGE(P268:P272)","v":3195.6},8544,{"$f":"AVERAGE(R268:R272)","v":8625},255,{"$f":"AVERAGE(T268:T272)","v":246.6},264,{"$f":"AVERAGE(V268:V272)","v":254},990,{"$f":"AVERAGE(X268:X272)","v":959.6},203,{"$f":"AVERAGE(Z268:Z272)","v":200.2}]
["2021-02-05",4324,null,4332,null,4076,null,4800,null,1873,null,2429," ",6608,null,3032,null,8430,null,256,null,265,null,996,null,323]
["2021-02-10",4109,null,4282,null,3969,null,4800,null,1859,null,2376,null,6568,null,3023,null,8392,null,256,null,265,null,996,null,323]
[{"$f":"A274+9","v":"2021-02-19"},4281,null,4252,null,4106,null,4800,null,1856,null,2379,null,6566,null,3019,null,8268,null,256,null,265,null,1017,null,323]
["2021-02-26",4047,{"$f":"AVERAGE(B273:B276)","v":4190.25},4147,{"$f":"AVERAGE(D273:D276)","v":4253.25},3968,{"$f":"AVERAGE(F273:F276)","v":4029.75},4814,{"$f":"AVERAGE(H273:H276)","v":4803.5},1692,{"$f":"AVERAGE(J273:J276)","v":1820},2387,{"$f":"AVERAGE(L273:L276)","v":2392.75},6403,{"$f":"AVERAGE(N273:N276)","v":6536.25},2849,{"$f":"AVERAGE(P273:P276)","v":2980.75},8120,{"$f":"AVERAGE(R273:R276)","v":8302.5},252,{"$f":"AVERAGE(T273:T276)","v":255},260,{"$f":"AVERAGE(V273:V276)","v":263.75},1004,{"$f":"AVERAGE(X273:X276)","v":1003.25},301,{"$f":"AVERAGE(Z273:Z276)","v":317.5}]
["2021-03-05",3966,null,4078,null,4008,null,4808,null,1531,null,2247,null,5991,null,2755,null,7801,null,252,null,258,null,998,null,297]
["2021-03-12",3712,null,4020,null,3999,null,4786,null,1428,null,2095,null,5887,null,2694,null,7373,null,246,null,251,null,982,null,296]
["2021-03-19",3665,null,3901,null,3984,null,4795,null,1373,null,2012,null,5767,null,2456,null,6855,null,250,null,254,null,955,null,296]
["2021-03-26",3742,{"$f":"AVERAGE(B277:B280)","v":3771.25},3900,{"$f":"AVERAGE(D277:D280)","v":3974.75},3971,{"$f":"AVERAGE(F277:F280)","v":3990.5},4839,{"$f":"AVERAGE(H277:H280)","v":4807},1355,{"$f":"AVERAGE(J277:J280)","v":1421.75},1877,{"$f":"AVERAGE(L277:L280)","v":2057.75},5994,{"$f":"AVERAGE(N277:N280)","v":5909.75},2749,{"$f":"AVERAGE(P277:P280)","v":2663.5},6790,{"$f":"AVERAGE(R277:R280)","v":7204.75},253,{"$f":"AVERAGE(T277:T280)","v":250.25},258,{"$f":"AVERAGE(V277:V280)","v":255.25},883,{"$f":"AVERAGE(X277:X280)","v":954.5},311,{"$f":"AVERAGE(Z277:Z280)","v":300}]
["2021-04-02",3651,null,3962,null,4056,null,4788,null,1504,null,1832,null,6109,null,2836,null,6895,null,255,null,259,null,868,null,308]
["2021-04-09",3964,null,4026,null,3931,null,5334,null,1624,null,1810,null,6242,null,2996,null,7155,null,254,null,261,null,840,null,308]
["2021-04-16",4187,null,4239,null,4432,null,5452,null,1932,null,1856,null,6532,null,3236,null,7374,null,254,null,260,null,854,null,308]
["2021-04-23",4325,null,4446,null,4967,null,5687,null,2160,null,1878,null,6412,null,3326,null,7304,null,253,null,260,null,854,null,312]
["2021-04-30",4630,{"$f":"AVERAGE(B281:B285)","v":4151.3999999999996},4705,{"$f":"AVERAGE(D281:D285)","v":4275.6000000000004},5023,{"$f":"AVERAGE(F281:F285)","v":4481.8},6419,{"$f":"AVERAGE(H281:H285)","v":5536},2299,{"$f":"AVERAGE(J281:J285)","v":1903.8},1853,{"$f":"AVERAGE(L281:L285)","v":1845.8},6506,{"$f":"AVERAGE(N281:N285)","v":6360.2},3522,{"$f":"AVERAGE(P281:P285)","v":3183.2},7313,{"$f":"AVERAGE(R281:R285)","v":7208.2},252,{"$f":"AVERAGE(T281:T285)","v":253.6},259,{"$f":"AVERAGE(V281:V285)","v":259.8},857,{"$f":"AVERAGE(X281:X285)","v":854.6},312,{"$f":"AVERAGE(Z281:Z285)","v":309.60000000000002}]
["2021-05-07",4678,null,4803,null,4608,null,7036,null,2441,null,1896,null,6482,null,3594,null,7410,null,248,null,257,null,854,null,306]
["2021-05-14",5438,null,5320,null,4839,null,7378,null,2550,null,1949,null,6633,null,3866,null,7657,null,281,null,285,null,868,null,306]
["2021-05-21",5579,null,5526,null,4843,null,7521,null,2646,null,2007,null,6723,null,4017,null,8097,null,295,null,297,null,903,null,319]
["2021-05-28",5816,{"$f":"AVERAGE(B286:B289)","v":5377.75},5811,{"$f":"AVERAGE(D286:D289)","v":5365},4416,{"$f":"AVERAGE(F286:F289)","v":4676.5},7633,{"$f":"AVERAGE(H286:H289)","v":7392},2831,{"$f":"AVERAGE(J286:J289)","v":2617},2110,{"$f":"AVERAGE(L286:L289)","v":1990.5},7215,{"$f":"AVERAGE(N286:N289)","v":6763.25},4134,{"$f":"AVERAGE(P286:P289)","v":3902.75},8601,{"$f":"AVERAGE(R286:R289)","v":7941.25},305,{"$f":"AVERAGE(T286:T289)","v":282.25},308,{"$f":"AVERAGE(V286:V289)","v":286.75},934,{"$f":"AVERAGE(X286:X289)","v":889.75},319,{"$f":"AVERAGE(Z286:Z289)","v":312.5}]
["2021-06-04",5887,null,5952,null,4826,null,8475,null,2859,null,2154,null,7292,null,4205,null,8915,null,307,null,311,null,928,null,318]
["2021-06-11",6355,null,6272,null,4658,null,8554,null,2937,null,2279,null,7518,null,4308,null,9120,null,302,null,308,null,926,null,243]
["2021-06-18",6351,null,6392,null,4716,null,8914,null,3002,null,2395,null,7728,null,4396,null,9297,null,300,null,306,null,924,null,231]
["2021-06-25",6479,{"$f":"AVERAGE(B290:B293)","v":6268},6514,{"$f":"AVERAGE(D290:D293)","v":6282.5},4716,{"$f":"AVERAGE(F290:F293)","v":4729},8944,{"$f":"AVERAGE(H290:H293)","v":8721.75},2997,{"$f":"AVERAGE(J290:J293)","v":2948.75},2593,{"$f":"AVERAGE(L290:L293)","v":2355.25},7835,{"$f":"AVERAGE(N290:N293)","v":7593.25},4476,{"$f":"AVERAGE(P290:P293)","v":4346.25},9380,{"$f":"AVERAGE(R290:R293)","v":9178},297,{"$f":"AVERAGE(T290:T293)","v":301.5},305,{"$f":"AVERAGE(V290:V293)","v":307.5},912,{"$f":"AVERAGE(X290:X293)","v":922.5},231,{"$f":"AVERAGE(Z290:Z293)","v":255.75}]
["2021-07-02",6786,null,6655,null,4944,null,9254,null,3116,null,2768,null,7938,null,4572,null,9379,null,295,null,302,null,900,null,229]
["2021-07-09",6741,null,6746,null,5024,null,9356,null,3262,null,2838,null,8024,null,4626,null,9449,null,292,null,296,null,880,null,227]
["2021-07-16",7023,null,6893,null,5334,null,9655,null,3373,null,3002,null,8025,null,4680,null,9383,null,287,null,284,null,870,null,229]
["2021-07-23",7127,null,6961,null,5388,null,9850,null,3481,null,3168,null,8036,null,4647,null,9498,null,282,null,280,null,856,null,205]
["2021-07-30",7395,{"$f":"AVERAGE(B294:B298)","v":7014.4},6991,{"$f":"AVERAGE(D294:D298)","v":6849.2},5518,{"$f":"AVERAGE(F294:F298)","v":5241.6000000000004},10067,{"$f":"AVERAGE(H294:H298)","v":9636.4},3553,{"$f":"AVERAGE(J294:J298)","v":3357},3406,{"$f":"AVERAGE(L294:L298)","v":3036.4},8102,{"$f":"AVERAGE(N294:N298)","v":8025},4873,{"$f":"AVERAGE(P294:P298)","v":4679.6000000000004},9720,{"$f":"AVERAGE(R294:R298)","v":9485.7999999999993},277,{"$f":"AVERAGE(T294:T298)","v":286.60000000000002},277,{"$f":"AVERAGE(V294:V298)","v":287.8},861,{"$f":"AVERAGE(X294:X298)","v":873.4},189,{"$f":"AVERAGE(Z294:Z298)","v":215.8}]
["2021-08-06",7418,null,7042,null,5555,null,10167,null,3584,null,3527,null,8128,null,5062,null,9772,null,274,null,273,null,866,null,189]
["2021-08-13",7407,null,7051,null,5744,null,10452,null,3643,null,3717,null,8280,null,5322,null,9820,null,274,null,274,null,866,null,189]
["2021-08-20",7398,null,7080,null,5927,null,10876,null,3720,null,3772,null,8267,null,5845,null,9845,null,275,null,278,null,860,null,184]
["2021-08-27",7365,{"$f":"AVERAGE(B299:B302)","v":7397},7125,{"$f":"AVERAGE(D299:D302)","v":7074.5},5949,{"$f":"AVERAGE(F299:F302)","v":5793.75},11138,{"$f":"AVERAGE(H299:H302)","v":10658.25},3776,{"$f":"AVERAGE(J299:J302)","v":3680.75},3962,{"$f":"AVERAGE(L299:L302)","v":3744.5},8412,{"$f":"AVERAGE(N299:N302)","v":8271.75},6336,{"$f":"AVERAGE(P299:P302)","v":5641.25},10000,{"$f":"AVERAGE(R299:R302)","v":9859.25},280,{"$f":"AVERAGE(T299:T302)","v":275.75},281,{"$f":"AVERAGE(V299:V302)","v":276.5},861,{"$f":"AVERAGE(X299:X302)","v":863.25},236,{"$f":"AVERAGE(Z299:Z302)","v":199.5}]
["2021-09-03",7443,null,7289,null,6266,null,11648,null,3830,null,4154,null,8340,null,6624,null,10012,null,281,null,282,null,883,null,271]
["2021-09-10",7491,null,7365,null,6322,null,11731,null,3941,null,4198,null,8359,null,6732,null,10148,null,303,null,305,null,921,null,273]
["2021-09-17",7524,null,7511,null,6322,null,11759,null,3960,null,4300,null,8354,null,6909,null,10191,null,355,null,340,null,934,null,330]
["2021-09-24",7551,null,7498,null,6322,null,11976,null,3925,null,4442,null,8313,null,7039,null,10195,null,355,null,340,null,951,null,339]
["2021-09-30",7538,{"$f":"AVERAGE(B303:B307)","v":7509.4},7444,{"$f":"AVERAGE(D303:D307)","v":7421.4},6322,{"$f":"AVERAGE(F303:F307)","v":6310.8},11250,{"$f":"AVERAGE(H303:H307)","v":11672.8},3862,{"$f":"AVERAGE(J303:J307)","v":3903.6},4405,{"$f":"AVERAGE(L303:L307)","v":4299.8},8236,{"$f":"AVERAGE(N303:N307)","v":8320.4},6997,{"$f":"AVERAGE(P303:P307)","v":6860.2},10222,{"$f":"AVERAGE(R303:R307)","v":10153.6},355,{"$f":"AVERAGE(T303:T307)","v":329.8},340,{"$f":"AVERAGE(V303:V307)","v":321.39999999999998},970,{"$f":"AVERAGE(X303:X307)","v":931.8},350,{"$f":"AVERAGE(Z303:Z307)","v":312.60000000000002}]
["2021-10-08",7714,null,7448,null,6371,null,11114,null,3859,null,4418,null,8244,null,7009,null,10226,null,355,null,340,null,973,null,351]
["2021-10-15",7687,null,7374,null,6219,null,10700,null,3735,null,4463,null,8167,null,7160,null,10187,null,356,null,339,null,963,null,351]
["2021-10-22",7666,null,7335,null,6343,null,10544,null,3687,null,4494,null,7996,null,6957,null,10211,null,356,null,339,null,961,null,351]
["2021-10-29",7693,{"$f":"AVERAGE(B308:B311)","v":7690},7315,{"$f":"AVERAGE(D308:D311)","v":7368},6414,{"$f":"AVERAGE(F308:F311)","v":6336.75},10454,{"$f":"AVERAGE(H308:H311)","v":10703},3584,{"$f":"AVERAGE(J308:J311)","v":3716.25},4487,{"$f":"AVERAGE(L308:L311)","v":4465.5},7801,{"$f":"AVERAGE(N308:N311)","v":8052},6712,{"$f":"AVERAGE(P308:P311)","v":6959.5},10199,{"$f":"AVERAGE(R308:R311)","v":10205.75},324,{"$f":"AVERAGE(T308:T311)","v":347.75},316,{"$f":"AVERAGE(V308:V311)","v":333.5},965,{"$f":"AVERAGE(X308:X311)","v":965.5},351,{"$f":"AVERAGE(Z308:Z311)","v":351}]
["2021-11-05",7637,null,7269,null,6461,null,10428,null,3459,null,4474,null,7751,null,6650,null,10135,null,309,null,297,null,965,null,344]
["2021-11-12",7560,null,7207,null,6730,null,10589,null,3361,null,4452,null,7608,null,6564,null,10131,null,321,null,308,null,978,null,340]
["2021-11-19",7552,null,7234,null,6730,null,10415,null,3338,null,4445,null,7499,null,6487,null,10135,null,318,null,305,null,1010,null,339]
["2021-11-26",7549,{"$f":"AVERAGE(B312:B315)","v":7574.5},7234,{"$f":"AVERAGE(D312:D315)","v":7236},6730,{"$f":"AVERAGE(F312:F315)","v":6662.75},10427,{"$f":"AVERAGE(H312:H315)","v":10464.75},3360,{"$f":"AVERAGE(J312:J315)","v":3379.5},4448,{"$f":"AVERAGE(L312:L315)","v":4454.75},7444,{"$f":"AVERAGE(N312:N315)","v":7575.5},6454,{"$f":"AVERAGE(P312:P315)","v":6538.75},10137,{"$f":"AVERAGE(R312:R315)","v":10134.5},318,{"$f":"AVERAGE(T312:T315)","v":316.5},305,{"$f":"AVERAGE(V312:V315)","v":303.75},1124,{"$f":"AVERAGE(X312:X315)","v":1019.25},343,{"$f":"AVERAGE(Z312:Z315)","v":341.5}]
["2021-12-03",7587,null,7251,null,7019,null,10623,null,3536,null,4459,null,7425,null,6427,null,10139,null,300,null,298,null,1266,null,343]
["2021-12-10",7597,null,7314,null,7300,null,10644,null,3538,null,4459,null,7442,null,6441,null,10105,null,298,null,288,null,1368,null,338]
["2021-12-17",7603,null,7329,null,7419,null,10983,null,3666,null,4490,null,7454,null,6435,null,10161,null,295,null,272,null,1469,null,342]
["2021-12-24",7671,null,7420,null,7444,null,11351,null,3753,null,4544,null,7461,null,6480,null,10297,null,282,null,271,null,1494,null,386]
["2021-12-31",7751,{"$f":"AVERAGE(B316:B320)","v":7641.8},7535,{"$f":"AVERAGE(D316:D320)","v":7369.8},7681,{"$f":"AVERAGE(F316:F320)","v":7372.6},11579,{"$f":"AVERAGE(H316:H320)","v":11036},3860,{"$f":"AVERAGE(J316:J320)","v":3670.6},4683,{"$f":"AVERAGE(L316:L320)","v":4527},7476,{"$f":"AVERAGE(N316:N320)","v":7451.6},6473,{"$f":"AVERAGE(P316:P320)","v":6451.2},10276,{"$f":"AVERAGE(R316:R320)","v":10195.6},337,{"$f":"AVERAGE(T316:T320)","v":302.39999999999998},268,{"$f":"AVERAGE(V316:V320)","v":279.39999999999998},1489,{"$f":"AVERAGE(X316:X320)","v":1417.2},424,{"$f":"AVERAGE(Z316:Z320)","v":366.6}]
[{"$f":"A320+7","v":"2022-01-07"},7777,null,7529,null,7994,null,11833,null,3790,null,4691,null,7470,null,6419,null,10323,null,304,null,276,null,1537,null,432]
["2022-01-14",7797,null,7520,null,7994,null,11729,null,3695,null,4673,null,7473,null,6316,null,10168,null,318,null,288,null,1523,null,456]
["2022-01-21",7783,null,7522,null,7976,null,11337,null,3575,null,4610,null,7396,null,6278,null,9988,null,341,null,281,null,1510,null,449]
["2022-01-28",7780,{"$f":"AVERAGE(B321:B324)","v":7784.25},7520,{"$f":"AVERAGE(D321:D324)","v":7522.75},7957,{"$f":"AVERAGE(F321:F324)","v":7980.25},10985,{"$f":"AVERAGE(H321:H324)","v":11471},3535,{"$f":"AVERAGE(J321:J324)","v":3648.75},4552,{"$f":"AVERAGE(L321:L324)","v":4631.5},7380,{"$f":"AVERAGE(N321:N324)","v":7429.75},6275,{"$f":"AVERAGE(P321:P324)","v":6322},9837,{"$f":"AVERAGE(R321:R324)","v":10079},287,{"$f":"AVERAGE(T321:T324)","v":312.5},286,{"$f":"AVERAGE(V321:V324)","v":282.75},1483,{"$f":"AVERAGE(X321:X324)","v":1513.25},449,{"$f":"AVERAGE(Z321:Z324)","v":446.5}]
["2022-02-04","Nil due to CNY"]
["2022-02-11",7677,null,7435,null,8054,null,11022,null,3518,null,4602,null,7244,null,6162,null,9261,null,310,null,305,null,1465,null,407]
["2022-02-18",7652,null,7416,null,8117,null,10870,null,3518,null,4515,null,7174,null,6140,null,9093,null,317,null,291,null,1403,null,404]
["2022-02-25",7519,{"$f":"AVERAGE(B326:B328)","v":7616},7339,{"$f":"AVERAGE(D326:D328)","v":7396.666666666667},8066,{"$f":"AVERAGE(F326:F328)","v":8079},10864,{"$f":"AVERAGE(H326:H328)","v":10918.666666666666},3426,{"$f":"AVERAGE(J326:J328)","v":3487.3333333333335},4379,{"$f":"AVERAGE(L326:L328)","v":4498.666666666667},7115,{"$f":"AVERAGE(N326:N328)","v":7177.666666666667},6097,{"$f":"AVERAGE(P326:P328)","v":6133},8801,{"$f":"AVERAGE(R326:R328)","v":9051.6666666666661},319,{"$f":"AVERAGE(T326:T328)","v":315.33333333333331},290,{"$f":"AVERAGE(V326:V328)","v":295.33333333333331},1236,{"$f":"AVERAGE(X326:X328)","v":1368},369,{"$f":"AVERAGE(Z326:Z328)","v":393.33333333333331}]
["2022-03-04",7387,null,7254,null,8110,null,10678,null,3350,null,4216,null,6964,null,5980,null,8358,null,319,null,290,null,1195,null,369]
["2022-03-11",7019,null,7073,null,8105,null,10634,null,3228,null,4041,null,6905,null,5849,null,8045,null,313,null,307,null,1153,null,358]
["2022-03-18",6797,null,7035,null,8023,null,10634,null,3118,null,3955,null,6773,null,5778,null,7626,null,315,null,309,null,1135,null,353]
["2022-03-25",6593,{"$f":"AVERAGE(B329:B332)","v":6949},6921,{"$f":"AVERAGE(D329:D332)","v":7070.75},7960,{"$f":"AVERAGE(F329:F332)","v":8049.5},10504,{"$f":"AVERAGE(H329:H332)","v":10612.5},2843,{"$f":"AVERAGE(J329:J332)","v":3134.75},3815,{"$f":"AVERAGE(L329:L332)","v":4006.75},6683,{"$f":"AVERAGE(N329:N332)","v":6831.25},5658,{"$f":"AVERAGE(P329:P332)","v":5816.25},7289,{"$f":"AVERAGE(R329:R332)","v":7829.5},339,{"$f":"AVERAGE(T329:T332)","v":321.5},329,{"$f":"AVERAGE(V329:V332)","v":308.75},1098,{"$f":"AVERAGE(X329:X332)","v":1145.25},374,{"$f":"AVERAGE(Z329:Z332)","v":363.5}]
[{"$f":"A332+7","v":"2022-04-01"},6425,null,6839,null,7916,null,10395,null,2653,null,3712,null,6665,null,5577,null,6794,null,339,null,329,null,1085,null,370]
[{"$f":"A333+7","v":"2022-04-08"},6157,null,6773,null,7860,null,10581,null,2563,null,3621,null,6597,null,5526,null,6650,null,339,null,329,null,1054,null,340]
["2022-04-15",6086,null,6738,null,7860,null,10649,null,2471,null,3514,null,6573,null,5520,null,6528,null,346,null,335,null,1035,null,340]
["2022-04-22",6016,null,6690,null,7860,null,10645,null,2428,null,3423,null,6552,null,5485,null,6564,null,346,null,335,null,1015,null,334]
["2022-04-29",5984,{"$f":"AVERAGE(B333:B337)","v":6133.6},6671,{"$f":"AVERAGE(D333:D337)","v":6742.2},7888,{"$f":"AVERAGE(F333:F337)","v":7876.8},10629,{"$f":"AVERAGE(H333:H337)","v":10579.8},2388,{"$f":"AVERAGE(J333:J337)","v":2500.6},3322,{"$f":"AVERAGE(L333:L337)","v":3518.4},6534,{"$f":"AVERAGE(N333:N337)","v":6584.2},5476,{"$f":"AVERAGE(P333:P337)","v":5516.8},6494,{"$f":"AVERAGE(R333:R337)","v":6606},346,{"$f":"AVERAGE(T333:T337)","v":343.2},335,{"$f":"AVERAGE(V333:V337)","v":332.6},1001,{"$f":"AVERAGE(X333:X337)","v":1038},334,{"$f":"AVERAGE(Z333:Z337)","v":343.6}]
["2022-05-06",5955,null,6691,null,7888,null,10588,null,2344,null,3332,null,6485,null,5444,null,6284,null,346,null,354,null,996,null,328]
["2022-05-13",5860,null,6601,null,7900,null,10560,null,2458,null,3282,null,6444,null,5340,null,6253,null,344,null,353,null,992,null,330]
["2022-05-20",5862,null,6614,null,7888,null,10560,null,2567,null,3297,null,6383,null,5383,null,6309,null,344,null,354,null,994,null,330]
["2022-05-27",5865,{"$f":"AVERAGE(B338:B341)","v":5885.5},6589,{"$f":"AVERAGE(D338:D341)","v":6623.75},7776,{"$f":"AVERAGE(F338:F341)","v":7863},10505,{"$f":"AVERAGE(H338:H341)","v":10553.25},2742,{"$f":"AVERAGE(J338:J341)","v":2527.75},3326,{"$f":"AVERAGE(L338:L341)","v":3309.25},6375,{"$f":"AVERAGE(N338:N341)","v":6421.75},5522,{"$f":"AVERAGE(P338:P341)","v":5422.25},6487,{"$f":"AVERAGE(R338:R341)","v":6333.25},344,{"$f":"AVERAGE(T338:T341)","v":344.5},343,{"$f":"AVERAGE(V338:V341)","v":351},1009,{"$f":"AVERAGE(X338:X341)","v":997.75},333,{"$f":"AVERAGE(Z338:Z341)","v":330.25}]
["2022-06-03",5855,null,6570,null,7710,null,10231,null,3039,null,3349,null,6384,null,5549,null,6702,null,344,null,343,null,1044,null,333]
["2022-06-10",5843,null,6557,null,7630,null,10098,null,3267,null,3405,null,6312,null,5601,null,7216,null,344,null,343,null,1058,null,333]
["2022-06-17",5793,null,6487,null,7489,null,10073,null,3417,null,3402,null,6322,null,5599,null,7632,null,338,null,362,null,1049,null,325]
["2022-06-24",5766,5814.25,6425,6509.75,7378,7551.75,9804,10051.5,3541,3316,3398,3388.5,6214,6308,5590,5584.75,7884,7358.5,338,341,362,352.5,1073,1056,328,329.75]
["2022-07-01",5731,null,6418,null,7334,null,9684,null,3473,null,3320,null,6203,null,5568,null,8384,null,342,null,347,null,1079,null,359]
["2022-07-08",5697,null,6355,null,7116,null,9602,null,3309,null,3309,null,6182,null,5535,null,8954,null,342,null,347,null,1060,null,362]
["2022-07-15",5612,null,6268,null,6883,null,9534,null,3201,null,3186,null,6181,null,5487,null,9312,null,342,null,347,null,1054,null,358]
["2022-07-22",5570,null,6201,null,6722,null,9441,null,2971,null,3143,null,6131,null,5475,null,9483,null,342,null,347,null,1016,null,353]
["2022-07-29",5416,{"$f":"AVERAGE(B346:B350)","v":5605.2},5971,{"$f":"AVERAGE(D346:D350)","v":6242.6},6694,{"$f":"AVERAGE(F346:F350)","v":6949.8},9348,{"$f":"AVERAGE(H346:H350)","v":9521.7999999999993},2789,{"$f":"AVERAGE(J346:J350)","v":3148.6},2997,{"$f":"AVERAGE(L346:L350)","v":3191},6066,{"$f":"AVERAGE(N346:N350)","v":6152.6},5391,{"$f":"AVERAGE(P346:P350)","v":5491.2},9439,{"$f":"AVERAGE(R346:R350)","v":9114.4},318,{"$f":"AVERAGE(T346:T350)","v":337.2},305,{"$f":"AVERAGE(V346:V350)","v":338.6},968,{"$f":"AVERAGE(X346:X350)","v":1035.4000000000001},352,{"$f":"AVERAGE(Z346:Z350)","v":356.8}]
["2022-08-05",5166,null,5852,null,6499,null,9330,null,2601,null,2988,null,6050,null,5336,null,9531,null,316,null,305,null,846,null,343]
["2022-08-12",4971,null,5633,null,6153,null,9106,null,2372,null,2902,null,5886,null,5260,null,9214,null,316,null,305,null,775,null,294]
["2022-08-19",4788,null,5483,null,5782,null,8992,null,2231,null,2853,null,5748,null,5220,null,8965,null,316,null,305,null,749,null,289]
["2022-08-26",4441,{"$f":"AVERAGE(B351:B354)","v":4841.5},5071,{"$f":"AVERAGE(D351:D354)","v":5509.75},5134,{"$f":"AVERAGE(F351:F354)","v":5892},8801,{"$f":"AVERAGE(H351:H354)","v":9057.25},2057,{"$f":"AVERAGE(J351:J354)","v":2315.25},2797,{"$f":"AVERAGE(L351:L354)","v":2885},5649,{"$f":"AVERAGE(N351:N354)","v":5833.25},5064,{"$f":"AVERAGE(P351:P354)","v":5220},8828,{"$f":"AVERAGE(R351:R354)","v":9134.5},327,{"$f":"AVERAGE(T351:T354)","v":318.75},317,{"$f":"AVERAGE(V351:V354)","v":308},591,{"$f":"AVERAGE(X351:X354)","v":740.25},262,{"$f":"AVERAGE(Z351:Z354)","v":297}]
["2022-09-02",4252,null,4774,null,3959,null,8318,null,1767,null,2662,null,5429,null,4950,null,7981,null,327,null,305,null,562,null,256]
["2022-09-09",3877,null,4222,null,3484,null,7767,null,1481,null,2489,null,5197,null,4817,null,7183,null,325,null,315,null,463,null,253]
["2022-09-16",3545,null,3777,null,3050,null,7176,null,1232,null,2262,null,5022,null,4654,null,6342,null,321,null,311,null,403,null,265]
["2022-09-23",3163,null,3249,null,2684,null,6538,null,988,null,1956,null,4979,null,4532,null,5479,null,325,null,302,null,386,null,265]
["2022-09-30",2950,{"$f":"AVERAGE(B355:B359)","v":3557.4},2999,{"$f":"AVERAGE(D355:D359)","v":3804.2},2399,{"$f":"AVERAGE(F355:F359)","v":3115.2},6159,{"$f":"AVERAGE(H355:H359)","v":7191.6},912,{"$f":"AVERAGE(J355:J359)","v":1276},1850,{"$f":"AVERAGE(L355:L359)","v":2243.8000000000002},4811,{"$f":"AVERAGE(N355:N359)","v":5087.6000000000004},4407,{"$f":"AVERAGE(P355:P359)","v":4672},5025,{"$f":"AVERAGE(R355:R359)","v":6402},311,{"$f":"AVERAGE(T355:T359)","v":321.8},301,{"$f":"AVERAGE(V355:V359)","v":306.8},348,{"$f":"AVERAGE(X355:X359)","v":432.4},262,{"$f":"AVERAGE(Z355:Z359)","v":260.2}]
["2022-10-07"]
["2022-10-14",2581,null,2747,null,2097,null,5816,null,1171,null,1561,null,4837,null,4446,null,5120,null,325,null,302,null,349,null,254]
["2022-10-21",2379,null,2568,null,2029,null,5639,null,1451,null,1498,null,4771,null,4376,null,5059,null,323,null,298,null,352,null,255]
["2022-10-28",2102,{"$f":"AVERAGE(B361:B363)","v":2354},2344,{"$f":"AVERAGE(D361:D363)","v":2553},1902,{"$f":"AVERAGE(F361:F363)","v":2009.3333333333333},5318,{"$f":"AVERAGE(H361:H363)","v":5591},1727,{"$f":"AVERAGE(J361:J363)","v":1449.6666666666667},1354,{"$f":"AVERAGE(L361:L363)","v":1471},4750,{"$f":"AVERAGE(N361:N363)","v":4786},4211,{"$f":"AVERAGE(P361:P363)","v":4344.333333333333},4541,{"$f":"AVERAGE(R361:R363)","v":4906.666666666667},320,{"$f":"AVERAGE(T361:T363)","v":322.66666666666669},298,{"$f":"AVERAGE(V361:V363)","v":299.33333333333331},346,{"$f":"AVERAGE(X361:X363)","v":349},254,{"$f":"AVERAGE(Z361:Z363)","v":254.33333333333334}]
["2022-11-04",1763,null,2222,null,1681,null,4890,null,1812,null,1200,null,4632,null,4096,null,3816,null,320,null,297,null,355,null,258]
["2022-11-11",1478,null,2061,null,1632,null,4223,null,1650,null,1006,null,4363,null,3925,null,2944,null,322,null,318,null,346,null,256]
["2022-11-18",1172,null,1967,null,1559,null,3877,null,1393,null,802,null,4111,null,3738,null,2576,null,331,null,308,null,327,null,254]
["2022-11-25",1100,{"$f":"AVERAGE(B364:B367)","v":1378.25},1842,{"$f":"AVERAGE(D364:D367)","v":2023},1496,{"$f":"AVERAGE(F364:F367)","v":1592},3687,{"$f":"AVERAGE(H364:H367)","v":4169.25},1250,{"$f":"AVERAGE(J364:J367)","v":1526.25},613,{"$f":"AVERAGE(L364:L367)","v":905.25},3861,{"$f":"AVERAGE(N364:N367)","v":4241.75},3520,{"$f":"AVERAGE(P364:P367)","v":3819.75},2276,{"$f":"AVERAGE(R364:R367)","v":2903},336,{"$f":"AVERAGE(T364:T367)","v":327.25},337,{"$f":"AVERAGE(V364:V367)","v":315},303,{"$f":"AVERAGE(X364:X367)","v":332.75},251,{"$f":"AVERAGE(Z364:Z367)","v":254.75}]
["2022-12-02",1085,null,1827,null,1437,null,3437,null,1184,null,602,null,3717,null,3366,null,2025,null,349,null,337,null,237,null,272]
["2022-12-09",1047,null,1841,null,1430,null,3290,null,1171,null,705,null,3567,null,3085,null,1834,null,321,null,331,null,216,null,269]
["2022-12-16",1050,null,1851,null,1423,null,3169,null,1153,null,738,null,3401,null,3087,null,1649,null,331,null,341,null,205,null,236]
["2022-12-23",1049,null,1896,null,1418,null,3096,null,1152,null,721,null,3367,null,2957,null,1570,null,321,null,331,null,189,null,225]
["2022-12-30",1078,{"$f":"AVERAGE(B368:B372)","v":1061.8},1850,{"$f":"AVERAGE(D368:D372)","v":1853},1423,{"$f":"AVERAGE(F368:F372)","v":1426.2},3067,{"$f":"AVERAGE(H368:H372)","v":3211.8},1173,{"$f":"AVERAGE(J368:J372)","v":1166.5999999999999},692,{"$f":"AVERAGE(L368:L372)","v":691.6},3295,{"$f":"AVERAGE(N368:N372)","v":3469.4},2979,{"$f":"AVERAGE(P368:P372)","v":3094.8},1433,{"$f":"AVERAGE(R368:R372)","v":1702.2},321,{"$f":"AVERAGE(T368:T372)","v":328.6},331,{"$f":"AVERAGE(V368:V372)","v":334.2},188,{"$f":"AVERAGE(X368:X372)","v":207},238,{"$f":"AVERAGE(Z368:Z372)","v":248}]
["2023-01-06",1050,null,1855,null,1414,null,2845,null,1039,null,589,null,3151,null,2759,null,1231,null,321,null,331,null,175,null,238]
["2023-01-13",1020,null,1836,null,1378,null,2825,null,1002,null,545,null,3091,null,2724,null,1117,null,323,null,331,null,154,null,238]
["2023-01-20",1014,null,1816,null,1403,null,2783,null,1000,null,515,null,3047,null,2701,null,1065,null,334,null,331,null,154,null,238]
["2023-01-27",null,{"$f":"AVERAGE(B373:B375)","v":1028},null,{"$f":"AVERAGE(D373:D375)","v":1835.6666666666667},null,{"$f":"AVERAGE(F373:F375)","v":1398.3333333333333},null,{"$f":"AVERAGE(H373:H375)","v":2817.6666666666665},null,{"$f":"AVERAGE(J373:J375)","v":1013.6666666666666},null,{"$f":"AVERAGE(L373:L375)","v":549.66666666666663},null,{"$f":"AVERAGE(N373:N375)","v":3096.3333333333335},null,{"$f":"AVERAGE(P373:P375)","v":2728},null,{"$f":"AVERAGE(R373:R375)","v":1137.6666666666667},null,{"$f":"AVERAGE(T373:T375)","v":326},null,{"$f":"AVERAGE(V373:V375)","v":331},null,{"$f":"AVERAGE(X373:X375)","v":161},null,{"$f":"AVERAGE(Z373:Z375)","v":238}]
["2023-02-03",961,null,1754,null,1363,null,2706,null,1040,null,441,null,2931,null,2577,null,1441,null,326,null,317,null,150,null,226]
["2023-02-10",925,null,1724,null,1293,null,2553,null,1132,null,414,null,2864,null,2479,null,1522,null,333,null,324,null,155,null,211]
["2023-02-17",910,null,1633,null,1273,null,2496,null,1079,null,369,null,2779,null,2378,null,1508,null,331,null,340,null,161,null,211]
["2023-02-24",882,{"$f":"AVERAGE(B377:B380)","v":919.5},1605,{"$f":"AVERAGE(D377:D380)","v":1679},1234,{"$f":"AVERAGE(F377:F380)","v":1290.75},2391,{"$f":"AVERAGE(H377:H380)","v":2536.5},1029,{"$f":"AVERAGE(J377:J380)","v":1070},346,{"$f":"AVERAGE(L377:L380)","v":392.5},2758,{"$f":"AVERAGE(N377:N380)","v":2833},2296,{"$f":"AVERAGE(P377:P380)","v":2432.5},1507,{"$f":"AVERAGE(R377:R380)","v":1494.5},326,{"$f":"AVERAGE(T377:T380)","v":329},336,{"$f":"AVERAGE(V377:V380)","v":329.25},155,{"$f":"AVERAGE(X377:X380)","v":155.25},208,{"$f":"AVERAGE(Z377:Z380)","v":214}]
["2023-03-03",865,null,1600,null,1200,null,2321,null,965,null,334,null,2718,null,2112,null,1482,null,328,null,328,null,177,null,202]
["2023-03-10",865,null,1589,null,1163,null,2194,null,878,null,280,null,2734,null,2010,null,1378,null,328,null,328,null,180,null,200]
["2023-03-17",878,null,1651,null,1161,null,2088,null,879,null,277,null,2731,null,1896,null,1306,null,328,null,328,null,190,null,197]
["2023-03-24",884,null,1606,null,1155,null,2038,null,894,null,324,null,2725,null,1860,null,1422,null,318,null,327,null,194,null,188]
["2023-03-31",863,{"$f":"AVERAGE(B381:B385)","v":871},1602,{"$f":"AVERAGE(D381:D385)","v":1609.6},1148,{"$f":"AVERAGE(F381:F385)","v":1165.4000000000001},2010,{"$f":"AVERAGE(H381:H385)","v":2130.1999999999998},1040,{"$f":"AVERAGE(J381:J385)","v":931.2},318,{"$f":"AVERAGE(L381:L385)","v":306.60000000000002},2609,{"$f":"AVERAGE(N381:N385)","v":2703.4},1756,{"$f":"AVERAGE(P381:P385)","v":1926.8},1721,{"$f":"AVERAGE(R381:R385)","v":1461.8},319,{"$f":"AVERAGE(T381:T385)","v":324.2},329,{"$f":"AVERAGE(V381:V385)","v":328},199,{"$f":"AVERAGE(X381:X385)","v":188},186,{"$f":"AVERAGE(Z381:Z385)","v":194.6}]
["2023-04-07",877,null,1621,null,1292,null,2147,null,1092,null,267,null,2655,null,1741,null,1817,null,320,null,329,null,196,null,184]
["2023-04-14",871,null,1618,null,1668,null,2565,null,1221,null,255,null,2749,null,1535,null,2005,null,324,null,332,null,191,null,171]
["2023-04-21",883,null,1605,null,1633,null,2510,null,1314,null,238,null,2684,null,1500,null,1989,null,324,null,332,null,193,null,172]
["2023-04-28",881,{"$f":"AVERAGE(B386:B389)","v":878},1609,{"$f":"AVERAGE(D386:D389)","v":1613.25},1453,{"$f":"AVERAGE(F386:F389)","v":1511.5},2418,{"$f":"AVERAGE(H386:H389)","v":2410},1297,{"$f":"AVERAGE(J386:J389)","v":1231},223,{"$f":"AVERAGE(L386:L389)","v":245.75},2661,{"$f":"AVERAGE(N386:N389)","v":2687.25},1454,{"$f":"AVERAGE(P386:P389)","v":1557.5},1914,{"$f":"AVERAGE(R386:R389)","v":1931.25},324,{"$f":"AVERAGE(T386:T389)","v":323},332,{"$f":"AVERAGE(V386:V389)","v":331.25},182,{"$f":"AVERAGE(X386:X389)","v":190.5},173,{"$f":"AVERAGE(Z386:Z389)","v":175}]
["2023-05-05",875,null,1616,null,1453,null,2396,null,1298,null,218,null,2683,null,1457,null,1929,null,324,null,332,null,180,null,170]
["2023-05-12",870,null,1624,null,1385,null,2381,null,1324,null,225,null,2744,null,1350,null,1955,null,321,null,329,null,173,null,144]
["2023-05-19",869,null,1628,null,1329,null,2365,null,1261,null,279,null,2759,null,1417,null,2009,null,321,null,329,null,174,null,140]
["2023-05-26",859,868,1651,1630,1398,1391,2374,2379,1276,1290,261,246,2787,2743,1393,1404,2073,1992,321,322,329,330,171,175,140,149]
["2023-06-02",846,null,1638,null,1666,null,2634,null,1297,null,254,null,2758,null,1375,null,2236,null,321,null,329,null,167,null,140]
["2023-06-09",831,null,1626,null,1388,null,2435,null,1280,null,273,null,2762,null,1357,null,2305,null,328,null,327,null,164,null,140]
["2023-06-16",808,null,1601,null,1207,null,2103,null,1238,null,269,null,2744,null,1332,null,2375,null,328,null,327,null,164,null,140]
["2023-06-23",793,null,1588,null,1173,null,2061,null,1226,null,272,null,2712,null,1317,null,2419,null,329,null,327,null,165,null,137]
[{"$f":"A397+7","v":"2023-06-30"},763,{"$f":"AVERAGE(B394:B398)","v":808.2},1466,{"$f":"AVERAGE(D394:D398)","v":1583.8},1408,{"$f":"AVERAGE(F394:F398)","v":1368.4},2368,{"$f":"AVERAGE(H394:H398)","v":2320.1999999999998},1226,{"$f":"AVERAGE(J394:J398)","v":1253.4000000000001},260,{"$f":"AVERAGE(L394:L398)","v":265.60000000000002},2672,{"$f":"AVERAGE(N394:N398)","v":2729.6},1297,{"$f":"AVERAGE(P394:P398)","v":1335.6},2532,{"$f":"AVERAGE(R394:R398)","v":2373.4},329,{"$f":"AVERAGE(T394:T398)","v":327},327,{"$f":"AVERAGE(V394:V398)","v":327.39999999999998},169,{"$f":"AVERAGE(X394:X398)","v":165.8},131,{"$f":"AVERAGE(Z394:Z398)","v":137.6}]
["2023-07-07",740,null,1413,null,1404,null,2368,null,1145,null,249,null,2663,null,1291,null,2616,null,327,null,335,null,153,null,131]
["2023-07-14",738,null,1412,null,1771,null,2662,null,1013,null,248,null,2666,null,1304,null,2665,null,327,null,335,null,156,null,131]
["2023-07-21",742,null,1407,null,1764,null,2676,null,938,null,257,null,2729,null,1293,null,2580,null,326,null,334,null,149,null,131]
["2023-07-28",975,{"$f":"AVERAGE(B399:B402)","v":798.75},1503,{"$f":"AVERAGE(D399:D402)","v":1433.75},1943,{"$f":"AVERAGE(F399:F402)","v":1720.5},2853,{"$f":"AVERAGE(H399:H402)","v":2639.75},839,{"$f":"AVERAGE(J399:J402)","v":983.75},318,{"$f":"AVERAGE(L399:L402)","v":268},2637,{"$f":"AVERAGE(N399:N402)","v":2673.75},1334,{"$f":"AVERAGE(P399:P402)","v":1305.5},2513,{"$f":"AVERAGE(R399:R402)","v":2593.5},326,{"$f":"AVERAGE(T399:T402)","v":326.5},334,{"$f":"AVERAGE(V399:V402)","v":334.5},143,{"$f":"AVERAGE(X399:X402)","v":150.25},131,{"$f":"AVERAGE(Z399:Z402)","v":131}]
["2023-08-04",947,null,1529,null,2002,null,3013,null,809,null,340,null,2572,null,1323,null,2451,null,326,null,334,null,143,null,165]
["2023-08-11",926,null,1507,null,2017,null,3071,null,853,null,435,null,2533,null,1379,null,2444,null,319,null,332,null,140,null,157]
["2023-08-18",852,null,1500,null,2003,null,3110,null,908,null,453,null,2501,null,1328,null,2285,null,313,null,318,null,144,null,157]
["2023-08-25",802,{"$f":"AVERAGE(B403:B406)","v":881.75},1455,{"$f":"AVERAGE(D403:D406)","v":1497.75},2006,{"$f":"AVERAGE(F403:F406)","v":2007},3052,{"$f":"AVERAGE(H403:H406)","v":3061.5},914,{"$f":"AVERAGE(J403:J406)","v":871},520,{"$f":"AVERAGE(L403:L406)","v":437},2472,{"$f":"AVERAGE(N403:N406)","v":2519.5},1377,{"$f":"AVERAGE(P403:P406)","v":1351.75},2107,{"$f":"AVERAGE(R403:R406)","v":2321.75},310,{"$f":"AVERAGE(T403:T406)","v":317},318,{"$f":"AVERAGE(V403:V406)","v":325.5},140,{"$f":"AVERAGE(X403:X406)","v":141.75},138,{"$f":"AVERAGE(Z403:Z406)","v":154.25}]
["2023-09-01",768,null,1364,null,2136,null,3132,null,962,null,588,null,2457,null,1355,null,2055,null,309,null,318,null,152,null,145]
["2023-09-08",714,null,1308,null,2037,null,2869,null,948,null,630,null,2403,null,1348,null,1924,null,310,null,318,null,162,null,145]
["2023-09-15",658,null,1248,null,1888,null,2550,null,864,null,617,null,2323,null,1324,null,1816,null,306,null,320,null,182,null,145]
["2023-09-22",623,null,1217,null,1790,null,2377,null,815,null,610,null,2220,null,1312,null,1793,null,308,null,322,null,174,null,147]
["2023-09-29",599,{"$f":"AVERAGE(B407:B411)","v":672.4},1166,{"$f":"AVERAGE(D407:D411)","v":1260.5999999999999},1729,{"$f":"AVERAGE(F407:F411)","v":1916},2249,{"$f":"AVERAGE(H407:H411)","v":2635.4},790,{"$f":"AVERAGE(J407:J411)","v":875.8},600,{"$f":"AVERAGE(L407:L411)","v":609},2183,{"$f":"AVERAGE(N407:N411)","v":2317.1999999999998},1305,{"$f":"AVERAGE(P407:P411)","v":1328.8},1756,{"$f":"AVERAGE(R407:R411)","v":1868.8},306,{"$f":"AVERAGE(T407:T411)","v":307.8},321,{"$f":"AVERAGE(V407:V411)","v":319.8},176,{"$f":"AVERAGE(X407:X411)","v":169.2},147,{"$f":"AVERAGE(Z407:Z411)","v":145.80000000000001}]
["2023-10-06","CHINA PH",null,"CHINA PH",null,"CHINA PH",null,"CHINA PH",null,"CHINA PH",null,"CHINA PH",null,"CHINA PH",null,"CHINA PH",null,"CHINA PH",null,"CHINA PH",null,"CHINA PH",null,"CHINA PH",null,"CHINA PH"]
["2023-10-13",562,null,1112,null,1735,null,2230,null,841,null,662,null,2247,null,1410,null,1922,null,306,null,319,null,180,null,140]
["2023-10-20",581,null,1109,null,1746,null,2198,null,962,null,709,null,2196,null,1465,null,2164,null,307,null,319,null,185,null,142]
["2023-10-27",769,{"$f":"AVERAGE(B412:B415)","v":637.33333333333337},1221,{"$f":"AVERAGE(D412:D415)","v":1147.3333333333333},1916,{"$f":"AVERAGE(F412:F415)","v":1799},2361,{"$f":"AVERAGE(H412:H415)","v":2263},1101,{"$f":"AVERAGE(J412:J415)","v":968},792,{"$f":"AVERAGE(L412:L415)","v":721},2307,{"$f":"AVERAGE(N412:N415)","v":2250},1514,{"$f":"AVERAGE(P412:P415)","v":1463},2425,{"$f":"AVERAGE(R412:R415)","v":2170.3333333333335},306,{"$f":"AVERAGE(T412:T415)","v":306.33333333333331},319,{"$f":"AVERAGE(V412:V415)","v":319},187,{"$f":"AVERAGE(X412:X415)","v":184},142,{"$f":"AVERAGE(Z412:Z415)","v":141.33333333333334}]
["2023-11-03",756,null,1231,null,2102,null,2434,null,1268,null,838,null,2341,null,1516,null,2660,null,307,null,319,null,192,null,142]
["2023-11-10",722,null,1184,null,1843,null,2354,null,1313,null,911,null,2295,null,1521,null,2767,null,307,null,321,null,194,null,142]
["2023-11-17",707,null,1147,null,1696,null,2351,null,1271,null,946,null,2237,null,1513,null,2812,null,304,null,319,null,194,null,139]
["2023-11-24",779,{"$f":"AVERAGE(B416:B419)","v":741},1182,{"$f":"AVERAGE(D416:D419)","v":1186},1627,{"$f":"AVERAGE(F416:F419)","v":1817},2316,{"$f":"AVERAGE(H416:H419)","v":2363.75},1198,{"$f":"AVERAGE(J416:J419)","v":1262.5},927,{"$f":"AVERAGE(L416:L419)","v":905.5},2246,{"$f":"AVERAGE(N416:N419)","v":2279.75},1518,{"$f":"AVERAGE(P416:P419)","v":1517},2700,{"$f":"AVERAGE(R416:R419)","v":2734.75},304,{"$f":"AVERAGE(T416:T419)","v":305.5},319,{"$f":"AVERAGE(V416:V419)","v":319.5},196,{"$f":"AVERAGE(X416:X419)","v":194},137,{"$f":"AVERAGE(Z416:Z419)","v":140}]
["2023-12-01",851,null,1260,null,1646,null,2446,null,1152,null,920,null,2198,null,1524,null,2578,null,304,null,319,null,200,null,137]
["2023-12-08",925,null,1387,null,1669,null,2441,null,1156,null,915,null,2164,null,1552,null,2483,null,301,null,309,null,200,null,137]
["2023-12-15",1029,null,1569,null,1819,null,2805,null,1175,null,916,null,2054,null,1560,null,2329,null,299,null,307,null,202,null,137]
["2023-12-22",1497,null,2054,null,1855,null,2982,null,1477,null,923,null,2054,null,1595,null,2340,null,299,null,306,null,207,null,138]
["2023-12-29",2694,{"$f":"AVERAGE(B420:B424)","v":1399.2},3491,{"$f":"AVERAGE(D420:D424)","v":1952.2},2553,{"$f":"AVERAGE(F420:F424)","v":1908.4},3559,{"$f":"AVERAGE(H420:H424)","v":2846.6},2045,{"$f":"AVERAGE(J420:J424)","v":1401},1051,{"$f":"AVERAGE(L420:L424)","v":945},2223,{"$f":"AVERAGE(N420:N424)","v":2138.6},1686,{"$f":"AVERAGE(P420:P424)","v":1583.4},2793,{"$f":"AVERAGE(R420:R424)","v":2504.6},299,{"$f":"AVERAGE(T420:T424)","v":300.39999999999998},306,{"$f":"AVERAGE(V420:V424)","v":309.39999999999998},208,{"$f":"AVERAGE(X420:X424)","v":203.4},138,{"$f":"AVERAGE(Z420:Z424)","v":137.4}]
["2024-01-05",2871,null,3620,null,2775,null,3931,null,2338,null,1084,null,2209,null,1741,null,2901,null,294,null,301,null,259,null,138]
["2024-01-12",3103,null,4037,null,3974,null,5813,null,2224,null,1211,null,2341,null,1805,null,2874,null,292,null,300,null,309,null,140]
["2024-01-19",3030,null,4067,null,4320,null,6262,null,1982,null,1258,null,2380,null,1848,null,2714,null,289,null,302,null,327,null,153]
["2024-01-26",2861,{"$f":"AVERAGE(B425:B428)","v":2966.25},3903,{"$f":"AVERAGE(D425:D428)","v":3906.75},4412,{"$f":"AVERAGE(F425:F428)","v":3870.25},6413,{"$f":"AVERAGE(H425:H428)","v":5604.75},1662,{"$f":"AVERAGE(J425:J428)","v":2051.5},1266,{"$f":"AVERAGE(L425:L428)","v":1204.75},2460,{"$f":"AVERAGE(N425:N428)","v":2347.5},1851,{"$f":"AVERAGE(P425:P428)","v":1811.25},2666,{"$f":"AVERAGE(R425:R428)","v":2788.75},289,{"$f":"AVERAGE(T425:T428)","v":291},302,{"$f":"AVERAGE(V425:V428)","v":301.25},320,{"$f":"AVERAGE(X425:X428)","v":303.75},159,{"$f":"AVERAGE(Z425:Z428)","v":147.5}]
[{"$f":"A428+7","v":"2024-02-02"},2723,null,3753,null,5005,null,6652,null,1586,null,1249,null,2464,null,1854,null,2552,null,289,null,302,null,305,null,157]
["2024-02-09",2648,null,3705,null,4833,null,6452,null,1550,null,1228,null,2480,null,1871,null,2567,null,289,null,302,null,302,null,156]
["2024-02-16","CNY break"]
["2024-02-23",2508,{"$f":"AVERAGE(B429:B432)","v":2626.3333333333335},3465,{"$f":"AVERAGE(D429:D432)","v":3641},4691,{"$f":"AVERAGE(F429:F432)","v":4843},6127,{"$f":"AVERAGE(H429:H432)","v":6410.333333333333},1701,{"$f":"AVERAGE(J429:J432)","v":1612.3333333333333},1213,{"$f":"AVERAGE(L429:L432)","v":1230},2397,{"$f":"AVERAGE(N429:N432)","v":2447},1912,{"$f":"AVERAGE(P429:P432)","v":1879},2625,{"$f":"AVERAGE(R429:R432)","v":2581.3333333333335},289,{"$f":"AVERAGE(T429:T432)","v":289},302,{"$f":"AVERAGE(V429:V432)","v":302},297,{"$f":"AVERAGE(X429:X432)","v":301.33333333333331},155,{"$f":"AVERAGE(Z429:Z432)","v":156}]
["2024-03-01",2277,null,3292,null,4262,null,5747,null,1715,null,1133,null,2310,null,1874,null,2625,null,289,null,302,null,285,null,153]
["2024-03-08",2134,null,3138,null,4039,null,5608,null,1599,null,1016,null,2265,null,1831,null,2596,null,289,null,302,null,278,null,148]
["2024-03-15",1971,null,2977,null,3776,null,5252,null,1410,null,907,null,2231,null,1783,null,2530,null,289,null,302,null,280,null,158]
["2024-03-22",1943,null,2887,null,3621,null,4842,null,1503,null,822,null,2194,null,1683,null,2550,null,288,null,300,null,281,null,158]
["2024-03-29",1994,{"$f":"AVERAGE(B433:B437)","v":2063.8000000000002},3009,{"$f":"AVERAGE(D433:D437)","v":3060.6},3407,{"$f":"AVERAGE(F433:F437)","v":3821},4447,{"$f":"AVERAGE(H433:H437)","v":5179.2},1697,{"$f":"AVERAGE(J433:J437)","v":1584.8},729,{"$f":"AVERAGE(L433:L437)","v":921.4},2168,{"$f":"AVERAGE(N433:N437)","v":2233.6},1665,{"$f":"AVERAGE(P433:P437)","v":1767.2},2788,{"$f":"AVERAGE(R433:R437)","v":2617.8000000000002},288,{"$f":"AVERAGE(T433:T437)","v":288.60000000000002},297,{"$f":"AVERAGE(V433:V437)","v":300.60000000000002},284,{"$f":"AVERAGE(X433:X437)","v":281.60000000000002},155,{"$f":"AVERAGE(Z433:Z437)","v":154.4}]
["2024-04-05",1997,null,3014,null,3308,null,4359,null,1894,null,701,null,2167,null,1753,null,3082,null,296,null,302,null,283,null,155]
["2024-04-12",1971,null,3010,null,3205,null,4179,null,2051,null,824,null,2363,null,1781,null,3627,null,294,null,309,null,280,null,155]
["2024-04-19",1971,null,3048,null,3175,null,4071,null,2032,null,853,null,2468,null,1804,null,4153,null,292,null,305,null,295,null,164]
["2024-04-26",2300,{"$f":"AVERAGE(B438:B441)","v":2059.75},3235,{"$f":"AVERAGE(D438:D441)","v":3076.75},3602,{"$f":"AVERAGE(F438:F441)","v":3322.5},4661,{"$f":"AVERAGE(H438:H441)","v":4317.5},2047,{"$f":"AVERAGE(J438:J441)","v":2006},929,{"$f":"AVERAGE(L438:L441)","v":826.75},2719,{"$f":"AVERAGE(N438:N441)","v":2429.25},2043,{"$f":"AVERAGE(P438:P441)","v":1845.25},4623,{"$f":"AVERAGE(R438:R441)","v":3871.25},292,{"$f":"AVERAGE(T438:T441)","v":293.5},305,{"$f":"AVERAGE(V438:V441)","v":305.25},307,{"$f":"AVERAGE(X438:X441)","v":291.25},158,{"$f":"AVERAGE(Z438:Z441)","v":158}]
["2024-05-03","Public Holiday in China"]
["2024-05-10",2869,null,3915,null,4393,null,5562,null,2124,null,1169,null,3767,null,2657,null,5461,null,287,null,309,null,362,null,161]
["2024-05-17",3050,null,3957,null,5025,null,6026,null,2221,null,1259,null,4605,null,3365,null,6686,null,292,null,305,null,406,null,181]
["2024-05-24",3409,null,4248,null,5189,null,6482,null,2391,null,1289,null,5352,null,3888,null,7065,null,292,null,305,null,450,null,161]
["2024-05-31",3740,{"$f":"AVERAGE(B442:B446)","v":3267},4720,{"$f":"AVERAGE(D442:D446)","v":4210},6168,{"$f":"AVERAGE(F442:F446)","v":5193.75},7206,{"$f":"AVERAGE(H442:H446)","v":6319},2542,{"$f":"AVERAGE(J442:J446)","v":2319.5},1342,{"$f":"AVERAGE(L442:L446)","v":1264.75},6151,{"$f":"AVERAGE(N442:N446)","v":4968.75},4824,{"$f":"AVERAGE(P442:P446)","v":3683.5},7408,{"$f":"AVERAGE(R442:R446)","v":6655},293,{"$f":"AVERAGE(T442:T446)","v":291},299,{"$f":"AVERAGE(V442:V446)","v":304.5},547,{"$f":"AVERAGE(X442:X446)","v":441.25},163,{"$f":"AVERAGE(Z442:Z446)","v":166.5}]
["2024-06-07",3949,null,4784,null,6209,null,7447,null,2855,null,1440,null,6142,null,5205,null,7936,null,293,null,299,null,627,null,163]
["2024-06-14",4179,null,4848,null,6906,null,7993,null,2950,null,1382,null,5888,null,5478,null,8263,null,293,null,299,null,679,null,163]
["2024-06-21",4336,null,4855,null,7173,null,8277,null,2893,null,1406,null,5776,null,5541,null,8558,null,293,null,299,null,739,null,169]
["2024-06-28",4880,{"$f":"AVERAGE(B447:B450)","v":4336},5387,{"$f":"AVERAGE(D447:D450)","v":4968.5},7830,{"$f":"AVERAGE(F447:F450)","v":7029.5},9274,{"$f":"AVERAGE(H447:H450)","v":8247.75},2711,{"$f":"AVERAGE(J447:J450)","v":2852.25},1397,{"$f":"AVERAGE(L447:L450)","v":1406.25},5681,{"$f":"AVERAGE(N447:N450)","v":5871.75},5584,{"$f":"AVERAGE(P447:P450)","v":5452},8854,{"$f":"AVERAGE(R447:R450)","v":8402.75},293,{"$f":"AVERAGE(T447:T450)","v":293},299,{"$f":"AVERAGE(V447:V450)","v":299},743,{"$f":"AVERAGE(X447:X450)","v":697},172,{"$f":"AVERAGE(Z447:Z450)","v":166.75}]
["2024-07-05",4857,null,5432,null,8103,null,9945,null,2436,null,1375,null,5563,null,5426,null,9026,null,293,null,299,null,730,null,166]
["2024-07-12",5051,null,5424,null,7654,null,9881,null,2273,null,1404,null,5187,null,5099,null,8760,null,293,null,299,null,753,null,162]
["2024-07-19",5000,null,5361,null,7124,null,9751,null,2193,null,1385,null,5056,null,4954,null,8212,null,293,null,299,null,711,null,165]
["2024-07-26",4991,{"$f":"AVERAGE(B451:B454)","v":4974.75},5270,{"$f":"AVERAGE(D451:D454)","v":5371.75},6663,{"$f":"AVERAGE(F451:F454)","v":7386},9557,{"$f":"AVERAGE(H451:H454)","v":9783.5},2219,{"$f":"AVERAGE(J451:J454)","v":2280.25},1482,{"$f":"AVERAGE(L451:L454)","v":1411.5},5013,{"$f":"AVERAGE(N451:N454)","v":5204.75},4875,{"$f":"AVERAGE(P451:P454)","v":5088.5},7939,{"$f":"AVERAGE(R451:R454)","v":8484.25},293,{"$f":"AVERAGE(T451:T454)","v":293},299,{"$f":"AVERAGE(V451:V454)","v":299},673,{"$f":"AVERAGE(X451:X454)","v":716.75},165,{"$f":"AVERAGE(Z451:Z454)","v":164.5}]
["2024-08-02",4907,null,4997,null,6245,null,9346,null,2217,null,1581,null,5064,null,4882,null,7867,null,293,null,299,null,628,null,162]
["2024-08-09",4786,null,4733,null,6068,null,9083,null,2208,null,1776,null,5068,null,4800,null,7987,null,293,null,299,null,595,null,162]
["2024-08-16",4610,null,4645,null,6581,null,9297,null,2139,null,1911,null,5015,null,4809,null,7730,null,293,null,299,null,578,null,162]
["2024-08-23",4400,null,4523,null,5955,null,8546,null,1969,null,2072,null,5004,null,4836,null,7562,null,293,null,299,null,544,null,162]
["2024-08-30",3876,{"$f":"AVERAGE(B455:B459)","v":4515.8},4083,{"$f":"AVERAGE(D455:D459)","v":4596.2},6140,{"$f":"AVERAGE(F455:F459)","v":6197.8},8439,{"$f":"AVERAGE(H455:H459)","v":8942.2000000000007},1756,{"$f":"AVERAGE(J455:J459)","v":2057.8000000000002},2235,{"$f":"AVERAGE(L455:L459)","v":1915},4873,{"$f":"AVERAGE(N455:N459)","v":5004.8},4754,{"$f":"AVERAGE(P455:P459)","v":4816.2},7698,{"$f":"AVERAGE(R455:R459)","v":7768.8},293,{"$f":"AVERAGE(T455:T459)","v":293},299,{"$f":"AVERAGE(V455:V459)","v":299},497,{"$f":"AVERAGE(X455:X459)","v":568.4},161,{"$f":"AVERAGE(Z455:Z459)","v":161.80000000000001}]
["2024-09-06",3459,null,3823,null,5605,null,7511,null,1509,null,2268,null,4850,null,4626,null,7523,null,298,null,305,null,467,null,139]
["2024-09-13",2841,null,3365,null,5494,null,6838,null,1264,null,2267,null,4656,null,4539,null,7301,null,298,null,306,null,447,null,147]
[{"$f":"A461+7","v":"2024-09-20"},2592,null,2955,null,5341,null,6486,null,1147,null,2193,null,4589,null,4361,null,6990,null,301,null,309,null,412,null,141]
["2024-09-27",2250,{"$f":"AVERAGE(B460:B463)","v":2785.5},2541,{"$f":"AVERAGE(D460:D463)","v":3171},4852,{"$f":"AVERAGE(F460:F463)","v":5323},5626,{"$f":"AVERAGE(H460:H463)","v":6615.25},962,{"$f":"AVERAGE(J460:J463)","v":1220.5},2008,{"$f":"AVERAGE(L460:L463)","v":2184},4489,{"$f":"AVERAGE(N460:N463)","v":4646},4245,{"$f":"AVERAGE(P460:P463)","v":4442.75},6439,{"$f":"AVERAGE(R460:R463)","v":7063.25},301,{"$f":"AVERAGE(T460:T463)","v":299.5},307,{"$f":"AVERAGE(V460:V463)","v":306.75},396,{"$f":"AVERAGE(X460:X463)","v":430.5},144,{"$f":"AVERAGE(Z460:Z463)","v":142.75}]
["2024-10-04",2250,null,2541,null,4852,null,5626,null,962,null,2008,null,4489,null,4245,null,6439,null,301,null,307,null,396,null,144]
["2024-10-11",2040,null,2369,null,4730,null,5554,null,986,null,1966,null,4380,null,4204,null,6341,null,302,null,304,null,389,null,144]
["2024-10-18",1950,null,2312,null,4726,null,4969,null,1193,null,2026,null,4428,null,4254,null,6235,null,302,null,304,null,420,null,144]
["2024-10-25",2226,{"$f":"AVERAGE(B464:B467)","v":2116.5},2555,{"$f":"AVERAGE(D464:D467)","v":2444.25},4783,{"$f":"AVERAGE(F464:F467)","v":4772.75},5099,{"$f":"AVERAGE(H464:H467)","v":5312},1427,{"$f":"AVERAGE(J464:J467)","v":1142},2058,{"$f":"AVERAGE(L464:L467)","v":2014.5},4504,{"$f":"AVERAGE(N464:N467)","v":4450.25},4233,{"$f":"AVERAGE(P464:P467)","v":4234},6285,{"$f":"AVERAGE(R464:R467)","v":6325},304,{"$f":"AVERAGE(T464:T467)","v":302.25},305,{"$f":"AVERAGE(V464:V467)","v":305},464,{"$f":"AVERAGE(X464:X467)","v":417.25},146,{"$f":"AVERAGE(Z464:Z467)","v":144.5}]
["2024-11-01",2442,null,2907,null,4826,null,5258,null,1507,null,2145,null,4610,null,4296,null,6359,null,304,null,305,null,536,null,147]
["2024-11-08",2541,null,3055,null,4729,null,5281,null,1480,null,2190,null,4615,null,4149,null,5931,null,304,null,305,null,601,null,147]
["2024-11-15",2512,null,3080,null,4181,null,5062,null,1421,null,2159,null,4546,null,4012,null,5515,null,304,null,305,null,670,null,138]
["2024-11-22",2481,null,3071,null,3821,null,4997,null,1317,null,2038,null,4490,null,3868,null,5259,null,304,null,305,null,647,null,138]
["2024-11-29",3039,{"$f":"AVERAGE(B468:B472)","v":2603},3682,{"$f":"AVERAGE(D468:D472)","v":3159},3345,{"$f":"AVERAGE(F468:F472)","v":4180.3999999999996},4954,{"$f":"AVERAGE(H468:H472)","v":5110.3999999999996},1362,{"$f":"AVERAGE(J468:J472)","v":1417.4},1850,{"$f":"AVERAGE(L468:L472)","v":2076.4},4480,{"$f":"AVERAGE(N468:N472)","v":4548.2},3776,{"$f":"AVERAGE(P468:P472)","v":4020.2},5346,{"$f":"AVERAGE(R468:R472)","v":5682},304,{"$f":"AVERAGE(T468:T472)","v":304},307,{"$f":"AVERAGE(V468:V472)","v":305.39999999999998},660,{"$f":"AVERAGE(X468:X472)","v":622.79999999999995},139,{"$f":"AVERAGE(Z468:Z472)","v":141.80000000000001}]
["2024-12-06",3030,null,3761,null,3309,null,4924,null,1474,null,1769,null,4521,null,3648,null,5711,null,306,null,309,null,682,null,138]
["2024-12-13",2963,null,3746,null,4023,null,5494,null,1507,null,1922,null,4542,null,3579,null,5608,null,304,null,307,null,725,null,138]
["2024-12-20",2946,null,3733,null,4198,null,5642,null,1429,null,1952,null,4522,null,3511,null,5351,null,304,null,307,null,711,null,140]
["2024-12-27",2962,{"$f":"AVERAGE(B473:B476)","v":2975.25},3780,{"$f":"AVERAGE(D473:D476)","v":3755},4581,{"$f":"AVERAGE(F473:F476)","v":4027.75},6074,{"$f":"AVERAGE(H473:H476)","v":5533.5},1444,{"$f":"AVERAGE(J473:J476)","v":1463.5},2110,{"$f":"AVERAGE(L473:L476)","v":1938.25},4531,{"$f":"AVERAGE(N473:N476)","v":4529},3466,{"$f":"AVERAGE(P473:P476)","v":3551},5468,{"$f":"AVERAGE(R473:R476)","v":5534.5},316,{"$f":"AVERAGE(T473:T476)","v":307.5},316,{"$f":"AVERAGE(V473:V476)","v":309.75},672,{"$f":"AVERAGE(X473:X476)","v":697.5},140,{"$f":"AVERAGE(Z473:Z476)","v":139}]
["2025-01-03",2851,null,3747,null,4997,null,6418,null,1472,null,2147,null,4521,null,3507,null,5344,null,317,null,317,null,655,null,141]
["2025-01-10",2440,null,3477,null,4682,null,6229,null,1397,null,1838,null,4412,null,3405,null,4637,null,305,null,308,null,564,null,139,null,1820.05,null,1377.21]
["2025-01-17",2279,null,3327,null,4232,null,5960,null,1311,null,1478,null,4259,null,3219,null,4304,null,305,null,308,null,524,null,139,null,1680.05,null,1354.53]
["2025-01-24",2147,null,3207,null,4116,null,5776,null,1210,null,1369,null,4213,null,3146,null,3863,null,305,null,308,null,508,null,139,null,1527.95,null,1338.11]
["2025-01-31",2147,{"$f":"AVERAGE(B477:B481)","v":2372.8000000000002},3207,{"$f":"AVERAGE(D477:D481)","v":3393},4116,{"$f":"AVERAGE(F477:F481)","v":4428.6000000000004},5776,{"$f":"AVERAGE(H477:H481)","v":6031.8},1210,{"$f":"AVERAGE(J477:J481)","v":1320},1369,{"$f":"AVERAGE(L477:L481)","v":1640.2},4213,{"$f":"AVERAGE(N477:N481)","v":4323.6000000000004},3146,{"$f":"AVERAGE(P477:P481)","v":3284.6},3863,{"$f":"AVERAGE(R477:R481)","v":4402.2},305,{"$f":"AVERAGE(T477:T481)","v":307.39999999999998},308,{"$f":"AVERAGE(V477:V481)","v":309.8},508,{"$f":"AVERAGE(X477:X481)","v":551.79999999999995},139,{"$f":"AVERAGE(Z477:Z481)","v":139.4},null,{"$f":"AVERAGE(AB477:AB481)","v":1676.0166666666667},null,{"$f":"AVERAGE(AD477:AD481)","v":1356.6166666666666}]
["2025-02-07",1805,null,3036,null,3932,null,5490,null,1191,null,1085,null,4166,null,3011,null,3435,null,305,null,308,null,454,null,138,null,1682.3,null,1358.8]
["2025-02-14",1608,null,2815,null,3544,null,4825,null,1144,null,967,null,4074,null,2867,null,3359,null,305,null,308,null,457,null,137,null,2123.62,null,1363.8]
["2025-02-21",1578,null,2624,null,2907,null,3954,null,1102,null,826,null,3987,null,2753,null,2947,null,305,null,308,null,440,null,137,null,1890.29,null,1381.35]
["2025-02-28",1693,{"$f":"AVERAGE(B482:B485)","v":1671},2594,{"$f":"AVERAGE(D482:D485)","v":2767.25},2482,{"$f":"AVERAGE(F482:F485)","v":3216.25},3508,{"$f":"AVERAGE(H482:H485)","v":4444.25},1015,{"$f":"AVERAGE(J482:J485)","v":1113},745,{"$f":"AVERAGE(L482:L485)","v":905.75},3791,{"$f":"AVERAGE(N482:N485)","v":4004.5},2526,{"$f":"AVERAGE(P482:P485)","v":2789.25},2770,{"$f":"AVERAGE(R482:R485)","v":3127.75},305,{"$f":"AVERAGE(T482:T485)","v":305},308,{"$f":"AVERAGE(V482:V485)","v":308},441,{"$f":"AVERAGE(X482:X485)","v":448},137,{"$f":"AVERAGE(Z482:Z485)","v":137.25},1648.81,{"$f":"AVERAGE(AB482:AB485)","v":1836.2550000000001},1389.8,{"$f":"AVERAGE(AD482:AD485)","v":1373.4375}]
["2025-03-07",1582,null,2517,null,2291,null,3329,null,975,null,629,null,3660,null,2294,null,2422,null,304,null,308,null,439,null,137,null,1560.05,null,1466.15]
["2025-03-14",1342,null,2295,null,1965,null,2977,null,976,null,735,null,3651,null,2207,null,1945,null,304,null,308,null,446,null,137,null,1454.57,null,1491.3]
["2025-03-21",1306,null,2195,null,1872,null,2866,null,1059,null,755,null,3634,null,2123,null,1680,null,304,null,310,null,446,null,137,null,1362.9,null,1430.4]
["2025-03-28",1318,{"$f":"AVERAGE(B486:B489)","v":1387},2076,{"$f":"AVERAGE(D486:D489)","v":2270.75},2177,{"$f":"AVERAGE(F486:F489)","v":2076.25},3194,{"$f":"AVERAGE(H486:H489)","v":3091.5},1188,{"$f":"AVERAGE(J486:J489)","v":1049.5},828,{"$f":"AVERAGE(L486:L489)","v":736.75},3708,{"$f":"AVERAGE(N486:N489)","v":3663.25},2172,{"$f":"AVERAGE(P486:P489)","v":2199},1669,{"$f":"AVERAGE(R486:R489)","v":1929},319,{"$f":"AVERAGE(T486:T489)","v":307.75},324,{"$f":"AVERAGE(V486:V489)","v":312.5},433,{"$f":"AVERAGE(X486:X489)","v":441},141,{"$f":"AVERAGE(Z486:Z489)","v":138},1480.76,{"$f":"AVERAGE(AB486:AB489)","v":1464.5700000000002},1431.1,{"$f":"AVERAGE(AD486:AD489)","v":1454.7375000000002}]
[{"$f":"A489+6","v":"2025-04-03"},1336,null,2028,null,2313,null,3306,null,1290,null,839,null,3749,null,2192,null,1436,null,322,null,327,null,445,null,142,null,1531.19,null,1465.7]
[{"$f":"A490+8","v":"2025-04-11"},1356,null,2144,null,2202,null,3226,null,1309,null,890,null,3894,null,2151,null,1566,null,316,null,321,null,448,null,142,null,1482.38,null,1422.7]
["2025-04-18",1316,null,2161,null,2103,null,3251,null,1266,null,891,null,3853,null,2076,null,1573,null,316,null,321,null,450,null,146,null,1455,null,1459.15]
["2025-04-25",1260,{"$f":"AVERAGE(B490:B493)","v":1317},2129,{"$f":"AVERAGE(D490:D493)","v":2115.5},2141,{"$f":"AVERAGE(F490:F493)","v":2189.75},3257,{"$f":"AVERAGE(H490:H493)","v":3260},1161,{"$f":"AVERAGE(J490:J493)","v":1256.5},855,{"$f":"AVERAGE(L490:L493)","v":868.75},3749,{"$f":"AVERAGE(N490:N493)","v":3811.25},2043,{"$f":"AVERAGE(P490:P493)","v":2115.5},1414,{"$f":"AVERAGE(R490:R493)","v":1497.25},316,{"$f":"AVERAGE(T490:T493)","v":317.5},321,{"$f":"AVERAGE(V490:V493)","v":322.5},454,{"$f":"AVERAGE(X490:X493)","v":449.25},146,{"$f":"AVERAGE(Z490:Z493)","v":144},1418.1,{"$f":"AVERAGE(AB490:AB493)","v":1471.6675},1539.85,{"$f":"AVERAGE(AD490:AD493)","v":1471.85}]
[{"$f":"A493+5","v":"2025-04-30"},1200,null,2089,null,2272,null,3283,null,1122,null,814,null,3729,null,2026,null,1393,null,316,null,321,null,438,null,147,null,1410.95,null,1636.35]
[{"$f":"A494+9","v":"2025-05-09"},1161,null,2089,null,2347,null,3335,null,1145,null,771,null,3740,null,1975,null,1472,null,316,null,320,null,null,null,148,null,1432.14,null,1772.7]
["2025-05-16",1154,null,2082,null,3091,null,4069,null,1191,null,737,null,3714,null,1970,null,1725,null,315,null,320,null,434,null,144,null,1584.75,null,2051.61]
["2025-05-23",1317,null,2328,null,3275,null,4284,null,1387,null,722,null,3776,null,1991,null,1934,null,315,null,320,null,440,null,140,null,2387.25,null,2151.89]
["2025-05-30",1587,{"$f":"AVERAGE(B494:B498)","v":1283.8},3061,{"$f":"AVERAGE(D494:D498)","v":2329.8000000000002},5172,{"$f":"AVERAGE(F494:F498)","v":3231.4},6243,{"$f":"AVERAGE(H494:H498)","v":4242.8},1692,{"$f":"AVERAGE(J494:J498)","v":1307.4000000000001},709,{"$f":"AVERAGE(L494:L498)","v":750.6},4060,{"$f":"AVERAGE(N494:N498)","v":3803.8},2242,{"$f":"AVERAGE(P494:P498)","v":2040.8},2797,{"$f":"AVERAGE(R494:R498)","v":1864.2},315,{"$f":"AVERAGE(T494:T498)","v":315.39999999999998},320,{"$f":"AVERAGE(V494:V498)","v":320.2},441,{"$f":"AVERAGE(X494:X498)","v":438.25},139,{"$f":"AVERAGE(Z494:Z498)","v":143.6},3964.72,{"$f":"AVERAGE(AB494:AB498)","v":2155.962},2509.94,{"$f":"AVERAGE(AD494:AD498)","v":2024.498}]
["2025-06-06",1667,null,3302,null,5606,null,6939,null,1929,null,686,null,4230,null,2301,null,3959,null,315,null,320,null,446,null,138,null,4583.24,null,2621.41]
["2025-06-13",1844,null,3190,null,4120,null,6745,null,2083,null,745,null,4382,null,2397,null,4724,null,315,null,320,null,455,null,136,null,3714.05,null,2771.79]
["2025-06-20",1835,null,3063,null,2772,null,5352,null,2122,null,763,null,4440,null,2476,null,5459,null,315,null,319,null,460,null,136,null,2555,null,2594.9]
["2025-06-27",2030,{"$f":"AVERAGE(B499:B502)","v":1844},2985,3135,2578,3769,4717,5938.25,2060,2048.5,836,757.5,4526,4394.5,2641,2453.75,6220,5090.5,312,314.25,321,320,456,454.25,136,136.5,2346,3299.5725000000002,2583,2642.7750000000001]
["2025-07-04",2101,null,2869,null,2089,null,4124,null,1916,null,853,null,4500,null,2653,null,6374,null,312,null,321,null,453,null,136,null,2180,null,2642]
["2025-07-11",2099,null,2667,null,2194,null,4172,null,1607,null,1021,null,4437,null,2828,null,6221,null,312,null,321,null,451,null,136,null,2107,null,2624]
["2025-07-18",2079,null,2528,null,2142,null,3612,null,1321,null,1042,null,4312,null,2851,null,5628,null,313,null,322,null,442,null,136,null,1877,null,2710]
["2025-07-25",2090,{"$f":"AVERAGE(B503:B506)","v":2092.25},2418,{"$f":"AVERAGE(D503:D506)","v":2620.5},2067,{"$f":"AVERAGE(F503:F506)","v":2123},3378,{"$f":"AVERAGE(H503:H506)","v":3821.5},1152,{"$f":"AVERAGE(J503:J506)","v":1499},1071,{"$f":"AVERAGE(L503:L506)","v":996.75},4273,{"$f":"AVERAGE(N503:N506)","v":4380.5},2961,{"$f":"AVERAGE(P503:P506)","v":2823.25},5188,{"$f":"AVERAGE(R503:R506)","v":5852.75},315,{"$f":"AVERAGE(T503:T506)","v":313},324,{"$f":"AVERAGE(V503:V506)","v":322},429,{"$f":"AVERAGE(X503:X506)","v":443.75},135,{"$f":"AVERAGE(Z503:Z506)","v":135.75},2081,{"$f":"AVERAGE(AB503:AB506)","v":2061.25},2583,{"$f":"AVERAGE(AD503:AD506)","v":2639.75}]
["2025-08-01",2051,null,2333,null,2021,null,3126,null,1153,null,1121,null,4232,null,3022,null,4662,null,313,null,322,null,412,null,138,null,2175,null,2581]
["2025-08-08",1961,null,2318,null,1823,null,2792,null,1233,null,1197,null,4153,null,2996,null,3811,null,313,null,322,null,409,null,136,null,2154,null,2532]
["2025-08-15",1820,null,2279,null,1759,null,2719,null,1381,null,1239,null,4074,null,3008,null,3340,null,313,null,324,null,406,null,138,null,2385,null,2496]
["2025-08-22",1668,null,2225,null,1644,null,2613,null,1479,null,1267,null,4015,null,2996,null,3107,null,314,null,323,null,398,null,139,null,2475,null,2491]
["2025-08-29",1481,{"$f":"AVERAGE(B507:B511)","v":1796.2},2145,{"$f":"AVERAGE(D507:D511)","v":2260},1923,{"$f":"AVERAGE(F507:F511)","v":1834},2866,{"$f":"AVERAGE(H507:H511)","v":2823.2},1579,{"$f":"AVERAGE(J507:J511)","v":1365},1325,{"$f":"AVERAGE(L507:L511)","v":1229.8},3977,{"$f":"AVERAGE(N508:N511)","v":4054.75},2984,{"$f":"AVERAGE(P507:P511)","v":3001.2},3027,{"$f":"AVERAGE(R507:R511)","v":3589.4},314,{"$f":"AVERAGE(T507:T511)","v":313.39999999999998},323,{"$f":"AVERAGE(V507:V511)","v":322.8},419,{"$f":"AVERAGE(X507:X511)","v":408.8},139,{"$f":"AVERAGE(Z507:Z511)","v":138},2636,{"$f":"AVERAGE(AB507:AB511)","v":2365},2509,{"$f":"AVERAGE(AD507:AD511)","v":2521.8000000000002}]
["2025-09-05",1315,null,1971,null,2189,null,3073,null,1519,null,1313,null,3994,null,2990,null,3199,null,313,null,322,null,419,null,139,null,2363,null,2538]
["2025-09-12",1154," ",1738," ",2370," ",3307," ",1273," ",1259," ",3934," ",2977," ",3018," ",312," ",321," ",420," ",138," ",1801," ",2517]
["2025-09-19",1052,null,1638,null,1636,null,2557,null,991,null,1158,null,3770,null,2859,null,2497,null,312,null,321,null,422,null,138,null,1431,null,2472]
["2025-09-26",971,{"$f":"AVERAGE(B512:B515)","v":1123},1485,{"$f":"AVERAGE(D512:D515)","v":1708},1460,{"$f":"AVERAGE(F512:F515)","v":1913.75},2385,{"$f":"AVERAGE(H512:H515)","v":2830.5},843,{"$f":"AVERAGE(J512:J515)","v":1156.5},1093,{"$f":"AVERAGE(L512:L515)","v":1205.75},3739,{"$f":"AVERAGE(N512:N515)","v":3859.25},2826,{"$f":"AVERAGE(P512:P515)","v":2913},2133,{"$f":"AVERAGE(R512:R515)","v":2711.75},312,{"$f":"AVERAGE(T512:T515)","v":312.25},321,{"$f":"AVERAGE(V512:V515)","v":321.25},418,{"$f":"AVERAGE(X512:X515)","v":419.75},138,{"$f":"AVERAGE(Z512:Z515)","v":138.25},1288,{"$f":"AVERAGE(AB512:AB515)","v":1720.75},2351,2469.5]
["2025-10-03",971,null,1485,null,1460,null,2385,null,843,null,1093,null,3739,null,2826,null,2133,null,312,null,321,null,418,null,138,null,1288,null,2351]
[]
[{"$f":"A516+7","v":"2025-10-10"},1068,null,1558,null,1468,null,2452,null,975,null,1159,null,3763,null,2830,null,2446,null,312,null,321,null,411,null,138,null,1585,null,2456]
["2025-10-17"]
["2025-10-24"]
["2025-10-31",null,{"$f":"AVERAGE(B516:B521)","v":1019.5},null,{"$f":"AVERAGE(D516:D521)","v":1521.5},null,{"$f":"AVERAGE(F516:F521)","v":1464},null,{"$f":"AVERAGE(H516:H521)","v":2418.5},null,{"$f":"AVERAGE(J516:J521)","v":909},null,{"$f":"AVERAGE(L516:L521)","v":1126},null,{"$f":"AVERAGE(N516:N521)","v":3751},null,{"$f":"AVERAGE(P516:P521)","v":2828},null,{"$f":"AVERAGE(R516:R521)","v":2289.5},null,{"$f":"AVERAGE(T516:T521)","v":312},null,{"$f":"AVERAGE(V516:V521)","v":321},null,{"$f":"AVERAGE(X516:X521)","v":414.5},null,{"$f":"AVERAGE(Z516:Z521)","v":138},null,{"$f":"AVERAGE(AB516:AB521)","v":1436.5},null,2403.5]
["2025-11-07"]
["2025-11-14"]
["2025-11-21"]
["2025-11-28",null,{"$f":"AVERAGE(B522:B525)","v":{"$error":"#DIV/0!"}},null,{"$f":"AVERAGE(D522:D525)","v":{"$error":"#DIV/0!"}},null,{"$f":"AVERAGE(F522:F525)","v":{"$error":"#DIV/0!"}},null,{"$f":"AVERAGE(H522:H525)","v":{"$error":"#DIV/0!"}},null,{"$f":"AVERAGE(J522:J525)","v":{"$error":"#DIV/0!"}},null,{"$f":"AVERAGE(L522:L525)","v":{"$error":"#DIV/0!"}},null,{"$f":"AVERAGE(N522:N525)","v":{"$error":"#DIV/0!"}},null,{"$f":"AVERAGE(P522:P525)","v":{"$error":"#DIV/0!"}},null,{"$f":"AVERAGE(R522:R525)","v":{"$error":"#DIV/0!"}},null,{"$f":"AVERAGE(T522:T525)","v":{"$error":"#DIV/0!"}},null,{"$f":"AVERAGE(V522:V525)","v":{"$error":"#DIV/0!"}},null,{"$f":"AVERAGE(X522:X525)","v":{"$error":"#DIV/0!"}},null,{"$f":"AVERAGE(Z522:Z525)","v":{"$error":"#DIV/0!"}},null,{"$f":"AVERAGE(AB522:AB525)","v":{"$error":"#DIV/0!"}},null,{"$error":"#DIV/0!"}]
["2025-12-05"]
[{"$f":"A526+7","v":"2025-12-12"}]
["2025-12-19"]
["2025-12-26",null,{"$f":"AVERAGE(B526:B529)","v":{"$error":"#DIV/0!"}},null,{"$f":"AVERAGE(D526:D529)","v":{"$error":"#DIV/0!"}},null,{"$f":"AVERAGE(F526:F529)","v":{"$error":"#DIV/0!"}},null,{"$f":"AVERAGE(H526:H529)","v":{"$error":"#DIV/0!"}},null,{"$f":"AVERAGE(J526:J529)","v":{"$error":"#DIV/0!"}},null,{"$f":"AVERAGE(L526:L529)","v":{"$error":"#DIV/0!"}},null,{"$f":"AVERAGE(N526:N529)","v":{"$error":"#DIV/0!"}},null,{"$f":"AVERAGE(P526:P529)","v":{"$error":"#DIV/0!"}},null,{"$f":"AVERAGE(R526:R529)","v":{"$error":"#DIV/0!"}},null,{"$f":"AVERAGE(T526:T529)","v":{"$error":"#DIV/0!"}},null,{"$f":"AVERAGE(V526:V529)","v":{"$error":"#DIV/0!"}},null,{"$f":"AVERAGE(X526:X529)","v":{"$error":"#DIV/0!"}},null,{"$f":"AVERAGE(Z526:Z529)","v":{"$error":"#DIV/0!"}},null,{"$f":"AVERAGE(AB526:AB529)","v":{"$error":"#DIV/0!"}},null,{"$error":"#DIV/0!"}]
["2026-01-02"]
["2026-01-09"]
["2026-01-16"]
["2026-01-23"]
["2026-01-30",null,{"$f":"AVERAGE(B530:B534)","v":{"$error":"#DIV/0!"}},null,{"$f":"AVERAGE(D530:D534)","v":{"$error":"#DIV/0!"}},null,{"$f":"AVERAGE(F530:F534)","v":{"$error":"#DIV/0!"}},null,{"$f":"AVERAGE(H530:H534)","v":{"$error":"#DIV/0!"}},null,{"$f":"AVERAGE(J530:J534)","v":{"$error":"#DIV/0!"}},null,{"$f":"AVERAGE(L530:L534)","v":{"$error":"#DIV/0!"}},null,{"$f":"AVERAGE(N530:N534)","v":{"$error":"#DIV/0!"}},null,{"$f":"AVERAGE(P530:P534)","v":{"$error":"#DIV/0!"}},null,{"$f":"AVERAGE(R530:R534)","v":{"$error":"#DIV/0!"}},null,{"$f":"AVERAGE(T530:T534)","v":{"$error":"#DIV/0!"}},null,{"$f":"AVERAGE(V530:V534)","v":{"$error":"#DIV/0!"}},null,{"$f":"AVERAGE(X530:X534)","v":{"$error":"#DIV/0!"}},null,{"$f":"AVERAGE(Z530:Z534)","v":{"$error":"#DIV/0!"}},null,{"$f":"AVERAGE(AB530:AB534)","v":{"$error":"#DIV/0!"}},null,{"$error":"#DIV/0!"}]
["2026-02-06"]
["2026-02-13"]
["2026-02-20"]
["2026-02-27",null,{"$f":"AVERAGE(B535:B538)","v":{"$error":"#DIV/0!"}},null,{"$f":"AVERAGE(D535:D538)","v":{"$error":"#DIV/0!"}},null,{"$f":"AVERAGE(F535:F538)","v":{"$error":"#DIV/0!"}},null,{"$f":"AVERAGE(H535:H538)","v":{"$error":"#DIV/0!"}},null,{"$f":"AVERAGE(J535:J538)","v":{"$error":"#DIV/0!"}},null,{"$f":"AVERAGE(L535:L538)","v":{"$error":"#DIV/0!"}},null,{"$f":"AVERAGE(N535:N538)","v":{"$error":"#DIV/0!"}},null,{"$f":"AVERAGE(P535:P538)","v":{"$error":"#DIV/0!"}},null,{"$f":"AVERAGE(R535:R538)","v":{"$error":"#DIV/0!"}},null,{"$f":"AVERAGE(T535:T538)","v":{"$error":"#DIV/0!"}},null,{"$f":"AVERAGE(V535:V538)","v":{"$error":"#DIV/0!"}},null,{"$f":"AVERAGE(X535:X538)","v":{"$error":"#DIV/0!"}},null,{"$f":"AVERAGE(Z535:Z538)","v":{"$error":"#DIV/0!"}},null,{"$f":"AVERAGE(AB535:AB538)","v":{"$error":"#DIV/0!"}},null,{"$error":"#DIV/0!"}]
["2026-03-06"]
["2026-03-13"]
["2026-03-20"]
["2026-03-27",null,{"$f":"AVERAGE(B539:B542)","v":{"$error":"#DIV/0!"}},null,{"$f":"AVERAGE(D539:D542)","v":{"$error":"#DIV/0!"}},null,{"$f":"AVERAGE(F539:F542)","v":{"$error":"#DIV/0!"}},null,{"$f":"AVERAGE(H539:H542)","v":{"$error":"#DIV/0!"}},null,{"$f":"AVERAGE(J539:J542)","v":{"$error":"#DIV/0!"}},null,{"$f":"AVERAGE(L539:L542)","v":{"$error":"#DIV/0!"}},null,{"$f":"AVERAGE(N539:N542)","v":{"$error":"#DIV/0!"}},null,{"$f":"AVERAGE(P539:P542)","v":{"$error":"#DIV/0!"}},null,{"$f":"AVERAGE(R539:R542)","v":{"$error":"#DIV/0!"}},null,{"$f":"AVERAGE(T539:T542)","v":{"$error":"#DIV/0!"}},null,{"$f":"AVERAGE(V539:V542)","v":{"$error":"#DIV/0!"}},null,{"$f":"AVERAGE(X539:X542)","v":{"$error":"#DIV/0!"}},null,{"$f":"AVERAGE(Z539:Z542)","v":{"$error":"#DIV/0!"}},null,{"$f":"AVERAGE(AB539:AB542)","v":{"$error":"#DIV/0!"}},null,{"$error":"#DIV/0!"}]
["2026-04-03"]
["2026-04-10"]
["2026-04-17"]
["2026-04-24",null,{"$f":"AVERAGE(B543:B546)","v":{"$error":"#DIV/0!"}},null,{"$f":"AVERAGE(D543:D546)","v":{"$error":"#DIV/0!"}},null,{"$f":"AVERAGE(F543:F546)","v":{"$error":"#DIV/0!"}},null,{"$f":"AVERAGE(H543:H546)","v":{"$error":"#DIV/0!"}},null,{"$f":"AVERAGE(J543:J546)","v":{"$error":"#DIV/0!"}},null,{"$f":"AVERAGE(L543:L546)","v":{"$error":"#DIV/0!"}},null,{"$f":"AVERAGE(N543:N546)","v":{"$error":"#DIV/0!"}},null,{"$f":"AVERAGE(P543:P546)","v":{"$error":"#DIV/0!"}},null,{"$f":"AVERAGE(R543:R546)","v":{"$error":"#DIV/0!"}},null,{"$f":"AVERAGE(T543:T546)","v":{"$error":"#DIV/0!"}},null,{"$f":"AVERAGE(V543:V546)","v":{"$error":"#DIV/0!"}},null,{"$f":"AVERAGE(X543:X546)","v":{"$error":"#DIV/0!"}},null,{"$f":"AVERAGE(Z543:Z546)","v":{"$error":"#DIV/0!"}},null,{"$f":"AVERAGE(AB543:AB546)","v":{"$error":"#DIV/0!"}},null,{"$error":"#DIV/0!"}]

{"sheet":"2025_SCFI","index":1,"n_rows":53,"n_cols":16,"rows_kept":53,"cut":false,"hidden":false,"merged":[]}
["Date","NWE\nTEU","MED\nTEU","USWC\nFEU","USEC\nFEU","Gulf & Red Sea (DXB) TEU","ANZ (MEL) TEU","E/W Africa (LOS) TEU","S/ Africa DUR) TEU","S/America (SSZ) TEU","W/Japan \nTEU","E/Japan\nTEU","SE Asia (SIN) TEU","Korea (PUS) TEU","C/S USWC (ZLO) TEU","E/Africa (MBA) TEU"]
["2025-01-03",2851,3747,4997,6418,1472,2147,4521,3507,5344,317,317,655,141]
["2025-01-10",2440,3477,4682,6229,1397,1838,4412,3405,4637,305,308,564,139,1820.05,1377.21]
["2025-01-17",2279,3327,4232,5960,1311,1478,4259,3219,4304,305,308,524,139,1680.05,1354.53]
["2025-01-24",2147,3207,4116,5776,1210,1369,4213,3146,3863,305,308,508,139,1527.95,1338.11]
["2025-01-31",2147,3207,4116,5776,1210,1369,4213,3146,3863,305,308,508,139]
["2025-02-07",1805,3036,3932,5490,1191,1085,4166,3011,3435,305,308,454,138,1682.3,1358.8]
["2025-02-14",1608,2815,3544,4825,1144,967,4074,2867,3359,305,308,457,137,2123.62,1363.8]
["2025-02-21",1578,2624,2907,3954,1102,826,3987,2753,2947,305,308,440,137,1890.29,1381.35]
["2025-02-28",1693,2594,2482,3508,1015,745,3791,2526,2770,305,308,441,137,1648.81,1389.8]
["2025-03-07",1582,2517,2291,3329,975,629,3660,2294,2422,304,308,439,137,1560.05,1466.15]
["2025-03-14",1342,2295,1965,2977,976,735,3651,2207,1945,304,308,446,137,1454.57,1491.3]
["2025-03-21",1306,2195,1872,2866,1059,755,3634,2123,1680,304,310,446,137,1362.9,1430.4]
["2025-03-28",1318,2076,2177,3194,1188,828,3708,2172,1669,319,324,433,141,1480.76,1431.1]
["2025-04-04",1336,2028,2313,3306,1290,839,3749,2192,1436,322,327,445,142,1531.19,1465.7]
["2025-04-11",1356,2144,2202,3226,1309,890,3894,2151,1566,316,321,448,142,1482.38,1422.7]
["2025-04-18",1316,2161,2103,3251,1266,891,3853,2076,1573,316,321,450,146,1455,1459.15]
["2025-04-25",1260,2129,2141,3257,1161,855,3749,2043,1414,316,321,454,146,1418.1,1539.85]
["2025-05-02",1200,2089,2272,3283,1122,814,3729,2026,1393,316,321,438,147,1410.95,1636.35]
["2025-05-09",1161,2089,2347,3335,1145,771,3740,1975,1472,316,320,430,148,1432.14,1772.7]
["2025-05-16",1154,2082,3091,4069,1191,737,3714,1970,1725,315,320,434,144,1584.75,2051.61]
["2025-05-23",1317,2328,3275,4284,1387,722,3776,1991,1934,315,320,440,140,2387.25,2151.89]
["2025-05-30",1587,3061,5172,6243,1692,709,4060,2242,2797,315,320,441,139,3964.72,2509.94]
["2025-06-06",1667,3302,5606,6939,1929,686,4230,2301,3959,315,320,446,138,4583.24,2621.41]
["2025-06-13",1844,3190,4120,6745,2083,745,4382,2397,4724,315,320,455,136,3714.05,2771.79]
["2025-06-20",1835,3063,2772,5352,2122,763,4440,2476,5459,315,319,460,136,2555,2594.9]
["2025-06-27",2030,2985,2578,4717,2060,836,4526,2641,6220,312,321,456,136,2346,2583]
["2025-07-04",2101,2869,2089,4124,1916,853,4500,2653,6374,312,321,453,136,2180,2642]
["2025-07-11",2099,2667,2194,4172,1607,1021,4437,2828,6221,312,321,451,136,2107,2624]
["2025-07-18",2079,2528,2142,3612,1321,1042,4312,2851,5628,313,322,442,136,1877,2710]
["2025-07-25",2090,2418,2067,3378,1152,1071,4273,2961,5188,315,324,429,135,2081,2583]
["2025-08-01",2051,2333,2021,3126,1153,1121,4232,3022,4662,313,322,412,138,2175,2581]
["2025-08-08",1961,2318,1823,2792,1233,1197,4153,2996,3811,313,322,409,136,2154,2532]
["2025-08-15",1820,2279,1759,2719,1381,1239,4074,3008,3340,313,324,406,138,2385,2496]
["2025-08-22",1668,2225,1644,2613,1479,1267,4015,2996,3107,314,323,398,139,2475,2491]
["2025-08-29",1481,2145,1923,2866,1579,1325,3977,2984,3027,314,323,419,139,2636,2509]
["2025-09-05",1315,1971,2189,3073,1579,1313,3994,2990,3199,313,322,419,139,2363,2528]
["2025-09-12","USD 1,154","USD 1,738","USD 2,370","USD 3,307","USD 1,273","USD 1,259","USD 3,934","USD 2,977","USD 3,018","USD 312","USD 321","USD 420","USD 138","USD 1,801","USD 2,517"]
["2025-09-19",1052,1638,1636,2557,991,1158,3770,2859,2497,312,321,422,138,1431,2472]
["2025-09-26",971,1485,1460,2385,843,1093,3739,2826,2133,312,321,418,138,1288,2351]
["2025-10-03",971,1485,1460,2385,843,1093,3739,2826,2133,312,321,418,138,1288,2351]
["2025-10-10",1068,1558,1468,2452,975,1159,3763,2830,2446,312,321,411,138,1585,2456]
["2025-10-17"]
["2025-10-24"]
["2025-10-31"]
["2025-11-07"]
["2025-11-14"]
["2025-11-21"]
["2025-11-28"]
["2025-12-05"]
["2025-12-12"]
["2025-12-19"]
["2025-12-26"]

{"sheet":"SCFI Graph - Flexi","index":2,"n_rows":127,"n_cols":4,"rows_kept":127,"cut":false,"hidden":false,"merged":[[101,0,101,8],[0,0,0,8],[34,0,34,8],[67,0,67,8]]}
["EUROPE"]
[]
[]
[]
[]
[]
[]
[]
[]
[]
[]
[]
[null,"Sum of Europe Average by Month","Years"]
[null,"Date","2024","2025"]
[null,"Jan",2966.25,2372.8000000000002]
[null,"Feb",2626.3333333333335,1671]
[null,"Mar",2063.8000000000002,1387]
[null,"Apr",2059.75,1317]
[null,"May",3267,1283.8]
[null,"Jun",4336,1844]
[null,"Jul",4974.75,2092.25]
[null,"Aug",4515.8,1796.2]
[null,"Sep",2785.5]
[null,"Oct",2116.5]
[null,"Nov",2603]
[null,"Dec",2975.25]
[]
[]
[]
[]
[]
[]
[]
[]
["OCEANIA"]
[]
[]
[]
[]
[]
[]
[]
[]
[]
[]
[]
[null,"Sum of Australia/ NZ Average by Month","Years"]
[null,"Date","2024","2025"]
[null,"Jan",1204.75,1640.2]
[null,"Feb",1230,905.75]
[null,"Mar",921.4,736.75]
[null,"Apr",826.75,868.75]
[null,"May",1264.75,750.6]
[null,"Jun",1406.25,757.5]
[null,"Jul",1411.5,996.75]
[null,"Aug",1915,1229.8]
[null,"Sep",2184]
[null,"Oct",2014.5]
[null,"Nov",2076.4]
[null,"Dec",1938.25]
[]
[]
[]
[]
[]
[]
[]
["USWC"]
[]
[]
[]
[]
[]
[]
[]
[]
[]
[]
[]
[null,"Sum of USWC Average by Month","Years"]
[null,"Date","2024","2025"]
[null,"Jan",3870.25,4428.6000000000004]
[null,"Feb",4843,3216.25]
[null,"Mar",3821,2076.25]
[null,"Apr",3322.5,2189.75]
[null,"May",5193.75,3231.4]
[null,"Jun",7029.5,3769]
[null,"Jul",7386,2123]
[null,"Aug",6197.8,1834]
[null,"Sep",5323]
[null,"Oct",4772.75]
[null,"Nov",4180.3999999999996]
[null,"Dec",4027.75]
[]
[]
[]
[]
[]
[]
[]
[]
["USEC"]
[]
[]
[]
[]
[]
[]
[]
[]
[]
[]
[]
[null,"Sum of USEC Average by Month","Years"]
[null,"Date","2024","2025"]
[null,"Jan",5604.75,6031.8]
[null,"Feb",6410.333333333333,4444.25]
[null,"Mar",5179.2,3091.5]
[null,"Apr",4317.5,3260]
[null,"May",6319,4242.8]
[null,"Jun",8247.75,5938.25]
[null,"Jul",9783.5,3821.5]
[null,"Aug",8942.2000000000007,2823.2]
[null,"Sep",6615.25]
[null,"Oct",5312]
[null,"Nov",5110.3999999999996]
[null,"Dec",5533.5]

{"sheet":"SCFI All Trades Data for Trend","index":3,"n_rows":402,"n_cols":16,"rows_kept":402,"cut":false,"hidden":true,"merged":[[196,0,196,2],[211,0,211,2],[46,0,46,2],[31,0,31,2],[2,0,2,2],[16,0,16,2],[151,0,151,2],[166,0,166,2],[181,0,181,2],[61,0,61,2],[76,0,76,2],[91,0,91,2],[106,0,106,2],[121,0,121,2],[136,0,136,2]]}
[]
[]
["EUROPE"]
[null,"Ave by Month in 2018",null,"Ave by Month in 2019",null,"Ave by Month in 2020",null,"Ave by Month in 2021",null,"Ave by Month in 2022",null,"Ave by Month in 2023",null,"Ave by Month in 2024",null,"Ave by Month in 2025"]
["JANUARY",895.75,"JANUARY",976.25,"JANUARY",1040,"JANUARY",4325,"JANUARY",7784.25,"JANUARY",1028,"JANUARY",2966.25,"JANUARY",2372.8000000000002]
["FEBRUARY",911.75,"FEBRUARY",899,"FEBRUARY",829,"FEBRUARY",4190,"FEBRUARY",7616,"FEBRUARY",919.5,"FEBRUARY",2626.3333333333335,"FEBRUARY",1671]
["MARCH",739.2,"MARCH",720,"MARCH",805,"MARCH",3771,"MARCH",6949,"MARCH",871,"MARCH",2063.8000000000002,"MARCH",1387]
["APRIL",640,"APRIL",663,"APRIL",741,"APRIL",4151,"APRIL",6133.6,"APRIL",878,"APRIL",2059.75,"APRIL",1317]
["MAY",804.25,"MAY",753.33749999999998,"MAY",801,"MAY",5378,"MAY",5885.5,"MAY",868,"MAY",3267,"MAY",1283.8]
["JUNE",865.4,"JUNE",735.25,"JUNE",883,"JUNE",6268,"JUNE",5814.25,"JUNE",808.2,"JUNE",4336,"JUNE",1844]
["JULY",888,"JULY",697.5,"JULY",906,"JULY",7014,"JULY",5605.2,"JULY",798.75,"JULY",4974.75,"JULY",2092.25]
["AUGUST",940.6,"AUGUST",795.6,"AUGUST",948,"AUGUST",7397,"AUGUST",4841.5,"AUGUST",881.75,"AUGUST",4515.8,"AUGUST",1944]
["SEPTEMBER",{"$f":"'[1]Main sheet'!C150","v":801.75},"SEPTEMBER",654,"SEPTEMBER",1064,"SEPTEMBER",7502.25,"SEPTEMBER",3557.4,"SEPTEMBER",672.4,"SEPTEMBER",2785.5,"SEPTEMBER",{"$error":"#DIV/0!"}]
["OCTOBER",{"$f":"'[1]Main sheet'!C154","v":739.66666666666663},"OCTOBER",585,"OCTOBER",1128,"OCTOBER",7660,"OCTOBER",2354,"OCTOBER",637.33333333333337,"OCTOBER",2116.5,"OCTOBER",{"$error":"#DIV/0!"}]
["NOVEMBER",745,"NOVEMBER",722,"NOVEMBER",1622,"NOVEMBER",7575,"NOVEMBER",1378.25,"NOVEMBER",741,"NOVEMBER",2603,"NOVEMBER",{"$error":"#DIV/0!"}]
["DECEMBER",868.5,"DECEMBER",916,"DECEMBER",3061,"DECEMBER",7641.8,"DECEMBER",1061.8,"DECEMBER",1399.2,"DECEMBER",2975.25,"DECEMBER",{"$error":"#DIV/0!"}]
["MEDITERRANEAN"]
[null,"Ave by Month in 2018",null,"Ave by Month in 2019",null,"Ave by Month in 2020",null,"Ave by Month in 2021",null,"Ave by Month in 2022",null,"Ave by Month in 2023",null,"Ave by Month in 2024",null,"Ave by Month in 2025"]
["JANUARY",757.5,"JANUARY",978,"JANUARY",1181,"JANUARY",4303,"JANUARY",7522.75,"JANUARY",1835.6666666666667,"JANUARY",3906.75,"JANUARY",3393]
["FEBRUARY",794,"FEBRUARY",913,"FEBRUARY",979,"FEBRUARY",4253,"FEBRUARY",7396.666666666667,"FEBRUARY",1679,"FEBRUARY",3641,"FEBRUARY",2767.25]
["MARCH",670.4,"MARCH",758,"MARCH",898,"MARCH",3975,"MARCH",7070.75,"MARCH",1609.6,"MARCH",3060.6,"MARCH",2270.75]
["APRIL",627.75,"APRIL",717,"APRIL",852,"APRIL",4276,"APRIL",6742.2,"APRIL",1613.25,"APRIL",3076.75,"APRIL",2115.5]
["MAY",795.5,"MAY",717.96500000000003,"MAY",874,"MAY",5365,"MAY",6623.75,"MAY",1630,"MAY",4210,"MAY",2329.8000000000002]
["JUNE",904.75,"JUNE",735.75,"JUNE",951,"JUNE",6282.5,"JUNE",6509.75,"JUNE",1583.8,"JUNE",4968.5,"JUNE",3135]
["JULY",888,"JULY",703.75,"JULY",947,"JULY",6849.2,"JULY",6242.6,"JULY",1433.75,"JULY",5371.75,"JULY",2620.5]
["AUGUST",901.6,"AUGUST",941,"AUGUST",991,"AUGUST",7074.5,"AUGUST",5509.75,"AUGUST",1497.75,"AUGUST",4596.2,"AUGUST",2310]
["SEPTEMBER",{"$f":"'[1]Main sheet'!E150","v":823.25},"SEPTEMBER",810.5,"SEPTEMBER",1145,"SEPTEMBER",7415.75,"SEPTEMBER",3804.2,"SEPTEMBER",1260.5999999999999,"SEPTEMBER",3171,"SEPTEMBER",{"$error":"#DIV/0!"}]
["OCTOBER",{"$f":"'[1]Main sheet'!E154","v":760},"OCTOBER",716,"OCTOBER",1248,"OCTOBER",7383,"OCTOBER",2553,"OCTOBER",1147.3333333333333,"OCTOBER",2444.25,"OCTOBER",{"$error":"#DIV/0!"}]
["NOVEMBER",766,"NOVEMBER",716,"NOVEMBER",1764,"NOVEMBER",7236,"NOVEMBER",2023,"NOVEMBER",1186,"NOVEMBER",3159,"NOVEMBER",{"$error":"#DIV/0!"}]
["DECEMBER",853.75,"DECEMBER",1030.5,"DECEMBER",3097,"DECEMBER",7369.8,"DECEMBER",1853,"DECEMBER",1952.2,"DECEMBER",3755,"DECEMBER",{"$error":"#DIV/0!"}]
[]
["USWC"]
[null,"Ave by Month in 2018",null,"Ave by Month in 2019",null,"Ave by Month in 2020",null,"Ave by Month in 2021",null,"Ave by Month in 2022",null,"Ave by Month in 2023",null,"Ave by Month in 2024",null,"Ave by Month in 2025"]
["JANUARY",1468,"JANUARY",1995.25,"JANUARY",1572,"JANUARY",4035,"JANUARY",7980.25,"JANUARY",1398.3333333333333,"JANUARY",3870.25,"JANUARY",4428.6000000000004]
["FEBRUARY",1483.5,"FEBRUARY",1849,"FEBRUARY",1395,"FEBRUARY",4030,"FEBRUARY",8079,"FEBRUARY",1290.75,"FEBRUARY",4843,"FEBRUARY",3216.25]
["MARCH",1096.5999999999999,"MARCH",1456,"MARCH",1509,"MARCH",3991,"MARCH",8049.5,"MARCH",1165.4000000000001,"MARCH",3821,"MARCH",2076.25]
["APRIL",1208.75,"APRIL",1584,"APRIL",1579,"APRIL",4482,"APRIL",7876.8,"APRIL",1511.5,"APRIL",3322.5,"APRIL",2189.75]
["MAY",1360.25,"MAY",1386.71,"MAY",1783,"MAY",4676.5,"MAY",7863,"MAY",1391,"MAY",5193.75,"MAY",3231.4]
["JUNE",1361.6,"JUNE",1489.25,"JUNE",2562,"JUNE",4729,"JUNE",7551.75,"JUNE",1368.4,"JUNE",7029.5,"JUNE",3769]
["JULY",1683.25,"JULY",1570,"JULY",2874,"JULY",5241.6000000000004,"JULY",6949.8,"JULY",1720.5,"JULY",7386,"JULY",2123]
["AUGUST",2130.4,"AUGUST",1466.4,"AUGUST",3407.25,"AUGUST",5793.75,"AUGUST",5892,"AUGUST",2007,"AUGUST",6197.8,"AUGUST",1867.6666666666667]
["SEPTEMBER",{"$f":"'[1]Main sheet'!G150","v":2339},"SEPTEMBER",1419.75,"SEPTEMBER",3824,"SEPTEMBER",6308,"SEPTEMBER",3115.2,"SEPTEMBER",1916,"SEPTEMBER",5323,"SEPTEMBER",{"$error":"#DIV/0!"}]
["OCTOBER",{"$f":"'[1]Main sheet'!G154","v":2559},"OCTOBER",1347,"OCTOBER",3853,"OCTOBER",6334,"OCTOBER",2009.3333333333333,"OCTOBER",1799,"OCTOBER",4772.75,"OCTOBER",{"$error":"#DIV/0!"}]
["NOVEMBER",2429,"NOVEMBER",1421,"NOVEMBER",3888,"NOVEMBER",6663,"NOVEMBER",1592,"NOVEMBER",1817,"NOVEMBER",4180.3999999999996,"NOVEMBER",{"$error":"#DIV/0!"}]
["DECEMBER",1902.75,"DECEMBER",1413.75,"DECEMBER",3969,"DECEMBER",7372.6,"DECEMBER",1426.2,"DECEMBER",1908.4,"DECEMBER",4027.75,"DECEMBER",{"$error":"#DIV/0!"}]
[]
["USEC"]
[null,"Ave by Month in 2018",null,"Ave by Month in 2019",null,"Ave by Month in 2020",null,"Ave by Month in 2021",null,"Ave by Month in 2022",null,"Ave by Month in 2023",null,"Ave by Month in 2024",null,"Ave by Month in 2025"]
["January",2646.5,"January",3120.75,"January",2898,"January",4742,"JANUARY",11471,"JANUARY",2817.6666666666665,"JANUARY",5604.75,"JANUARY",6031.8]
["February",2773.25,"February",2953,"February",2714,"February",4804,"FEBRUARY",10918.666666666666,"FEBRUARY",2536.5,"FEBRUARY",6410.333333333333,"FEBRUARY",4444.25]
["March",2129.1999999999998,"March",2490,"March",2784,"March",4807,"MARCH",10612.5,"MARCH",2130.1999999999998,"MARCH",5179.2,"MARCH",3091.5]
["April",2226.5,"April",2655,"April",2690,"April",5536,"APRIL",10579.8,"APRIL",2410,"APRIL",4317.5,"APRIL",3260]
["May",2349.75,"May",2597.1750000000002,"May",2661.4,"May",7392,"MAY",10553.25,"MAY",2379,"MAY",6319,"MAY",4242.8]
["June",2351.6,"June",2539.75,"June",3146,"June",8721.75,"JUNE",10051.5,"JUNE",2320.1999999999998,"JUNE",8247.75,"JUNE",5938.25]
["July",2707.25,"July",2829.75,"July",3371,"July",9636.4,"JULY",9521.7999999999993,"JULY",2639.75,"JULY",9783.5,"JULY",3821.5]
["August",3266.4,"August",2626.2,"August",3894.25,"August",10658.25,"AUGUST",9057.25,"AUGUST",3061.5,"AUGUST",8942.2000000000007,"AUGUST",2879]
["September",{"$f":"'[1]Main sheet'!I150","v":3462.75},"September",2461,"September",4583,"September",11778.5,"SEPTEMBER",7191.6,"SEPTEMBER",2635.4,"SEPTEMBER",6615.25,"SEPTEMBER",{"$error":"#DIV/0!"}]
["October",{"$f":"'[1]Main sheet'!I154","v":3300.6666666666665},"October",2373,"October",4626,"October",10812,"OCTOBER",5591,"OCTOBER",2263,"OCTOBER",5312,"OCTOBER",{"$error":"#DIV/0!"}]
["November",3604,"November",2503,"November",4683,"November",10465,"NOVEMBER",4169.25,"NOVEMBER",2363.75,"NOVEMBER",5110.3999999999996,"NOVEMBER",{"$error":"#DIV/0!"}]
["December",2946.25,"December",2540.75,"December",4814,"December",11036,"DECEMBER",3211.8,"DECEMBER",2846.6,"DECEMBER",5533.5,"DECEMBER",{"$error":"#DIV/0!"}]
[]
["PERSIAN GULF AND RED SEA"]
[null,"Ave by Month in 2018",null,"Ave by Month in 2019",null,"Ave by Month in 2020",null,"Ave by Month in 2021",null,"Ave by Month in 2022",null,"Ave by Month in 2023",null,"Ave by Month in 2024",null,"Ave by Month in 2025"]
["January",521.5,"January",779.25,"January",1161,"January",1942,"JANUARY",3648.75,"JANUARY",1013.6666666666666,"JANUARY",2051.5,"JANUARY",1320]
["February",583.5,"February",704.67,"February",1034,"February",1820,"FEBRUARY",3487.3333333333335,"FEBRUARY",1070,"FEBRUARY",1612.3333333333333,"FEBRUARY",1113]
["March",390,"March",621,"March",997,"March",1422,"MARCH",3134.75,"MARCH",931.2,"MARCH",1584.8,"MARCH",1049.5]
["April",383.5,"April",712,"April",767,"April",1904,"APRIL",2500.6,"APRIL",1231,"APRIL",2006,"APRIL",1256.5]
["May",458.5,"May",665.86,"May",626.4,"May",2617,"MAY",2527.75,"MAY",1290,"MAY",2319.5,"MAY",1307.4000000000001]
["June",527.6,"June",809.5,"June",475,"June",2948.75,"JUNE",3316,"JUNE",1253.4000000000001,"JUNE",2852.25,"JUNE",2048.5]
["July",411.5,"July",753.25,"July",672,"July",3357,"JULY",3148.6,"JULY",983.75,"JULY",2280.25,"JULY",1499]
["August",379,"August",684.4,"August",799,"August",3680.75,"AUGUST",2315.25,"AUGUST",871,"AUGUST",2057.8000000000002,"AUGUST",1255.6666666666667]
["September",{"$f":"'[1]Main sheet'!K150","v":375.25},"September",579,"September",1007.25,"September",3914,"SEPTEMBER",1276,"SEPTEMBER",875.8,"SEPTEMBER",1220.5,"SEPTEMBER",{"$error":"#DIV/0!"}]
["October",{"$f":"'[1]Main sheet'!K154","v":427.66666666666669},"October",647,"October",1068,"October",3745,"OCTOBER",1449.6666666666667,"OCTOBER",968,"OCTOBER",1142,"OCTOBER",{"$error":"#DIV/0!"}]
["November",520,"November",793,"November",1319,"November",3380,"NOVEMBER",1526.25,"NOVEMBER",1262.5,"NOVEMBER",1417.4,"NOVEMBER",{"$error":"#DIV/0!"}]
["December",579.5,"December",1069.25,"December",1520,"December",3670.6,"DECEMBER",1166.5999999999999,"DECEMBER",1401,"DECEMBER",1463.5,"DECEMBER",{"$error":"#DIV/0!"}]
[]
["AUSTRALIA / NZ"]
[null,"Ave by Month in 2018",null,"Ave by Month in 2019",null,"Ave by Month in 2020",null,"Ave by Month in 2021",null,"Ave by Month in 2022",null,"Ave by Month in 2023",null,"Ave by Month in 2024",null,"Ave by Month in 2025"]
["January",1334.25,"January",560.25,"January",944,"January",2427,"JANUARY",4631.5,"JANUARY",549.66666666666663,"JANUARY",1204.75,"JANUARY",1640.2]
["February",1304,"February",500.67,"February",868,"February",2393,"FEBRUARY",4498.666666666667,"FEBRUARY",392.5,"FEBRUARY",1230,"FEBRUARY",905.75]
["March",972.6,"March",377,"March",815,"March",2058,"MARCH",4006.75,"MARCH",306.60000000000002,"MARCH",921.4,"MARCH",736.75]
["April",848,"April",326,"April",903,"April",1846,"APRIL",3518.4,"APRIL",245.75,"APRIL",826.75,"APRIL",868.75]
["May",830.25,"May",273.00749999999999,"May",945.6,"May",1990.5,"MAY",3309.25,"MAY",246,"MAY",1264.75,"MAY",750.6]
["June",732.8,"June",264.25,"June",1024,"June",2355.25,"JUNE",3388.5,"JUNE",265.60000000000002,"JUNE",1406.25,"JUNE",757.5]
["July",736,"July",438.25,"July",1080,"July",3036.4,"JULY",3191,"JULY",268,"JULY",1411.5,"JULY",996.75]
["August",671.4,"August",641.6,"August",1128,"August",3744.5,"AUGUST",2885,"AUGUST",437,"AUGUST",1915,"AUGUST",1185.6666666666667]
["September",{"$f":"'[1]Main sheet'!M150","v":545.25},"September",857.75,"September",1363,"September",4273.5,"SEPTEMBER",2243.8000000000002,"SEPTEMBER",609,"SEPTEMBER",2184,"SEPTEMBER",{"$error":"#DIV/0!"}]
["October",{"$f":"'[1]Main sheet'!M154","v":736.66666666666663},"October",1116,"October",1828,"October",4453,"OCTOBER",1471,"OCTOBER",721,"OCTOBER",2014.5,"OCTOBER",{"$error":"#DIV/0!"}]
["November",677,"November",1033,"November",2352,"November",4455,"NOVEMBER",905.25,"NOVEMBER",905.5,"NOVEMBER",2076.4,"NOVEMBER",{"$error":"#DIV/0!"}]
["December",581.25,"December",801,"December",2455,"December",4527,"DECEMBER",691.6,"DECEMBER",945,"DECEMBER",1938.25,"DECEMBER",{"$error":"#DIV/0!"}]
[]
["EAST WEST AFRICA"]
[null,"Ave by Month in 2018",null,"Ave by Month in 2019",null,"Ave by Month in 2020",null,"Ave by Month in 2021",null,"Ave by Month in 2022",null,"Ave by Month in 2023",null,"Ave by Month in 2024",null,"Ave by Month in 2025"]
["January",1446.5,"January",2553,"January",2856,"January",6412,"JANUARY",7429.75,"JANUARY",3096.3333333333335,"JANUARY",2347.5,"JANUARY",4323.6000000000004]
["February",1792.75,"February",2533.67,"February",2930,"February",6536,"FEBRUARY",7177.666666666667,"FEBRUARY",2833,"FEBRUARY",2447,"FEBRUARY",4004.5]
["March",1446.4,"March",2657,"March",2891,"March",5910,"MARCH",6831.25,"MARCH",2703.4,"MARCH",2233.6,"MARCH",3663.25]
["April",1387.75,"April",2670,"April",2757,"April",6360,"APRIL",6584.2,"APRIL",2687.25,"APRIL",2429.25,"APRIL",3811.25]
["May",1875,"May",2574,"May",2773.2,"May",6763.25,"MAY",6421.75,"MAY",2743,"MAY",4968.75,"MAY",3803.8]
["June",2206.8000000000002,"June",2401.75,"June",2741,"June",7593.25,"JUNE",6308,"JUNE",2729.6,"JUNE",5871.75,"JUNE",4394.5]
["July",2045.75,"July",2430,"July",2685,"July",8025,"JULY",6152.6,"JULY",2673.75,"JULY",5204.75,"JULY",4380.5]
["August",1955.2,"August",2502,"August",2706.5,"August",8271.75,"AUGUST",5833.25,"AUGUST",2519.5,"AUGUST",5004.8,"AUGUST",4113.5]
["September",{"$f":"'[1]Main sheet'!O150","v":1791.25},"September",2325,"September",3110.5,"September",8341.5,"SEPTEMBER",5087.6000000000004,"SEPTEMBER",2317.1999999999998,"SEPTEMBER",4646,"SEPTEMBER",{"$error":"#DIV/0!"}]
["October",{"$f":"'[1]Main sheet'!O154","v":2103.6666666666665},"October",2310,"October",3393.2,"October",8089,"OCTOBER",4786,"OCTOBER",2250,"OCTOBER",4450.25,"OCTOBER",{"$error":"#DIV/0!"}]
["November",2517,"November",2349,"November",4094.5,"November",7576,"NOVEMBER",4241.75,"NOVEMBER",2279.75,"NOVEMBER",4548.2,"NOVEMBER",{"$error":"#DIV/0!"}]
["December",2410.25,"December",2331,"December",5095.25,"December",7451.6,"DECEMBER",3469.4,"DECEMBER",2138.6,"DECEMBER",4529,"DECEMBER",{"$error":"#DIV/0!"}]
[]
["SOUTH AFRICA"]
[null,"Ave by Month in 2018",null,"Ave by Month in 2019",null,"Ave by Month in 2020",null,"Ave by Month in 2021",null,"Ave by Month in 2022",null,"Ave by Month in 2023",null,"Ave by Month in 2024",null,"Ave by Month in 2025"]
["January",1237,"January",851.25,"January",1120,"January",3196,"JANUARY",6322,"JANUARY",2728,"JANUARY",1811.25,"JANUARY",3284.6]
["February",1300,"February",818,"February",1032,"February",2981,"FEBRUARY",6133,"FEBRUARY",2432.5,"FEBRUARY",1879,"FEBRUARY",2789.25]
["March",1111.2,"March",704,"March",969,"March",2664,"MARCH",5816.25,"MARCH",1926.8,"MARCH",1767.2,"MARCH",2199]
["April",922.5,"April",642,"April",834,"April",3183,"APRIL",5516.8,"APRIL",1557.5,"APRIL",1845.25,"APRIL",2115.5]
["May",802.75,"May",636.91250000000002,"May",744.2,"May",3902.75,"MAY",5422.25,"MAY",1404,"MAY",3683.5,"MAY",2040.8]
["June",796.4,"June",748.75,"June",646,"June",4346.25,"JUNE",5584.75,"JUNE",1335.6,"JUNE",5452,"JUNE",2453.75]
["July",585.75,"July",765,"July",706,"July",4679.6000000000004,"JULY",5491.2,"JULY",1305.5,"JULY",5088.5,"JULY",2823.25]
["August",547.4,"August",762.8,"August",874,"August",5641.25,"AUGUST",5220,"AUGUST",1351.75,"AUGUST",4816.2,"AUGUST",3008.6666666666665]
["September",{"$f":"'[1]Main sheet'!Q150","v":740.5},"September",807.5,"September",1484.25,"September",6826,"SEPTEMBER",4672,"SEPTEMBER",1328.8,"SEPTEMBER",4442.75,"SEPTEMBER",{"$error":"#DIV/0!"}]
["October",{"$f":"'[1]Main sheet'!Q154","v":942.66666666666663},"October",933,"October",1853.6,"October",6967,"OCTOBER",4344.333333333333,"OCTOBER",1463,"OCTOBER",4234,"OCTOBER",{"$error":"#DIV/0!"}]
["November",884,"November",969,"November",1892.75,"November",6539,"NOVEMBER",3819.75,"NOVEMBER",1517,"NOVEMBER",4020.2,"NOVEMBER",{"$error":"#DIV/0!"}]
["December",856.75,"December",1019.25,"December",2362,"December",6451.2,"DECEMBER",3094.8,"DECEMBER",1583.4,"DECEMBER",3551,"DECEMBER",{"$error":"#DIV/0!"}]
[]
["SOUTH AMERICA"]
[null,"Ave by Month in 2018",null,"Ave by Month in 2019",null,"Ave by Month in 2020",null,"Ave by Month in 2021",null,"Ave by Month in 2022",null,"Ave by Month in 2023",null,"Ave by Month in 2024",null,"Ave by Month in 2025"]
["January",2503,"January",1456.5,"January",2069,"January",8625,"JANUARY",10079,"JANUARY",1137.6666666666667,"JANUARY",2788.75,"JANUARY",4402.2]
["February",2561,"February",1319.33,"February",1714,"February",8303,"FEBRUARY",9051.6666666666661,"FEBRUARY",1494.5,"FEBRUARY",2581.3333333333335,"FEBRUARY",3127.75]
["March",2074,"March",1467,"March",1426,"March",7205,"MARCH",7829.5,"MARCH",1461.8,"MARCH",2617.8000000000002,"MARCH",1929]
["April",1925.25,"April",1305,"April",982,"April",7208,"APRIL",6606,"APRIL",1931.25,"APRIL",3871.25,"APRIL",1497.25]
["May",1927,"May",997.65750000000003,"May",1073.8,"May",7941.25,"MAY",6333.25,"MAY",1992,"MAY",6655,"MAY",1864.2]
["June",1875.4,"June",1791,"June",914,"June",9178,"JUNE",7358.5,"JUNE",2373.4,"JUNE",8402.75,"JUNE",5090.5]
["July",1673,"July",2051,"July",633,"July",9485.7999999999993,"JULY",9114.4,"JULY",2593.5,"JULY",8484.25,"JULY",5852.75]
["August",1642.8,"August",1989.8,"August",1379.25,"August",9859.25,"AUGUST",9134.5,"AUGUST",2321.75,"AUGUST",7768.8,"AUGUST",3937.6666666666665]
["September",{"$f":"'[1]Main sheet'!S150","v":1164.25},"September",1865.5,"September",3178,"September",10136.5,"SEPTEMBER",6402,"SEPTEMBER",1868.8,"SEPTEMBER",7063.25,"SEPTEMBER",{"$error":"#DIV/0!"}]
["October",{"$f":"'[1]Main sheet'!S154","v":1049},"October",1858,"October",3967.8,"October",10209,"OCTOBER",4906.666666666667,"OCTOBER",2170.3333333333335,"OCTOBER",6325,"OCTOBER",{"$error":"#DIV/0!"}]
["November",1133,"November",1859,"November",4403,"November",10135,"NOVEMBER",2903,"NOVEMBER",2734.75,"NOVEMBER",5682,"NOVEMBER",{"$error":"#DIV/0!"}]
["December",762.25,"December",1999.25,"December",6135.25,"December",10195.6,"DECEMBER",1702.2,"DECEMBER",2504.6,"DECEMBER",5534.5,"DECEMBER",{"$error":"#DIV/0!"}]
[]
["WEST JAPAN"]
[null,"Ave by Month in 2018",null,"Ave by Month in 2019",null,"Ave by Month in 2020",null,"Ave by Month in 2021",null,"Ave by Month in 2022",null,"Ave by Month in 2023",null,"Ave by Month in 2024",null,"Ave by Month in 2025"]
["January",211,"January",226.5,"January",226,"January",247,"JANUARY",312.5,"JANUARY",326,"JANUARY",291,"JANUARY",307.39999999999998]
["February",215.75,"February",224.33,"February",226,"February",255,"FEBRUARY",315.33333333333331,"FEBRUARY",329,"FEBRUARY",289,"FEBRUARY",305]
["March",215,"March",227,"March",227,"March",250,"MARCH",321.5,"MARCH",324.2,"MARCH",288.60000000000002,"MARCH",307.75]
["April",221.25,"April",232,"April",234,"April",254,"APRIL",343.2,"APRIL",323,"APRIL",293.5,"APRIL",317.5]
["May",228,"May",232.035,"May",230,"May",282.25,"MAY",344.5,"MAY",322,"MAY",291,"MAY",315.39999999999998]
["June",226.5,"June",231,"June",226,"June",301.5,"JUNE",341,"JUNE",327,"JUNE",293,"JUNE",314.25]
["July",226.25,"July",234,"July",229,"July",286.60000000000002,"JULY",337.2,"JULY",326.5,"JULY",293,"JULY",313]
["August",225.6,"August",232.8,"August",231,"August",275.75,"AUGUST",318.75,"AUGUST",317,"AUGUST",293,"AUGUST",313]
["September",{"$f":"'[1]Main sheet'!U150","v":228.5},"September",233,"September",232,"September",323.5,"SEPTEMBER",321.8,"SEPTEMBER",307.8,"SEPTEMBER",299.5,"SEPTEMBER",{"$error":"#DIV/0!"}]
["October",{"$f":"'[1]Main sheet'!U154","v":222.33333333333334},"October",227,"October",232.2,"October",349,"OCTOBER",322.66666666666669,"OCTOBER",306.33333333333331,"OCTOBER",302.25,"OCTOBER",{"$error":"#DIV/0!"}]
["November",227,"November",226,"November",248.25,"November",317,"NOVEMBER",327.25,"NOVEMBER",305.5,"NOVEMBER",304,"NOVEMBER",{"$error":"#DIV/0!"}]
["December",226,"December",226,"December",246.75,"December",302.39999999999998,"DECEMBER",328.6,"DECEMBER",300.39999999999998,"DECEMBER",307.5,"DECEMBER",{"$error":"#DIV/0!"}]
[]
["EAST JAPAN"]
[null,"Ave by Month in 2018",null,"Ave by Month in 2019",null,"Ave by Month in 2020",null,"Ave by Month in 2021",null,"Ave by Month in 2022",null,"Ave by Month in 2023",null,"Ave by Month in 2024",null,"Ave by Month in 2025"]
["January",211.5,"January",227.75,"January",241,"January",254,"JANUARY",282.75,"JANUARY",331,"JANUARY",301.25,"JANUARY",309.8]
["February",217.5,"February",224.33,"February",236,"February",264,"FEBRUARY",295.33333333333331,"FEBRUARY",329.25,"FEBRUARY",302,"FEBRUARY",308]
["March",217.2,"March",229,"March",240,"March",255,"MARCH",308.75,"MARCH",328,"MARCH",300.60000000000002,"MARCH",312.5]
["April",222.5,"April",233,"April",242,"April",260,"APRIL",332.6,"APRIL",331.25,"APRIL",305.25,"APRIL",322.5]
["May",227,"May",235.155,"May",242.4,"May",286.75,"MAY",351,"MAY",330,"MAY",304.5,"MAY",320.2]
["June",225.25,"June",233.5,"June",238,"June",307.5,"JUNE",352.5,"JUNE",327.39999999999998,"JUNE",299,"JUNE",320]
["July",223.5,"July",234,"July",238,"July",287.8,"JULY",338.6,"JULY",334.5,"JULY",299,"JULY",322]
["August",225.6,"August",234,"August",238,"August",276.5,"AUGUST",308,"AUGUST",325.5,"AUGUST",299,"AUGUST",322.66666666666669]
["September",{"$f":"'[1]Main sheet'!W150","v":228.5},"September",235,"September",238,"September",316.75,"SEPTEMBER",306.8,"SEPTEMBER",319.8,"SEPTEMBER",306.75,"SEPTEMBER",{"$error":"#DIV/0!"}]
["October",{"$f":"'[1]Main sheet'!W154","v":223},"October",232,"October",238.2,"October",335,"OCTOBER",299.33333333333331,"OCTOBER",319,"OCTOBER",305,"OCTOBER",{"$error":"#DIV/0!"}]
["November",227,"November",240,"November",252.5,"November",304,"NOVEMBER",315,"NOVEMBER",319.5,"NOVEMBER",305.39999999999998,"NOVEMBER",{"$error":"#DIV/0!"}]
["December",227,"December",240.25,"December",251,"December",279.39999999999998,"DECEMBER",334.2,"DECEMBER",309.39999999999998,"DECEMBER",309.75,"DECEMBER",{"$error":"#DIV/0!"}]
[]
["SOUTHEAST ASIA"]
[null,"Ave by Month in 2018",null,"Ave by Month in 2019",null,"Ave by Month in 2020",null,"Ave by Month in 2021",null,"Ave by Month in 2022",null,"Ave by Month in 2023",null,"Ave by Month in 2024",null,"Ave by Month in 2025"]
["January",153.5,"January",155,"January",189,"January",960,"JANUARY",1513.25,"JANUARY",161,"JANUARY",303.75,"JANUARY",551.79999999999995]
["February",162,"February",152.33000000000001,"February",187,"February",1003,"FEBRUARY",1368,"FEBRUARY",155.25,"FEBRUARY",301.33333333333331,"FEBRUARY",448]
["March",144,"March",148,"March",201,"March",955,"MARCH",1145.25,"MARCH",188,"MARCH",281.60000000000002,"MARCH",441]
["April",142.75,"April",144,"April",201,"April",855,"APRIL",1038,"APRIL",190.5,"APRIL",291.25,"APRIL",449.25]
["May",139.25,"May",140.16749999999999,"May",174.6,"May",889.75,"MAY",997.75,"MAY",175,"MAY",441.25,"MAY",438.25]
["June",152.19999999999999,"June",139.5,"June",158,"June",922.5,"JUNE",1056,"JUNE",165.8,"JUNE",697,"JUNE",454.25]
["July",142.25,"July",125,"July",145,"July",873.4,"JULY",1035.4000000000001,"JULY",150.25,"JULY",716.75,"JULY",443.75]
["August",138.6,"August",114.6,"August",133.25,"August",863.25,"AUGUST",740.25,"AUGUST",141.75,"AUGUST",568.4,"AUGUST",409]
["September",{"$f":"'[1]Main sheet'!Y150","v":137.25},"September",105.75,"September",135.75,"September",922.25,"SEPTEMBER",432.4,"SEPTEMBER",169.2,"SEPTEMBER",430.5,"SEPTEMBER",{"$error":"#DIV/0!"}]
["October",{"$f":"'[1]Main sheet'!Y154","v":146.66666666666666},"October",115,"October",169.6,"October",966,"OCTOBER",349,"OCTOBER",184,"OCTOBER",417.25,"OCTOBER",{"$error":"#DIV/0!"}]
["November",148,"November",153,"November",695.25,"November",1019,"NOVEMBER",332.75,"NOVEMBER",194,"NOVEMBER",622.79999999999995,"NOVEMBER",{"$error":"#DIV/0!"}]
["December",148.25,"December",163,"December",845.5,"December",1417.2,"DECEMBER",207,"DECEMBER",203.4,"DECEMBER",697.5,"DECEMBER",{"$error":"#DIV/0!"}]
[]
["KOREA"]
[null,"Ave by Month in 2018",null,"Ave by Month in 2019",null,"Ave by Month in 2020",null,"Ave by Month in 2021",null,"Ave by Month in 2022",null,"Ave by Month in 2023",null,"Ave by Month in 2024",null,"Ave by Month in 2025"]
["January",152.25,"January",145.75,"January",120,"January",200,"JANUARY",446.5,"JANUARY",238,"JANUARY",147.5,"JANUARY",139.4]
["February",161.25,"February",153,"February",118,"February",318,"FEBRUARY",393.33333333333331,"FEBRUARY",214,"FEBRUARY",156,"FEBRUARY",137.25]
["March",146.80000000000001,"March",150,"March",118,"March",300,"MARCH",363.5,"MARCH",194.6,"MARCH",154.4,"MARCH",138]
["April",169.25,"April",128,"April",120,"April",310,"APRIL",343.6,"APRIL",175,"APRIL",158,"APRIL",144]
["May",201.75,"May",118.33500000000001,"May",120,"May",312.5,"MAY",330.25,"MAY",149,"MAY",166.5,"MAY",143.6]
["June",184.8,"June",117.75,"June",129,"June",255.75,"JUNE",329.75,"JUNE",137.6,"JUNE",166.75,"JUNE",136.5]
["July",162.5,"July",123,"July",119,"July",215.8,"JULY",356.8,"JULY",131,"JULY",164.5,"JULY",135.75]
["August",156,"August",117,"August",117.75,"August",199.5,"AUGUST",297,"AUGUST",154.25,"AUGUST",161.80000000000001,"AUGUST",137.33333333333334]
["September",{"$f":"'[1]Main sheet'!AA150","v":159},"September",117,"September",119,"September",303.25,"SEPTEMBER",260.2,"SEPTEMBER",145.80000000000001,"SEPTEMBER",142.75,"SEPTEMBER",{"$error":"#DIV/0!"}]
["October",{"$f":"'[1]Main sheet'!AA154","v":158.66666666666666},"October",125,"October",126.8,"October",351,"OCTOBER",254.33333333333334,"OCTOBER",141.33333333333334,"OCTOBER",144.5,"OCTOBER",{"$error":"#DIV/0!"}]
["November",153,"November",130,"November",181,"November",342,"NOVEMBER",254.75,"NOVEMBER",140,"NOVEMBER",141.80000000000001,"NOVEMBER",{"$error":"#DIV/0!"}]
["December",150.5,"December",118.75,"December",201.5,"December",366.6,"DECEMBER",248,"DECEMBER",137.4,"DECEMBER",139,"DECEMBER",{"$error":"#DIV/0!"}]
[]
["Central/South America West Coast(Manzanillo)"]
[null,"Ave by Month in 2018",null,"Ave by Month in 2019",null,"Ave by Month in 2020",null,"Ave by Month in 2021",null,"Ave by Month in 2022",null,"Ave by Month in 2023",null,"Ave by Month in 2024",null,"Ave by Month in 2025"]
["January",null,"January",null,"January",null,"January",null,"JANUARY",null,"JANUARY",null,"JANUARY",null,"JANUARY",1676.0166666666667]
["February",null,"February",null,"February",null,"February",null,"FEBRUARY",null,"FEBRUARY",null,"FEBRUARY",null,"FEBRUARY",1836.2550000000001]
["March",null,"March",null,"March",null,"March",null,"MARCH",null,"MARCH",null,"MARCH",null,"MARCH",1464.5700000000002]
["April",null,"April",null,"April",null,"April",null,"APRIL",null,"APRIL",null,"APRIL",null,"APRIL",1471.6675]
["May",null,"May",null,"May",null,"May",null,"MAY",null,"MAY",null,"MAY",null,"MAY",2155.962]
["June",null,"June",null,"June",null,"June",null,"JUNE",null,"JUNE",null,"JUNE",null,"JUNE",3299.5725000000002]
["July",null,"July",null,"July",null,"July",null,"JULY",null,"JULY",null,"JULY",null,"JULY",2061.25]
["August",null,"August",null,"August",null,"August",null,"AUGUST",null,"AUGUST",null,"AUGUST",null,"AUGUST",2238]
["September",null,"September",null,"September",null,"September",null,"SEPTEMBER",null,"SEPTEMBER",null,"SEPTEMBER",null,"SEPTEMBER",{"$error":"#DIV/0!"}]
["October",null,"October",null,"October",null,"October",null,"OCTOBER",null,"OCTOBER",null,"OCTOBER",null,"OCTOBER",{"$error":"#DIV/0!"}]
["November",null,"November",null,"November",null,"November",null,"NOVEMBER",null,"NOVEMBER",null,"NOVEMBER",null,"NOVEMBER",{"$error":"#DIV/0!"}]
["December",null,"December",null,"December",null,"December",null,"DECEMBER",null,"DECEMBER",null,"DECEMBER",null,"DECEMBER",{"$error":"#DIV/0!"}]
[]
["East Africa(Mombasa)"]
[null,"Ave by Month in 2018",null,"Ave by Month in 2019",null,"Ave by Month in 2020",null,"Ave by Month in 2021",null,"Ave by Month in 2022",null,"Ave by Month in 2023",null,"Ave by Month in 2024",null,"Ave by Month in 2025"]
["January",null,"January",null,"January",null,"January",null,"JANUARY",null,"JANUARY",null,"JANUARY",null,"JANUARY",1356.6166666666666]
["February",null,"February",null,"February",null,"February",null,"FEBRUARY",null,"FEBRUARY",null,"FEBRUARY",null,"FEBRUARY",1373.4375]
["March",null,"March",null,"March",null,"March",null,"MARCH",null,"MARCH",null,"MARCH",null,"MARCH",1454.7375000000002]
["April",null,"April",null,"April",null,"April",null,"APRIL",null,"APRIL",null,"APRIL",null,"APRIL",1471.85]
["May",null,"May",null,"May",null,"May",null,"MAY",null,"MAY",null,"MAY",null,"MAY",2024.498]
["June",null,"June",null,"June",null,"June",null,"JUNE",null,"JUNE",null,"JUNE",null,"JUNE",2642.7750000000001]
["July",null,"July",null,"July",null,"July",null,"JULY",null,"JULY",null,"JULY",null,"JULY",2639.75]
["August",null,"August",null,"August",null,"August",null,"AUGUST",null,"AUGUST",null,"AUGUST",null,"AUGUST",2536.3333333333335]
["September",null,"September",null,"September",null,"September",null,"SEPTEMBER",null,"SEPTEMBER",null,"SEPTEMBER",null,"SEPTEMBER",{"$error":"#DIV/0!"}]
["October",null,"October",null,"October",null,"October",null,"OCTOBER",null,"OCTOBER",null,"OCTOBER",null,"OCTOBER",{"$error":"#DIV/0!"}]
["November",null,"November",null,"November",null,"November",null,"NOVEMBER",null,"NOVEMBER",null,"NOVEMBER",null,"NOVEMBER",{"$error":"#DIV/0!"}]
["December",null,"December",null,"December",null,"December",null,"DECEMBER",null,"DECEMBER",null,"DECEMBER",null,"DECEMBER",{"$error":"#DIV/0!"}]
[]
["Date","Europe Average by Month ","Mediterranean Average by Month","USWC Average by Month ","USEC Average by Month ","Persian Gulf and Red Sea Average by Month","Australia/ NZ  Average by Month ","East West Africa Average by Month ","South Africa Average by Month","South America Average by Month ","West Japan Average by Month","East Japan Average by Month ","Southeast Asia Average by Month ","Korea Average by Month ","Central/South America West Coast Average by Month","East Africa(Mombasa) Average by Month"]
["2019-01-01",976.25,978,1995.25,3120.75,779.25,560.25,2553,851.25,1456.5,226.5,227.75,155,145.75]
["2019-02-01",899,913,1849,2953,704.67,500.67,2533.67,818,1319.33,224.33,224.33,152.33000000000001,153]
["2019-03-01",720,758,1456,2490,621,377,2657,704,1467,227,229,148,150]
["2019-04-01",663,717,1584,2655,712,326,2670,642,1305,232,233,144,128]
["2019-05-01",753,717.96500000000003,1386.71,2597.1750000000002,665.86,273.00749999999999,2574,636.91250000000002,997.65750000000003,232.035,235.155,140.16749999999999,118.33500000000001]
["2019-06-01",735.25,735.75,1489.25,2539.75,809.5,264.25,2401.75,748.75,1791,231,233.5,139.5,117.75]
["2019-07-01",697.5,703.75,1570,2829.75,753.25,438.25,2430,765,2051,234,234,125,123]
["2019-08-01",796,941,1466.4,2626.2,684.4,641.6,2502,762.8,1989.8,232.8,234,114.6,117]
["2019-09-01",654,810.5,1419.75,2461,579,857.75,2325,807.5,1865.5,233,235,105.75,117]
["2019-10-01",585,716,1347,2373,647,1116,2310,933,1858,227,232,115,125]
["2019-11-01",722,716,1421,2503,793,1033,2349,969,1859,226,240,153,130]
["2019-12-01",916,1030.5,1413.75,2540.75,1069.25,801,2331,1019.25,1999.25,226,240.25,163,118.75]
["2020-01-01",1040,1181,1572,2898,1161,944,2856,1120,2069,226,241,189,120]
["2020-02-01",829,979,1395,2714,1034,868,2930,1032,1714,226,236,187,118]
["2020-03-01",805,898,1509,2784,997,815,2891,969,1426,227,240,201,118]
["2020-04-01",741,852,1579,2690,767,903,2757,834,982,234,242,201,120]
["2020-05-01",801,874,1783,2661.4,626.4,945.6,2773.2,744.2,1073.8,230,242.4,174.6,120]
["2020-06-01",883,951,2562,3146,475,1024,2741,646,914,226,238,158,129]
["2020-07-01",906,947,2874,3371,672,1080,2685,706,633,229,238,145,119]
["2020-08-01",948,991,3407.25,3894.25,799,1128,2706.5,874,1379.25,231,238,133.25,117.75]
["2020-09-01",1064,1145,3824,4583,1007.25,1363,3110.5,1484.25,3178,232,238,135.75,119]
["2020-10-01",1128,1248,3853,4626,1068,1828,3393.2,1853.6,3967.8,232.2,238.2,169.6,126.8]
["2020-11-01",1622,1764,3888,4683,1319,2352,4094.5,1892.75,4403,248.25,252.5,695.25,181]
["2020-12-01",3061,3097,3969,4814,1520,2455,5095.25,2362,6135.25,246.75,251,845.5,201.5]
["2021-01-01",4325,4303,4035,4742,1942,2427,6412,3196,8625,247,254,960,200]
["2021-02-01",4190,4253,4030,4804,1820,2393,6536,2981,8303,255,264,1003,318]
["2021-03-01",3771,3975,3991,4807,1422,2058,5910,2664,7205,250,255,955,300]
["2021-04-01",4151,4276,4482,5536,1904,1846,6360,3183,7208,254,260,855,310]
["2021-05-01",5377.75,5365,4676.5,7392,2617,1990.5,6763.25,3902.75,7941.25,282.25,286.75,889.75,312.5]
["2021-06-01",6268,6282.5,4729,8721.75,2948.75,2355.25,7593.25,4346.25,9178,301.5,307.5,922.5,255.75]
["2021-07-01",7014,6849,5242,9636,3357,3036,8025,4680,9486,287,288,873,216]
["2021-08-01",7397,7074.5,5793.75,10658.25,3680.75,3744.5,8271.75,5641.25,9859.25,275.75,276.5,863.25,199.5]
["2021-09-01",7502.25,7415.75,6308,11778.5,3914,4273.5,8341.5,6826,10136.5,323.5,316.75,922.25,303.25]
["2021-10-01",7660,7383,6334,10812,3745,4453,8089,6967,10209,349,335,966,351]
["2021-11-01",7575,7236,6663,10465,3380,4455,7576,6539,10135,317,304,1019,342]
["2021-12-01",7642,7370,7373,11036,3671,4527,7452,6451,10196,302,279,1417,367]
["2022-01-01",7784.25,7522.75,7980.25,11471,3648.75,4631.5,7429.75,6322,10079,312.5,282.75,1513.25,446.5]
["2022-02-01",7616,7396.666666666667,8079,10918.666666666666,3487.3333333333335,4498.666666666667,7177.666666666667,6133,9051.6666666666661,315.33333333333331,295.33333333333331,1368,393.33333333333331]
["2022-03-01",6949,7070.75,8049.5,10612.5,3134.75,4006.75,6831.25,5816.25,7829.5,321.5,308.75,1145.25,363.5]
["2022-04-01",6133.6,6742.2,7876.8,10579.8,2500.6,3518.4,6584.2,5516.8,6606,343.2,332.6,1038,343.6]
["2022-05-01",5885.5,6623.75,7863,10553.25,2527.75,3309.25,6421.75,5422.25,6333.25,344.5,351,997.75,330.25]
["2022-06-01",5814.25,6509.75,7551.75,10051.5,3316,3388.5,6308,5584.75,7358.5,341,352.5,1056,329.75]
["2022-07-01",5605.2,6242.6,6949.8,9521.7999999999993,3148.6,3191,6152.6,5491.2,9114.4,337.2,338.6,1035.4000000000001,356.8]
["2022-08-01",4841.5,5509.75,5892,9057.25,2315.25,2885,5833.25,5220,9134.5,318.75,308,740.25,297]
["2022-09-01",3557.4,3804.2,3115.2,7191.6,1276,2243.8000000000002,5087.6000000000004,4672,6402,321.8,306.8,432.4,260.2]
["2022-10-01",2354,2553,2009.3333333333333,5591,1449.6666666666667,1471,4786,4344.333333333333,4906.666666666667,322.66666666666669,299.33333333333331,349,254.33333333333334]
["2022-11-01",1378.25,2023,1592,4169.25,1526.25,905.25,4241.75,3819.75,2903,327.25,315,332.75,254.75]
["2022-12-01",1061.8,1853,1426.2,3211.8,1166.5999999999999,691.6,3469.4,3094.8,1702.2,328.6,334.2,207,248]
["2023-01-01",1028,1835.6666666666667,1398.3333333333333,2817.6666666666665,1013.6666666666666,549.66666666666663,3096.3333333333335,2728,1137.6666666666667,326,331,161,238]
["2023-02-01",919.5,1679,1290.75,2536.5,1070,392.5,2833,2432.5,1494.5,329,329.25,155.25,214]
["2023-03-01",871,1609.6,1165.4000000000001,2130.1999999999998,931.2,306.60000000000002,2703.4,1926.8,1461.8,324.2,328,188,194.6]
["2023-04-01",878,1613.25,1511.5,2410,1231,245.75,2687.25,1557.5,1931.25,323,331.25,190.5,175]
["2023-05-01",868,1630,1391,2379,1290,246,2743,1404,1992,322,330,175,149]
["2023-06-01",808.2,1583.8,1368.4,2320.1999999999998,1253.4000000000001,265.60000000000002,2729.6,1335.6,2373.4,327,327.39999999999998,165.8,137.6]
["2023-07-01",798.75,1433.75,1720.5,2639.75,983.75,268,2673.75,1305.5,2593.5,326.5,334.5,150.25,131]
["2023-08-01",881.75,1497.75,2007,3061.5,871,437,2519.5,1351.75,2321.75,317,325.5,141.75,154.25]
["2023-09-01",672.4,1260.5999999999999,1916,2635.4,875.8,609,2317.1999999999998,1328.8,1868.8,307.8,319.8,169.2,145.80000000000001]
["2023-10-01",637.33333333333337,1147.3333333333333,1799,2263,968,721,2250,1463,2170.3333333333335,306.33333333333331,319,184,141.33333333333334]
["2023-11-01",741,1186,1817,2363.75,1262.5,905.5,2279.75,1517,2734.75,305.5,319.5,194,140]
["2023-12-01",1399.2,1952.2,1908.4,2846.6,1401,945,2138.6,1583.4,2504.6,300.39999999999998,309.39999999999998,203.4,137.4]
["2024-01-01",2966.25,3906.75,3870.25,5604.75,2051.5,1204.75,2347.5,1811.25,2788.75,291,301.25,303.75,147.5]
["2024-02-01",2626.3333333333335,3641,4843,6410.333333333333,1612.3333333333333,1230,2447,1879,2581.3333333333335,289,302,301.33333333333331,156]
["2024-03-01",2063.8000000000002,3060.6,3821,5179.2,1584.8,921.4,2233.6,1767.2,2617.8000000000002,288.60000000000002,300.60000000000002,281.60000000000002,154.4]
["2024-04-01",2059.75,3076.75,3322.5,4317.5,2006,826.75,2429.25,1845.25,3871.25,293.5,305.25,291.25,158]
["2024-05-01",3267,4210,5193.75,6319,2319.5,1264.75,4968.75,3683.5,6655,291,304.5,441.25,166.5]
["2024-06-01",4336,4968.5,7029.5,8247.75,2852.25,1406.25,5871.75,5452,8402.75,293,299,697,166.75]
["2024-07-01",4974.75,5371.75,7386,9783.5,2280.25,1411.5,5204.75,5088.5,8484.25,293,299,716.75,164.5]
["2024-08-01",4515.8,4596.2,6197.8,8942.2000000000007,2057.8000000000002,1915,5004.8,4816.2,7768.8,293,299,568.4,161.80000000000001]
["2024-09-01",2785.5,3171,5323,6615.25,1220.5,2184,4646,4442.75,7063.25,299.5,306.75,430.5,142.75]
["2024-10-01",2116.5,2444.25,4772.75,5312,1142,2014.5,4450.25,4234,6325,302.25,305,417.25,144.5]
["2024-11-01",2603,3159,4180.3999999999996,5110.3999999999996,1417.4,2076.4,4548.2,4020.2,5682,304,305.39999999999998,622.79999999999995,141.80000000000001]
["2024-12-01",2975.25,3755,4027.75,5533.5,1463.5,1938.25,4529,3551,5534.5,307.5,309.75,697.5,139]
["2025-01-01",2372.8000000000002,3393,4428.6000000000004,6031.8,1320,1640.2,4323.6000000000004,3284.6,4402.2,307.39999999999998,309.8,551.79999999999995,139.4,1676.0166666666667,1356.6166666666666]
["2025-02-01",1671,2767.25,3216.25,4444.25,1113,905.75,4004.5,2789.25,3127.75,305,308,448,137.25,1836.2550000000001,1373.4375]
["2025-03-01",1387,2270.75,2076.25,3091.5,1049.5,736.75,3663.25,2199,1929,307.75,312.5,441,138,1464.5700000000002,1454.7375000000002]
["2025-04-01",1317,2115.5,2189.75,3260,1256.5,868.75,3811.25,2115.5,1497.25,317.5,322.5,449.25,144,1471.6675,1471.85]
["2025-05-01",1283.8,2329.8000000000002,3231.4,4242.8,1307.4000000000001,750.6,3803.8,2040.8,1864.2,315.39999999999998,320.2,438.25,143.6,2155.962,2024.498]
["2025-06-01",1844,3135,3769,5938.25,2048.5,757.5,4394.5,2453.75,5090.5,314.25,320,454.25,136.5,3299.5725000000002,2642.7750000000001]
["2025-07-01",2092.25,2620.5,2123,3821.5,1499,996.75,4380.5,2823.25,5852.75,313,322,443.75,135.75,2061.25,2639.75]
["2025-08-01",1944,2310,1867.6666666666667,2879,1255.6666666666667,1185.6666666666667,4113.5,3008.6666666666665,3937.6666666666665,313,322.66666666666669,409,137.33333333333334,2238,2536.3333333333335]
["2025-09-01",{"$error":"#DIV/0!"},{"$error":"#DIV/0!"},{"$error":"#DIV/0!"},{"$error":"#DIV/0!"},{"$error":"#DIV/0!"},{"$error":"#DIV/0!"},{"$error":"#DIV/0!"},{"$error":"#DIV/0!"},{"$error":"#DIV/0!"},{"$error":"#DIV/0!"},{"$error":"#DIV/0!"},{"$error":"#DIV/0!"},{"$error":"#DIV/0!"},{"$error":"#DIV/0!"},{"$error":"#DIV/0!"}]
["2025-10-01",{"$error":"#DIV/0!"},{"$error":"#DIV/0!"},{"$error":"#DIV/0!"},{"$error":"#DIV/0!"},{"$error":"#DIV/0!"},{"$error":"#DIV/0!"},{"$error":"#DIV/0!"},{"$error":"#DIV/0!"},{"$error":"#DIV/0!"},{"$error":"#DIV/0!"},{"$error":"#DIV/0!"},{"$error":"#DIV/0!"},{"$error":"#DIV/0!"},{"$error":"#DIV/0!"},{"$error":"#DIV/0!"}]
["2025-11-01",{"$error":"#DIV/0!"},{"$error":"#DIV/0!"},{"$error":"#DIV/0!"},{"$error":"#DIV/0!"},{"$error":"#DIV/0!"},{"$error":"#DIV/0!"},{"$error":"#DIV/0!"},{"$error":"#DIV/0!"},{"$error":"#DIV/0!"},{"$error":"#DIV/0!"},{"$error":"#DIV/0!"},{"$error":"#DIV/0!"},{"$error":"#DIV/0!"},{"$error":"#DIV/0!"},{"$error":"#DIV/0!"}]
["2025-12-01",{"$error":"#DIV/0!"},{"$error":"#DIV/0!"},{"$error":"#DIV/0!"},{"$error":"#DIV/0!"},{"$error":"#DIV/0!"},{"$error":"#DIV/0!"},{"$error":"#DIV/0!"},{"$error":"#DIV/0!"},{"$error":"#DIV/0!"},{"$error":"#DIV/0!"},{"$error":"#DIV/0!"},{"$error":"#DIV/0!"},{"$error":"#DIV/0!"},{"$error":"#DIV/0!"},{"$error":"#DIV/0!"}]
["2026-01-01"]
["2026-02-01"]
["2026-03-01"]
["2026-04-01"]
["2026-05-01"]
["2026-06-01"]
["2026-07-01"]
["2026-08-01"]
["2026-09-01"]
["2026-10-01"]
["2026-11-01"]
["2026-12-01"]
["2027-01-01"]
["2027-02-01"]
["2027-03-01"]
["2027-04-01"]
["2027-05-01"]
["2027-06-01"]
["2027-07-01"]
["2027-08-01"]
["2027-09-01"]
["2027-10-01"]
["2027-11-01"]
["2027-12-01"]
["2028-01-01"]
["2028-02-01"]
["2028-03-01"]
["2028-04-01"]
["2028-05-01"]
["2028-06-01"]
["2028-07-01"]
["2028-08-01"]
["2028-09-01"]
["2028-10-01"]
["2028-11-01"]
["2028-12-01"]
["2029-01-01"]
["2029-02-01"]
["2029-03-01"]
["2029-04-01"]
["2029-05-01"]
["2029-06-01"]
["2029-07-01"]
["2029-08-01"]
["2029-09-01"]
["2029-10-01"]
["2029-11-01"]
["2029-12-01"]
["2030-01-01"]
["2030-02-01"]
["2030-03-01"]
["2030-04-01"]
["2030-05-01"]
["2030-06-01"]
["2030-07-01"]
["2030-08-01"]
["2030-09-01"]
["2030-10-01"]
["2030-11-01"]
["2030-12-01"]
["2031-01-01"]
["2031-02-01"]
["2031-03-01"]
["2031-04-01"]
["2031-05-01"]
["2031-06-01"]
["2031-07-01"]
["2031-08-01"]
["2031-09-01"]
["2031-10-01"]
["2031-11-01"]
["2031-12-01"]
["2032-01-01"]
["2032-02-01"]
["2032-03-01"]
["2032-04-01"]
["2032-05-01"]
["2032-06-01"]
["2032-07-01"]
["2032-08-01"]
["2032-09-01"]
["2032-10-01"]
["2032-11-01"]
["2032-12-01"]
["2033-01-01"]
["2033-02-01"]
["2033-03-01"]
["2033-04-01"]
["2033-05-01"]
["2033-06-01"]
["2033-07-01"]

{"sheet":"Asia to Europe Trend","index":4,"n_rows":99,"n_cols":12,"rows_kept":99,"cut":false,"hidden":true,"merged":[]}
[]
[]
["SCFI Weekly trend"]
[]
[]
[null,"Europe Average by Month in 2016",null,"Europe Average by Month in 2017",null,"Europe Average by Month in 2018",null,"Europe Average by Month in 2019",null,"Europe Average by Month in 2020",null,"Europe Average by Month in 2021"]
["JANUARY",671.5,"JANUARY",1073.75,"JANUARY",895.75,"JANUARY",976.25,"JANUARY",1040,"JANUARY",4325]
["FEBRUARY",340,"FEBRUARY",928.75,"FEBRUARY",911.75,"FEBRUARY",899,"FEBRUARY",829,"FEBRUARY",4190]
["MARCH",223.5,"MARCH",841.4,"MARCH",739.2,"MARCH",720,"MARCH",805,"MARCH",3771]
["APRIL",380.8,"APRIL",900.75,"APRIL",640,"APRIL",663,"APRIL",741,"APRIL"]
["MAY",622.25,"MAY",964.5,"MAY",804.25,"MAY",753.33749999999998,"MAY",801,"MAY"]
["JUNE",659.5,"JUNE",929,"JUNE",865.4,"JUNE",735.25,"JUNE",883,"JUNE"]
["JULY",950.4,"JULY",947.5,"JULY",888,"JULY",697.5,"JULY",906,"JULY"]
["AUGUST",754.5,"AUGUST",926.75,"AUGUST",940.6,"AUGUST",795.6,"AUGUST",948,"AUGUST"]
["SEPTEMBER",864.2,"SEPTEMBER",783,"SEPTEMBER",{"$f":"'[1]Main sheet'!C150","v":801.75},"SEPTEMBER",654,"SEPTEMBER",1064,"SEPTEMBER"]
["OCTOBER",824.66666666666663,"OCTOBER",703.66666666666663,"OCTOBER",{"$f":"'[1]Main sheet'!C154","v":739.66666666666663},"OCTOBER",585,"OCTOBER",1128,"OCTOBER"]
["NOVEMBER",836.25,"NOVEMBER",722.5,"NOVEMBER",745,"NOVEMBER",722,"NOVEMBER",1622,"NOVEMBER"]
["DECEMBER",1039.8,"DECEMBER",789,"DECEMBER",868.5,"DECEMBER",916,"DECEMBER",3061,"DECEMBER"]
[]
[]
[]
[]
[]
[]
[]
[]
[null,"Europe Average by Month "]
["2016-01-01",671.5]
["2016-02-01",340]
["2016-03-01",223.5]
["2016-04-01",380.8]
["2016-05-01",622.25]
["2016-06-01",659.5]
["2016-07-01",950.4]
["2016-08-01",754.5]
["2016-09-01",864.2]
["2016-10-01",824.66666666666663]
["2016-11-01",836.25]
["2016-12-01",1039.8]
["2017-01-01",1073.75]
["2017-02-01",928.75]
["2017-03-01",841.4]
["2017-04-01",900.75]
["2017-05-01",964.5]
["2017-06-01",929]
["2017-07-01",947.5]
["2017-08-01",926.75]
["2017-09-01",783]
["2017-10-01",703.66666666666663]
["2017-11-01",722.5]
["2017-12-01",789]
["2018-01-01",895.75]
["2018-02-01",911.75]
["2018-03-01",739.2]
["2018-04-01",640]
["2018-05-01",804.25]
["2018-06-01",865.4]
["2018-07-01",888]
["2018-08-01",940.6]
["2018-09-01",802]
["2018-10-01",740]
["2018-11-01",745]
["2018-12-01",868.5]
["2019-01-01",976.25]
["2019-02-01",899]
["2019-03-01",720]
["2019-04-01",663]
["2019-05-01",753]
["2019-06-01",735.25]
["2019-07-01",697.5]
["2019-08-01",796]
["2019-09-01",654]
["2019-10-01",585]
["2019-11-01",722]
["2019-12-01",916]
["2020-01-01",1040]
["2020-02-01",829]
["2020-03-01",805]
["2020-04-01",741]
["2020-05-01",801]
["2020-06-01",883]
["2020-07-01",906]
["2020-08-01",948]
["2020-09-01",1064]
["2020-10-01",1128]
["2020-11-01",1622]
["2020-12-01",3061]
["2021-01-01",4325]
["2021-02-01",4190]
["2021-03-01",3771]
["2021-04-01"]
["2021-05-01"]
["2021-06-01"]
["2021-07-01"]
["2021-08-01"]
["2021-09-01"]
["2021-10-01"]
["2021-11-01"]
["2021-12-01"]

{"sheet":"Asia to Mediterranean Trend","index":5,"n_rows":99,"n_cols":12,"rows_kept":99,"cut":false,"hidden":true,"merged":[]}
[]
[null,"Mediterranean Average by Month in 2016",null,"Mediterranean Average by Month in 2017",null,"Mediterranean Average by Month in 2018",null,"Mediterranean Average by Month in 2019",null,"Mediterranean Average by Month in 2020",null,"Mediterranean Average by Month in 2021"]
["JANUARY",752,"JANUARY",1015,"JANUARY",757.5,"JANUARY",978,"JANUARY",1181,"JANUARY",4303]
["FEBRUARY",354.66666666666669,"FEBRUARY",897.5,"FEBRUARY",794,"FEBRUARY",913,"FEBRUARY",979,"FEBRUARY",4253]
["MARCH",220.5,"MARCH",825.8,"MARCH",670.4,"MARCH",758,"MARCH",898,"MARCH",3975]
["APRIL",539,"APRIL",874,"APRIL",627.75,"APRIL",717,"APRIL",852,"APRIL"]
["MAY",853.5,"MAY",949,"MAY",795.5,"MAY",717.96500000000003,"MAY",874,"MAY"]
["JUNE",778.25,"JUNE",906,"JUNE",904.75,"JUNE",735.75,"JUNE",951,"JUNE"]
["JULY",909.8,"JULY",876.25,"JULY",888,"JULY",703.75,"JULY",947,"JULY"]
["AUGUST",677.75,"AUGUST",840.25,"AUGUST",901.6,"AUGUST",941,"AUGUST",991,"AUGUST"]
["SEPTEMBER",666.2,"SEPTEMBER",736,"SEPTEMBER",{"$f":"'[1]Main sheet'!E150","v":823.25},"SEPTEMBER",810.5,"SEPTEMBER",1145,"SEPTEMBER"]
["OCTOBER",637,"OCTOBER",646,"OCTOBER",{"$f":"'[1]Main sheet'!E154","v":760},"OCTOBER",716,"OCTOBER",1248,"OCTOBER"]
["NOVEMBER",725.25,"NOVEMBER",616.75,"NOVEMBER",766,"NOVEMBER",716,"NOVEMBER",1764,"NOVEMBER"]
["DECEMBER",961,"DECEMBER",625.6,"DECEMBER",853.75,"DECEMBER",1030.5,"DECEMBER",3097,"DECEMBER"]
[]
[]
[]
[]
[]
[]
[]
[]
[]
[]
[]
[]
[null,"Mediterranean Average by Month"]
["2016-01-01",752]
["2016-02-01",354.66666666666669]
["2016-03-01",220.5]
["2016-04-01",539]
["2016-05-01",853.5]
["2016-06-01",778.25]
["2016-07-01",909.8]
["2016-08-01",677.75]
["2016-09-01",666.2]
["2016-10-01",637]
["2016-11-01",725.25]
["2016-12-01",961]
["2017-01-01",1015]
["2017-02-01",897.5]
["2017-03-01",825.8]
["2017-04-01",874]
["2017-05-01",949]
["2017-06-01",906]
["2017-07-01",876.25]
["2017-08-01",840.25]
["2017-09-01",736]
["2017-10-01",646]
["2017-11-01",616.75]
["2017-12-01",625.6]
["2018-01-01",757.5]
["2018-02-01",794]
["2018-03-01",670.4]
["2018-04-01",627.75]
["2018-05-01",795.5]
["2018-06-01",904.75]
["2018-07-01",888]
["2018-08-01",901.6]
["2018-09-01",823]
["2018-10-01",760]
["2018-11-01",766]
["2018-12-01",853.75]
["2019-01-01",978]
["2019-02-01",913]
["2019-03-01",758]
["2019-04-01",717]
["2019-05-01",717.96500000000003]
["2019-06-01",735.75]
["2019-07-01",703.75]
["2019-08-01",941]
["2019-09-01",810.5]
["2019-10-01",716]
["2019-11-01",716]
["2019-12-01",1030.5]
["2020-01-01",1181]
["2020-02-01",979]
["2020-03-01",898]
["2020-04-01",852]
["2020-05-01",874]
["2020-06-01",951]
["2020-07-01",947]
["2020-08-01",991]
["2020-09-01",1145]
["2020-10-01",1248]
["2020-11-01",1764]
["2020-12-01",3097]
["2021-01-01",4303]
["2021-02-01",4253]
["2021-03-01",3975]
["2021-04-01"]
["2021-05-01"]
["2021-06-01"]
["2021-07-01"]
["2021-08-01"]
["2021-09-01"]
["2021-10-01"]
["2021-11-01"]
["2021-12-01"]

{"sheet":"Asia to USWC Trend","index":6,"n_rows":96,"n_cols":12,"rows_kept":96,"cut":false,"hidden":true,"merged":[]}
["SCFI Weekly trend"]
[]
[null,"USWC Average by Month in 2016",null,"USWC Average by Month in 2017",null,"USWC Average by Month in 2018",null,"USWC Average by Month in 2019",null,"USWC Average by Month in 2020",null,"USWC Average by Month in 2021"]
["JANUARY",1420,"JANUARY",2141.5,"JANUARY",1468,"JANUARY",1995.25,"JANUARY",1572,"JANUARY",4742]
["FEBRUARY",1132,"FEBRUARY",1869.25,"FEBRUARY",1483.5,"FEBRUARY",1849,"FEBRUARY",1395,"FEBRUARY",4804]
["MARCH",800.75,"MARCH",1405,"MARCH",1096.5999999999999,"MARCH",1456,"MARCH",1509,"MARCH",4807]
["APRIL",824.6,"APRIL",1416,"APRIL",1208.75,"APRIL",1584,"APRIL",1579,"APRIL"]
["MAY",805.5,"MAY",1390.25,"MAY",1360.25,"MAY",1386.71,"MAY",1783,"MAY"]
["JUNE",796.5,"JUNE",1261.2,"JUNE",1361.6,"JUNE",1489.25,"JUNE",2562,"JUNE"]
["JULY",1282.8,"JULY",1377.75,"JULY",1683.25,"JULY",1570,"JULY",2874,"JULY"]
["AUGUST",1203.5,"AUGUST",1625.5,"AUGUST",2130.4,"AUGUST",1466.4,"AUGUST",3407.25,"AUGUST"]
["SEPTEMBER",1729.8,"SEPTEMBER",1490.4,"SEPTEMBER",{"$f":"'[1]Main sheet'!G150","v":2339},"SEPTEMBER",1419.75,"SEPTEMBER",3824,"SEPTEMBER"]
["OCTOBER",1955,"OCTOBER",1415,"OCTOBER",{"$f":"'[1]Main sheet'!G154","v":2559},"OCTOBER",1347,"OCTOBER",3853,"OCTOBER"]
["NOVEMBER",1753.5,"NOVEMBER",1326.25,"NOVEMBER",2429,"NOVEMBER",1421,"NOVEMBER",3888,"NOVEMBER"]
["DECEMBER",1505.6,"DECEMBER",1227.5999999999999,"DECEMBER",1902.75,"DECEMBER",1413.75,"DECEMBER",3969,"DECEMBER"]
[]
[]
[]
[]
[]
[]
[]
[]
[null,"USWC Average by Month "]
["2016-01-01",1420]
["2016-02-01",1132]
["2016-03-01",800.75]
["2016-04-01",824.6]
["2016-05-01",805.5]
["2016-06-01",796.5]
["2016-07-01",1282.8]
["2016-08-01",1203.5]
["2016-09-01",1729.8]
["2016-10-01",1955]
["2016-11-01",1753.5]
["2016-12-01",1505.6]
["2017-01-01",2141.5]
["2017-02-01",1869.25]
["2017-03-01",1405]
["2017-04-01",1416]
["2017-05-01",1390.25]
["2017-06-01",1261.2]
["2017-07-01",1377.75]
["2017-08-01",1625.5]
["2017-09-01",1490.4]
["2017-10-01",1415]
["2017-11-01",1326.25]
["2017-12-01",1227.5999999999999]
["2018-01-01",1468]
["2018-02-01",1483.5]
["2018-03-01",1096.5999999999999]
["2018-04-01",1208.75]
["2018-05-01",1360.25]
["2018-06-01",1361.6]
["2018-07-01",1683.25]
["2018-08-01",2130.4]
["2018-09-01",2339]
["2018-10-01",2559]
["2018-11-01",2429]
["2018-12-01",1902.75]
["2019-01-01",1995.25]
["2019-02-01",1849]
["2019-03-01",1456]
["2019-04-01",1584]
["2019-05-01",1386.71]
["2019-06-01",1489.25]
["2019-07-01",1570]
["2019-08-01",1466.4]
["2019-09-01",1419.75]
["2019-10-01",1347]
["2019-11-01",1421]
["2019-12-01",1413.75]
["2020-01-01",1572]
["2020-02-01",1395]
["2020-03-01",1509]
["2020-04-01",1579]
["2020-05-01",1783]
["2020-06-01",2562]
["2020-07-01",2874]
["2020-08-01",3407.25]
["2020-09-01",3824]
["2020-10-01",3853]
["2020-11-01",3888]
["2020-12-01",3969]
["2021-01-01",4742]
["2021-02-01",4804]
["2021-03-01",4807]
["2021-04-01"]
["2021-05-01"]
["2021-06-01"]
["2021-07-01"]
["2021-08-01"]
["2021-09-01"]
["2021-10-01"]
["2021-11-01"]
["2021-12-01"]

{"sheet":"Asia to USEC Trend","index":7,"n_rows":100,"n_cols":12,"rows_kept":100,"cut":false,"hidden":true,"merged":[]}
[]
[]
["SCFI Weekly trend"]
[]
[]
[]
[null,"USEC Average by Month in 2016",null,"USEC Average by Month in 2017",null,"USEC Average by Month in 2018",null,"USEC Average by Month in 2019",null,"USEC Average by Month in 2020",null,"USEC Average by Month in 2021"]
["January",2471.25,"January",3502.75,"January",2646.5,"January",3120.75,"January",2898,"January",1942]
["February",2132.6666666666665,"February",3341,"February",2773.25,"February",2953,"February",2714,"February",1820]
["March",1706,"March",2750.6,"March",2129.1999999999998,"March",2490,"March",2784,"March",1422]
["April",1692,"April",2432,"April",2226.5,"April",2655,"April",2690,"April"]
["May",1617.75,"May",2381.5,"May",2349.75,"May",2597.1750000000002,"May",2661.4,"May"]
["June",1589.5,"June",2222.1999999999998,"June",2351.6,"June",2539.75,"June",3146,"June"]
["July",1817,"July",2369,"July",2707.25,"July",2829.75,"July",3371,"July"]
["August",1757.5,"August",2573,"August",3266.4,"August",2626.2,"August",3894.25,"August"]
["September",2436.8000000000002,"September",2175.1999999999998,"September",{"$f":"'[1]Main sheet'!I150","v":3462.75},"September",2461,"September",4583,"September"]
["October",2654.6666666666665,"October",1877,"October",{"$f":"'[1]Main sheet'!I154","v":3300.6666666666665},"October",2373,"October",4626,"October"]
["November",2650,"November",1872,"November",3604,"November",2503,"November",4683,"November"]
["December",2521.4,"December",2012.4,"December",2946.25,"December",2540.75,"December",4814,"December"]
[]
[]
[]
[]
[]
[]
[]
[]
[null,"USEC Average by Month "]
["2016-01-01",2471.25]
["2016-02-01",2132.6666666666665]
["2016-03-01",1706]
["2016-04-01",1692]
["2016-05-01",1617.75]
["2016-06-01",1589.5]
["2016-07-01",1817]
["2016-08-01",1757.5]
["2016-09-01",2436.8000000000002]
["2016-10-01",2654.6666666666665]
["2016-11-01",2650]
["2016-12-01",2521.4]
["2017-01-01",3502.75]
["2017-02-01",3341]
["2017-03-01",2750.6]
["2017-04-01",2432]
["2017-05-01",2381.5]
["2017-06-01",2222.1999999999998]
["2017-07-01",2369]
["2017-08-01",2573]
["2017-09-01",2175.1999999999998]
["2017-10-01",1877]
["2017-11-01",1872]
["2017-12-01",2012.4]
["2018-01-01",2646.5]
["2018-02-01",2773.25]
["2018-03-01",2129.1999999999998]
["2018-04-01",2226.5]
["2018-05-01",2349.75]
["2018-06-01",2351.6]
["2018-07-01",2707.25]
["2018-08-01",3266.4]
["2018-09-01",3462.75]
["2018-10-01",3300.6666666666665]
["2018-11-01",3604]
["2018-12-01",2946.25]
["2019-01-01",3120.75]
["2019-02-01",2953]
["2019-03-01",2490]
["2019-04-01",2655]
["2019-05-01",2597.1750000000002]
["2019-06-01",2539.75]
["2019-07-01",2829.75]
["2019-08-01",2626.2]
["2019-09-01",2461]
["2019-10-01",2373]
["2019-11-01",2503]
["2019-12-01",2540.75]
["2020-01-01",2898]
["2020-02-01",2714]
["2020-03-01",2784]
["2020-04-01",2690]
["2020-05-01",2661.4]
["2020-06-01",3146]
["2020-07-01",3371]
["2020-08-01",3894.25]
["2020-09-01",4583]
["2020-10-01",4626]
["2020-11-01",4683]
["2020-12-01",4814]
["2021-01-01",1942]
["2021-02-01",1820]
["2021-03-01",1422]
["2021-04-01"]
["2021-05-01"]
["2021-06-01"]
["2021-07-01"]
["2021-08-01"]
["2021-09-01"]
["2021-10-01"]
["2021-11-01"]
["2021-12-01"]

{"sheet":"Persian Gulf and Red Sea Trend","index":8,"n_rows":97,"n_cols":12,"rows_kept":97,"cut":false,"hidden":true,"merged":[]}
[]
[null,"Persian Gulf and Red Sea Average by Month in 2016",null,"Persian Gulf and Red Sea Average by Month in 2017",null,"Persian Gulf and Red Sea Average by Month in 2018",null,"Persian Gulf and Red Sea Average by Month in 2019",null,"Persian Gulf and Red Sea Average by Month in 2020",null,"Persian Gulf and Red Sea Average by Month in 2021"]
["January",357.75,"January",631,"January",521.5,"January",779.25,"January",1161,"January",1942]
["February",267.66666666666669,"February",586,"February",583.5,"February",704.67,"February",1034,"February",1820]
["March",279.75,"March",625.20000000000005,"March",390,"March",621,"March",997,"March",1422]
["April",537.4,"April",847,"April",383.5,"April",712,"April",767,"April"]
["May",411.25,"May",735.75,"May",458.5,"May",665.86,"May",626.4,"May"]
["June",352.75,"June",925.2,"June",527.6,"June",809.5,"June",475,"June"]
["July",344.2,"July",756.25,"July",411.5,"July",753.25,"July",672,"July"]
["August",250.5,"August",582,"August",379,"August",684.4,"August",799,"August"]
["September",375.4,"September",408.4,"September",{"$f":"'[1]Main sheet'!K150","v":375.25},"September",579,"September",1007.25,"September"]
["October",531.33333333333337,"October",518.66666666666663,"October",{"$f":"'[1]Main sheet'!K154","v":427.66666666666669},"October",647,"October",1068,"October"]
["November",555,"November",453.5,"November",520,"November",793,"November",1319,"November"]
["December",511.4,"December",362.8,"December",579.5,"December",1069.25,"December",1520,"December"]
[]
[]
[]
[]
[]
[]
[]
[]
[]
[]
[null,"Persian Gulf and Red Sea Average by Month"]
["2016-01-01",357.75]
["2016-02-01",267.66666666666669]
["2016-03-01",279.75]
["2016-04-01",537.4]
["2016-05-01",411.25]
["2016-06-01",352.75]
["2016-07-01",344.2]
["2016-08-01",250.5]
["2016-09-01",375.4]
["2016-10-01",531.33333333333337]
["2016-11-01",555]
["2016-12-01",511.4]
["2017-01-01",631]
["2017-02-01",586]
["2017-03-01",625.20000000000005]
["2017-04-01",847]
["2017-05-01",735.75]
["2017-06-01",925.2]
["2017-07-01",756.25]
["2017-08-01",582]
["2017-09-01",408.4]
["2017-10-01",518.66666666666663]
["2017-11-01",453.5]
["2017-12-01",362.8]
["2018-01-01",521.5]
["2018-02-01",583.5]
["2018-03-01",390]
["2018-04-01",383.5]
["2018-05-01",458.5]
["2018-06-01",527.6]
["2018-07-01",411.5]
["2018-08-01",379]
["2018-09-01",375.25]
["2018-10-01",427.66666666666669]
["2018-11-01",520]
["2018-12-01",579.5]
["2019-01-01",779.25]
["2019-02-01",704.67]
["2019-03-01",621]
["2019-04-01",712]
["2019-05-01",665.86]
["2019-06-01",809.5]
["2019-07-01",753.25]
["2019-08-01",684.4]
["2019-09-01",579]
["2019-10-01",647]
["2019-11-01",793]
["2019-12-01",1069.25]
["2020-01-01",1161]
["2020-02-01",1034]
["2020-03-01",997]
["2020-04-01",767]
["2020-05-01",626.4]
["2020-06-01",475]
["2020-07-01",672]
["2020-08-01",799]
["2020-09-01",1007.25]
["2020-10-01",1068]
["2020-11-01",1319]
["2020-12-01",1520]
["2021-01-01",1942]
["2021-02-01",1820]
["2021-03-01",1422]
["2021-04-01"]
["2021-05-01"]
["2021-06-01"]
["2021-07-01"]
["2021-08-01"]
["2021-09-01"]
["2021-10-01"]
["2021-11-01"]
["2021-12-01"]

{"sheet":"Australia and NZ Trend","index":9,"n_rows":96,"n_cols":12,"rows_kept":96,"cut":false,"hidden":true,"merged":[]}
[null,"Australia/ NZ Average by Month"]
[null,"Australia/ NZ  Average by Month in 2016",null,"Australia/ NZ  Average by Month in 2017",null,"Australia/ NZ  Average by Month in 2018",null,"Australia/ NZ  Average by Month in 2019",null,"Australia/ NZ  Average by Month in 2020",null,"Australia/ NZ  Average by Month in 2021"]
["January",617.75,"January",808.25,"January",1334.25,"January",560.25,"January",944,"January",2427]
["February",439.66666666666669,"February",618,"February",1304,"February",500.67,"February",868,"February",2393]
["March",353,"March",449.2,"March",972.6,"March",377,"March",815,"March",2058]
["April",393.6,"April",435.25,"April",848,"April",326,"April",903,"April"]
["May",401.25,"May",407.25,"May",830.25,"May",273.00749999999999,"May",945.6,"May"]
["June",321.5,"June",348.4,"June",732.8,"June",264.25,"June",1024,"June"]
["July",395.8,"July",404.5,"July",736,"July",438.25,"July",1080,"July"]
["August",352,"August",500,"August",671.4,"August",641.6,"August",1128,"August"]
["September",514.20000000000005,"September",713.6,"September",{"$f":"'[1]Main sheet'!M150","v":545.25},"September",857.75,"September",1363,"September"]
["October",855.66666666666663,"October",1057.3333333333333,"October",{"$f":"'[1]Main sheet'!M154","v":736.66666666666663},"October",1116,"October",1828,"October"]
["November",941.25,"November",1296,"November",677,"November",1033,"November",2352,"November"]
["December",794.8,"December",1184.2,"December",581.25,"December",801,"December",2455,"December"]
[]
[]
[]
[]
[]
[]
[]
[]
[]
[null,"Australia/ NZ  Average by Month "]
["2016-01-01",617.75]
["2016-02-01",439.66666666666669]
["2016-03-01",353]
["2016-04-01",393.6]
["2016-05-01",401.25]
["2016-06-01",321.5]
["2016-07-01",395.8]
["2016-08-01",352]
["2016-09-01",514.20000000000005]
["2016-10-01",855.66666666666663]
["2016-11-01",941.25]
["2016-12-01",794.8]
["2017-01-01",808.25]
["2017-02-01",618]
["2017-03-01",449.2]
["2017-04-01",435.25]
["2017-05-01",407.25]
["2017-06-01",348.4]
["2017-07-01",404.5]
["2017-08-01",500]
["2017-09-01",713.6]
["2017-10-01",1057.3333333333333]
["2017-11-01",1296]
["2017-12-01",1184.2]
["2018-01-01",1334.25]
["2018-02-01",1304]
["2018-03-01",972.6]
["2018-04-01",848]
["2018-05-01",830.25]
["2018-06-01",732.8]
["2018-07-01",736]
["2018-08-01",671.4]
["2018-09-01",545.25]
["2018-10-01",736.66666666666663]
["2018-11-01",677]
["2018-12-01",581.25]
["2019-01-01",560.25]
["2019-02-01",500.67]
["2019-03-01",377]
["2019-04-01",326]
["2019-05-01",273.00749999999999]
["2019-06-01",264.25]
["2019-07-01",438.25]
["2019-08-01",641.6]
["2019-09-01",857.75]
["2019-10-01",1116]
["2019-11-01",1033]
["2019-12-01",801]
["2020-01-01",944]
["2020-02-01",868]
["2020-03-01",815]
["2020-04-01",903]
["2020-05-01",945.6]
["2020-06-01",1024]
["2020-07-01",1080]
["2020-08-01",1128]
["2020-09-01",1363]
["2020-10-01",1828]
["2020-11-01",2352]
["2020-12-01",2455]
["2021-01-01",2427]
["2021-02-01",2393]
["2021-03-01",2058]
["2021-04-01"]
["2021-05-01"]
["2021-06-01"]
["2021-07-01"]
["2021-08-01"]
["2021-09-01"]
["2021-10-01"]
["2021-11-01"]
["2021-12-01"]

{"sheet":"East West Africa Trend","index":10,"n_rows":100,"n_cols":12,"rows_kept":100,"cut":false,"hidden":true,"merged":[]}
[null,"East West Africa Average by Month"]
[null,"East West Africa Average by Month in 2016",null,"East West Africa Average by Month in 2017",null,"East West Africa Average by Month in 2018",null,"East West Africa Average by Month in 2019",null,"East West Africa Average by Month in 2020",null,"East West Africa Average by Month in 2021"]
["January",1395,"January",1622.5,"January",1446.5,"January",2553,"January",2856,"January",6412]
["February",1249,"February",1422.25,"February",1792.75,"February",2533.67,"February",2930,"February",6536]
["March",1044.25,"March",1569.4,"March",1446.4,"March",2657,"March",2891,"March",5910]
["April",974.6,"April",1986.75,"April",1387.75,"April",2670,"April",2757,"April"]
["May",1218.5,"May",2223.25,"May",1875,"May",2574,"May",2773.2,"May"]
["June",990,"June",2493.4,"June",2206.8000000000002,"June",2401.75,"June",2741,"June"]
["July",1172.5999999999999,"July",2553.75,"July",2045.75,"July",2430,"July",2685,"July"]
["August",1167.5,"August",1950.75,"August",1955.2,"August",2502,"August",2706.5,"August"]
["September",1179.2,"September",1315,"September",{"$f":"'[1]Main sheet'!O150","v":1791.25},"September",2325,"September",3110.5,"September"]
["October",1011.6666666666666,"October",1312,"October",{"$f":"'[1]Main sheet'!O154","v":2103.6666666666665},"October",2310,"October",3393.2,"October"]
["November",1209,"November",1426,"November",2517,"November",2349,"November",4094.5,"November"]
["December",1545,"December",1339.4,"December",2410.25,"December",2331,"December",5095.25,"December"]
[]
[]
[]
[]
[]
[]
[]
[]
[]
[]
[]
[]
[]
[null,"East West Africa Average by Month "]
["2016-01-01",1395]
["2016-02-01",1249]
["2016-03-01",1044.25]
["2016-04-01",974.6]
["2016-05-01",1218.5]
["2016-06-01",990]
["2016-07-01",1172.5999999999999]
["2016-08-01",1167.5]
["2016-09-01",1179.2]
["2016-10-01",1011.6666666666666]
["2016-11-01",1209]
["2016-12-01",1545]
["2017-01-01",1622.5]
["2017-02-01",1422.25]
["2017-03-01",1569.4]
["2017-04-01",1986.75]
["2017-05-01",2223.25]
["2017-06-01",2493.4]
["2017-07-01",2553.75]
["2017-08-01",1950.75]
["2017-09-01",1315]
["2017-10-01",1312]
["2017-11-01",1426]
["2017-12-01",1339.4]
["2018-01-01",1446.5]
["2018-02-01",1792.75]
["2018-03-01",1446.4]
["2018-04-01",1387.75]
["2018-05-01",1875]
["2018-06-01",2206.8000000000002]
["2018-07-01",2045.75]
["2018-08-01",1955.2]
["2018-09-01",1791.25]
["2018-10-01",2103.6666666666665]
["2018-11-01",2517]
["2018-12-01",2410.25]
["2019-01-01",2553]
["2019-02-01",2533.67]
["2019-03-01",2657]
["2019-04-01",2670]
["2019-05-01",2574]
["2019-06-01",2401.75]
["2019-07-01",2430]
["2019-08-01",2502]
["2019-09-01",2325]
["2019-10-01",2310]
["2019-11-01",2349]
["2019-12-01",2331]
["2020-01-01",2856]
["2020-02-01",2930]
["2020-03-01",2891]
["2020-04-01",2757]
["2020-05-01",2773.2]
["2020-06-01",2741]
["2020-07-01",2685]
["2020-08-01",2706.5]
["2020-09-01",3110.5]
["2020-10-01",3393.2]
["2020-11-01",4094.5]
["2020-12-01",5095.25]
["2021-01-01",6412]
["2021-02-01",6536]
["2021-03-01",5910]
["2021-04-01"]
["2021-05-01"]
["2021-06-01"]
["2021-07-01"]
["2021-08-01"]
["2021-09-01"]
["2021-10-01"]
["2021-11-01"]
["2021-12-01"]

{"sheet":"South Africa Trend","index":11,"n_rows":99,"n_cols":12,"rows_kept":99,"cut":false,"hidden":true,"merged":[]}
[null,"South Africa Average by Month"]
[null,"South Africa Average by Month in 2016",null,"South Africa Average by Month in 2017",null,"South Africa Average by Month in 2018",null,"South Africa Average by Month in 2019",null,"South Africa Average by Month in 2020",null,"South Africa Average by Month in 2021"]
["January",526,"January",1019.25,"January",1237,"January",851.25,"January",1120,"January",3196]
["February",474,"February",882.25,"February",1300,"February",818,"February",1032,"February",2981]
["March",386.25,"March",806.8,"March",1111.2,"March",704,"March",969,"March",2664]
["April",325.39999999999998,"April",1035,"April",922.5,"April",642,"April",834,"April"]
["May",331.75,"May",1148.25,"May",802.75,"May",636.91250000000002,"May",744.2,"May"]
["June",334.5,"June",1259.8,"June",796.4,"June",748.75,"June",646,"June"]
["July",381.2,"July",1412.5,"July",585.75,"July",765,"July",706,"July"]
["August",689.75,"August",1326.5,"August",547.4,"August",762.8,"August",874,"August"]
["September",880.8,"September",1272.8,"September",{"$f":"'[1]Main sheet'!Q150","v":740.5},"September",807.5,"September",1484.25,"September"]
["October",907,"October",1241,"October",{"$f":"'[1]Main sheet'!Q154","v":942.66666666666663},"October",933,"October",1853.6,"October"]
["November",886.75,"November",1302.25,"November",884,"November",969,"November",1892.75,"November"]
["December",876.6,"December",1200.4000000000001,"December",856.75,"December",1019.25,"December",2362,"December"]
[]
[]
[]
[]
[]
[]
[]
[]
[]
[]
[]
[]
[null,"South Africa Average by Month"]
["2016-01-01",526]
["2016-02-01",474]
["2016-03-01",386.25]
["2016-04-01",325.39999999999998]
["2016-05-01",331.75]
["2016-06-01",334.5]
["2016-07-01",381.2]
["2016-08-01",689.75]
["2016-09-01",880.8]
["2016-10-01",907]
["2016-11-01",886.75]
["2016-12-01",876.6]
["2017-01-01",1019.25]
["2017-02-01",882.25]
["2017-03-01",806.8]
["2017-04-01",1035]
["2017-05-01",1148.25]
["2017-06-01",1259.8]
["2017-07-01",1412.5]
["2017-08-01",1326.5]
["2017-09-01",1272.8]
["2017-10-01",1241]
["2017-11-01",1302.25]
["2017-12-01",1200.4000000000001]
["2018-01-01",1237]
["2018-02-01",1300]
["2018-03-01",1111.2]
["2018-04-01",922.5]
["2018-05-01",802.75]
["2018-06-01",796.4]
["2018-07-01",585.75]
["2018-08-01",547.4]
["2018-09-01",740.5]
["2018-10-01",942.66666666666663]
["2018-11-01",884]
["2018-12-01",856.75]
["2019-01-01",851.25]
["2019-02-01",818]
["2019-03-01",704]
["2019-04-01",642]
["2019-05-01",636.91250000000002]
["2019-06-01",748.75]
["2019-07-01",765]
["2019-08-01",762.8]
["2019-09-01",807.5]
["2019-10-01",933]
["2019-11-01",969]
["2019-12-01",1019.25]
["2020-01-01",1120]
["2020-02-01",1032]
["2020-03-01",969]
["2020-04-01",834]
["2020-05-01",744.2]
["2020-06-01",646]
["2020-07-01",706]
["2020-08-01",874]
["2020-09-01",1484.25]
["2020-10-01",1853.6]
["2020-11-01",1892.75]
["2020-12-01",2362]
["2021-01-01",3196]
["2021-02-01",2981]
["2021-03-01",2664]
["2021-04-01"]
["2021-05-01"]
["2021-06-01"]
["2021-07-01"]
["2021-08-01"]
["2021-09-01"]
["2021-10-01"]
["2021-11-01"]
["2021-12-01"]

{"sheet":"South America Trend","index":12,"n_rows":96,"n_cols":12,"rows_kept":96,"cut":false,"hidden":true,"merged":[]}
[null,"South America Average by Month"]
[null,"South America Average by Month in 2016",null,"South America Average by Month in 2017",null,"South America Average by Month in 2018",null,"South America Average by Month in 2019",null,"South America Average by Month in 2020",null,"South America Average by Month in 2021"]
["January",193.25,"January",2408,"January",2503,"January",1456.5,"January",2069,"January",8625]
["February",343,"February",1863.75,"February",2561,"February",1319.33,"February",1714,"February",8303]
["March",469.75,"March",1808,"March",2074,"March",1467,"March",1426,"March",7205]
["April",689,"April",2540.5,"April",1925.25,"April",1305,"April",982,"April"]
["May",1296.25,"May",3116.75,"May",1927,"May",997.65750000000003,"May",1073.8,"May"]
["June",2148.25,"June",3569,"June",1875.4,"June",1791,"June",914,"June"]
["July",2545.4,"July",3606.75,"July",1673,"July",2051,"July",633,"July"]
["August",2758.75,"August",2876.5,"August",1642.8,"August",1989.8,"August",1379.25,"August"]
["September",2084.1999999999998,"September",2094.1999999999998,"September",{"$f":"'[1]Main sheet'!S150","v":1164.25},"September",1865.5,"September",3178,"September"]
["October",2392.3333333333335,"October",2685.3333333333335,"October",{"$f":"'[1]Main sheet'!S154","v":1049},"October",1858,"October",3967.8,"October"]
["November",2666.5,"November",2756.75,"November",1133,"November",1859,"November",4403,"November"]
["December",2187.1999999999998,"December",2912.8,"December",762.25,"December",1999.25,"December",6135.25,"December"]
[]
[]
[]
[]
[]
[]
[]
[]
[]
[null,"South America Average by Month "]
["2016-01-01",193.25]
["2016-02-01",343]
["2016-03-01",469.75]
["2016-04-01",689]
["2016-05-01",1296.25]
["2016-06-01",2148.25]
["2016-07-01",2545.4]
["2016-08-01",2758.75]
["2016-09-01",2084.1999999999998]
["2016-10-01",2392.3333333333335]
["2016-11-01",2666.5]
["2016-12-01",2187.1999999999998]
["2017-01-01",2408]
["2017-02-01",1863.75]
["2017-03-01",1808]
["2017-04-01",2540.5]
["2017-05-01",3116.75]
["2017-06-01",3569]
["2017-07-01",3606.75]
["2017-08-01",2876.5]
["2017-09-01",2094.1999999999998]
["2017-10-01",2685.3333333333335]
["2017-11-01",2756.75]
["2017-12-01",2912.8]
["2018-01-01",2503]
["2018-02-01",2561]
["2018-03-01",2074]
["2018-04-01",1925.25]
["2018-05-01",1927]
["2018-06-01",1875.4]
["2018-07-01",1673]
["2018-08-01",1642.8]
["2018-09-01",1164.25]
["2018-10-01",1049]
["2018-11-01",1133]
["2018-12-01",762.25]
["2019-01-01",1456.5]
["2019-02-01",1319.33]
["2019-03-01",1467]
["2019-04-01",1305]
["2019-05-01",997.65750000000003]
["2019-06-01",1791]
["2019-07-01",2051]
["2019-08-01",1989.8]
["2019-09-01",1865.5]
["2019-10-01",1858]
["2019-11-01",1859]
["2019-12-01",1999.25]
["2020-01-01",2069]
["2020-02-01",1714]
["2020-03-01",1426]
["2020-04-01",982]
["2020-05-01",1073.8]
["2020-06-01",914]
["2020-07-01",633]
["2020-08-01",1379.25]
["2020-09-01",3178]
["2020-10-01",3967.8]
["2020-11-01",4403]
["2020-12-01",6135.25]
["2021-01-01",8625]
["2021-02-01",8303]
["2021-03-01",7205]
["2021-04-01"]
["2021-05-01"]
["2021-06-01"]
["2021-07-01"]
["2021-08-01"]
["2021-09-01"]
["2021-10-01"]
["2021-11-01"]
["2021-12-01"]

{"sheet":"West Japan Trend","index":13,"n_rows":97,"n_cols":12,"rows_kept":97,"cut":false,"hidden":true,"merged":[]}
[null,"West Japan Average by Month"]
[null,"West Japan Average by Month in 2016",null,"West Japan Average by Month in 2017",null,"West Japan Average by Month in 2018",null,"West Japan Average by Month in 2019",null,"West Japan Average by Month in 2020",null,"West Japan Average by Month in 2021"]
["January",125.25,"January",210,"January",211,"January",226.5,"January",226,"January",247]
["February",136,"February",204.5,"February",215.75,"February",224.33,"February",226,"February",255]
["March",153.75,"March",211.8,"March",215,"March",227,"March",227,"March",250]
["April",198.2,"April",217.25,"April",221.25,"April",232,"April",234,"April"]
["May",199,"May",218.5,"May",228,"May",232.035,"May",230,"May"]
["June",192,"June",216.8,"June",226.5,"June",231,"June",226,"June"]
["July",190.4,"July",217,"July",226.25,"July",234,"July",229,"July"]
["August",195,"August",218,"August",225.6,"August",232.8,"August",231,"August"]
["September",201.6,"September",218,"September",{"$f":"'[1]Main sheet'!U150","v":228.5},"September",233,"September",232,"September"]
["October",205,"October",213.33333333333334,"October",{"$f":"'[1]Main sheet'!U154","v":222.33333333333334},"October",227,"October",232.2,"October"]
["November",219.25,"November",215,"November",227,"November",226,"November",248.25,"November"]
["December",217.2,"December",214.2,"December",226,"December",226,"December",246.75,"December"]
[]
[]
[]
[]
[]
[]
[]
[]
[]
[]
[null,"West Japan Average by Month"]
["2016-01-01",125.25]
["2016-02-01",136]
["2016-03-01",153.75]
["2016-04-01",198.2]
["2016-05-01",199]
["2016-06-01",192]
["2016-07-01",190.4]
["2016-08-01",195]
["2016-09-01",201.6]
["2016-10-01",205]
["2016-11-01",219.25]
["2016-12-01",217.2]
["2017-01-01",210]
["2017-02-01",204.5]
["2017-03-01",211.8]
["2017-04-01",217.25]
["2017-05-01",218.5]
["2017-06-01",216.8]
["2017-07-01",217]
["2017-08-01",218]
["2017-09-01",218]
["2017-10-01",213.33333333333334]
["2017-11-01",215]
["2017-12-01",214.2]
["2018-01-01",211]
["2018-02-01",215.75]
["2018-03-01",215]
["2018-04-01",221.25]
["2018-05-01",228]
["2018-06-01",226.5]
["2018-07-01",226.25]
["2018-08-01",225.6]
["2018-09-01",228.5]
["2018-10-01",222.33333333333334]
["2018-11-01",227]
["2018-12-01",226]
["2019-01-01",226.5]
["2019-02-01",224.33]
["2019-03-01",227]
["2019-04-01",232]
["2019-05-01",232.035]
["2019-06-01",231]
["2019-07-01",234]
["2019-08-01",232.8]
["2019-09-01",233]
["2019-10-01",227]
["2019-11-01",226]
["2019-12-01",226]
["2020-01-01",226]
["2020-02-01",226]
["2020-03-01",227]
["2020-04-01",234]
["2020-05-01",230]
["2020-06-01",226]
["2020-07-01",229]
["2020-08-01",231]
["2020-09-01",232]
["2020-10-01",232.2]
["2020-11-01",248.25]
["2020-12-01",246.75]
["2021-01-01",247]
["2021-02-01",255]
["2021-03-01",250]
["2021-04-01"]
["2021-05-01"]
["2021-06-01"]
["2021-07-01"]
["2021-08-01"]
["2021-09-01"]
["2021-10-01"]
["2021-11-01"]
["2021-12-01"]

{"sheet":"East Japan Trend","index":14,"n_rows":95,"n_cols":12,"rows_kept":95,"cut":false,"hidden":true,"merged":[]}
[null,"East Japan Average by Month"]
[null,"East Japan Average by Month in 2016",null,"East Japan Average by Month in 2017",null,"East Japan Average by Month in 2018",null,"East Japan Average by Month in 2019",null,"East Japan Average by Month in 2020",null,"East Japan Average by Month in 2021"]
["January",135,"January",212,"January",211.5,"January",227.75,"January",241,"January",254]
["February",145.66666666666666,"February",206.5,"February",217.5,"February",224.33,"February",236,"February",264]
["March",163.75,"March",211.8,"March",217.2,"March",229,"March",240,"March",255]
["April",192.8,"April",217.25,"April",222.5,"April",233,"April",242,"April"]
["May",192.5,"May",218.5,"May",227,"May",235.155,"May",242.4,"May"]
["June",186.25,"June",217,"June",225.25,"June",233.5,"June",238,"June"]
["July",185,"July",217,"July",223.5,"July",234,"July",238,"July"]
["August",188.75,"August",218,"August",225.6,"August",234,"August",238,"August"]
["September",195.8,"September",218,"September",{"$f":"'[1]Main sheet'!W150","v":228.5},"September",235,"September",238,"September"]
["October",200,"October",231.33333333333334,"October",{"$f":"'[1]Main sheet'!W154","v":223},"October",232,"October",238.2,"October"]
["November",213.25,"November",215,"November",227,"November",240,"November",252.5,"November"]
["December",212.8,"December",214.2,"December",227,"December",240.25,"December",251,"December"]
[]
[]
[]
[]
[]
[]
[]
[]
[null,"East Japan Average by Month "]
["2016-01-01",135]
["2016-02-01",145.66666666666666]
["2016-03-01",163.75]
["2016-04-01",192.8]
["2016-05-01",192.5]
["2016-06-01",186.25]
["2016-07-01",185]
["2016-08-01",188.75]
["2016-09-01",195.8]
["2016-10-01",200]
["2016-11-01",213.25]
["2016-12-01",212.8]
["2017-01-01",212]
["2017-02-01",206.5]
["2017-03-01",211.8]
["2017-04-01",217.25]
["2017-05-01",218.5]
["2017-06-01",217]
["2017-07-01",217]
["2017-08-01",218]
["2017-09-01",218]
["2017-10-01",231.33333333333334]
["2017-11-01",215]
["2017-12-01",214.2]
["2018-01-01",211.5]
["2018-02-01",217.5]
["2018-03-01",217.2]
["2018-04-01",222.5]
["2018-05-01",227]
["2018-06-01",225.25]
["2018-07-01",223.5]
["2018-08-01",225.6]
["2018-09-01",228.5]
["2018-10-01",223]
["2018-11-01",227]
["2018-12-01",227]
["2019-01-01",227.75]
["2019-02-01",224.33]
["2019-03-01",229]
["2019-04-01",233]
["2019-05-01",235.155]
["2019-06-01",233.5]
["2019-07-01",234]
["2019-08-01",234]
["2019-09-01",235]
["2019-10-01",232]
["2019-11-01",240]
["2019-12-01",240.25]
["2020-01-01",241]
["2020-02-01",236]
["2020-03-01",240]
["2020-04-01",242]
["2020-05-01",242.4]
["2020-06-01",238]
["2020-07-01",238]
["2020-08-01",238]
["2020-09-01",238]
["2020-10-01",238.2]
["2020-11-01",252.5]
["2020-12-01",251]
["2021-01-01",254]
["2021-02-01",264]
["2021-03-01",255]
["2021-04-01"]
["2021-05-01"]
["2021-06-01"]
["2021-07-01"]
["2021-08-01"]
["2021-09-01"]
["2021-10-01"]
["2021-11-01"]
["2021-12-01"]

{"sheet":"Southeast Asia Trend","index":15,"n_rows":93,"n_cols":12,"rows_kept":93,"cut":false,"hidden":true,"merged":[]}
[null,"Southeast Asia Average by Month"]
[null,"Southeast Asia Average by Month in 2016",null,"Southeast Asia Average by Month in 2017",null,"Southeast Asia Average by Month in 2018",null,"Southeast Asia Average by Month in 2019",null,"Southeast Asia Average by Month in 2020",null,"Southeast Asia Average by Month in 2021"]
["January",90,"January",101.75,"January",153.5,"January",155,"January",189,"January",960]
["February",83.333333333333329,"February",101.25,"February",162,"February",152.33000000000001,"February",187,"February",1003]
["March",70.25,"March",112.4,"March",144,"March",148,"March",201,"March",955]
["April",57.6,"April",135.5,"April",142.75,"April",144,"April",201,"April"]
["May",59.5,"May",181,"May",139.25,"May",140.16749999999999,"May",174.6,"May"]
["June",60,"June",177.4,"June",152.19999999999999,"June",139.5,"June",158,"June"]
["July",55.2,"July",181.25,"July",142.25,"July",125,"July",145,"July"]
["August",53.5,"August",161.75,"August",138.6,"August",114.6,"August",133.25,"August"]
["September",53.2,"September",148,"September",{"$f":"'[1]Main sheet'!Y150","v":137.25},"September",105.75,"September",135.75,"September"]
["October",62.666666666666664,"October",155.66666666666666,"October",{"$f":"'[1]Main sheet'!Y154","v":146.66666666666666},"October",115,"October",169.6,"October"]
["November",91.25,"November",169,"November",148,"November",153,"November",695.25,"November"]
["December",102.8,"December",155,"December",148.25,"December",163,"December",845.5,"December"]
[]
[]
[]
[]
[]
[]
[null,null,"Southeast Asia Average by Month "]
[null,"2016-01-01",90]
[null,"2016-02-01",83.333333333333329]
[null,"2016-03-01",70.25]
[null,"2016-04-01",57.6]
[null,"2016-05-01",59.5]
[null,"2016-06-01",60]
[null,"2016-07-01",55.2]
[null,"2016-08-01",53.5]
[null,"2016-09-01",53.2]
[null,"2016-10-01",62.666666666666664]
[null,"2016-11-01",91.25]
[null,"2016-12-01",102.8]
[null,"2017-01-01",101.75]
[null,"2017-02-01",101.25]
[null,"2017-03-01",112.4]
[null,"2017-04-01",135.5]
[null,"2017-05-01",181]
[null,"2017-06-01",177.4]
[null,"2017-07-01",181.25]
[null,"2017-08-01",161.75]
[null,"2017-09-01",148]
[null,"2017-10-01",155.66666666666666]
[null,"2017-11-01",169]
[null,"2017-12-01",155]
[null,"2018-01-01",153.5]
[null,"2018-02-01",162]
[null,"2018-03-01",144]
[null,"2018-04-01",142.75]
[null,"2018-05-01",139.25]
[null,"2018-06-01",152.19999999999999]
[null,"2018-07-01",142.25]
[null,"2018-08-01",138.6]
[null,"2018-09-01",137.25]
[null,"2018-10-01",146.66666666666666]
[null,"2018-11-01",148]
[null,"2018-12-01",148.25]
[null,"2019-01-01",155]
[null,"2019-02-01",152.33000000000001]
[null,"2019-03-01",148]
[null,"2019-04-01",144]
[null,"2019-05-01",140.16749999999999]
[null,"2019-06-01",139.5]
[null,"2019-07-01",125]
[null,"2019-08-01",114.6]
[null,"2019-09-01",105.75]
[null,"2019-10-01",115]
[null,"2019-11-01",153]
[null,"2019-12-01",163]
[null,"2020-01-01",189]
[null,"2020-02-01",187]
[null,"2020-03-01",201]
[null,"2020-04-01",201]
[null,"2020-05-01",174.6]
[null,"2020-06-01",158]
[null,"2020-07-01",145]
[null,"2020-08-01",133.25]
[null,"2020-09-01",135.75]
[null,"2020-10-01",169.6]
[null,"2020-11-01",695.25]
[null,"2020-12-01",845.5]
[null,"2021-01-01",960]
[null,"2021-02-01",1003]
[null,"2021-03-01",955]
[null,"2021-04-01"]
[null,"2021-05-01"]
[null,"2021-06-01"]
[null,"2021-07-01"]
[null,"2021-08-01"]
[null,"2021-09-01"]
[null,"2021-10-01"]
[null,"2021-11-01"]
[null,"2021-12-01"]

{"sheet":"Korea Trend","index":16,"n_rows":98,"n_cols":12,"rows_kept":98,"cut":false,"hidden":true,"merged":[]}
[null,"Korea Average by Month"]
[null,"Korea Average by Month in 2016",null,"Korea Asia Average by Month in 2017",null,"Korea Average by Month in 2018",null,"Korea Average by Month in 2019",null,"Korea Average by Month in 2020",null,"Korea Average by Month in 2021"]
["January",116.5,"January",100.25,"January",152.25,"January",145.75,"January",120,"January",200]
["February",125,"February",97,"February",161.25,"February",153,"February",118,"February",318]
["March",108.25,"March",126,"March",146.80000000000001,"March",150,"March",118,"March",300]
["April",104.8,"April",163.25,"April",169.25,"April",128,"April",120,"April"]
["May",104,"May",164,"May",201.75,"May",118.33500000000001,"May",120,"May"]
["June",105.75,"June",161.6,"June",184.8,"June",117.75,"June",129,"June"]
["July",108,"July",148.25,"July",162.5,"July",123,"July",119,"July"]
["August",96.25,"August",134.25,"August",156,"August",117,"August",117.75,"August"]
["September",88.8,"September",137.6,"September",{"$f":"'[1]Main sheet'!AA150","v":159},"September",117,"September",119,"September"]
["October",94.666666666666671,"October",143.33333333333334,"October",{"$f":"'[1]Main sheet'!AA154","v":158.66666666666666},"October",125,"October",126.8,"October"]
["November",95.5,"November",153.25,"November",153,"November",130,"November",181,"November"]
["December",98,"December",153.6,"December",150.5,"December",118.75,"December",201.5,"December"]
[]
[]
[]
[]
[]
[]
[]
[]
[]
[]
[]
[null,"Southeast Asia Average by Month "]
["2016-01-01",116.5]
["2016-02-01",125]
["2016-03-01",108.25]
["2016-04-01",104.8]
["2016-05-01",104]
["2016-06-01",105.75]
["2016-07-01",108]
["2016-08-01",96.25]
["2016-09-01",88.8]
["2016-10-01",94.666666666666671]
["2016-11-01",95.5]
["2016-12-01",98]
["2017-01-01",100.25]
["2017-02-01",97]
["2017-03-01",126]
["2017-04-01",163.25]
["2017-05-01",164]
["2017-06-01",161.6]
["2017-07-01",148.25]
["2017-08-01",134.25]
["2017-09-01",137.6]
["2017-10-01",143.33333333333334]
["2017-11-01",153.25]
["2017-12-01",153.6]
["2018-01-01",152.25]
["2018-02-01",161.25]
["2018-03-01",146.80000000000001]
["2018-04-01",169.25]
["2018-05-01",201.75]
["2018-06-01",184.8]
["2018-07-01",162.5]
["2018-08-01",156]
["2018-09-01",159]
["2018-10-01",158.66666666666666]
["2018-11-01",153]
["2018-12-01",150.5]
["2019-01-01",145.75]
["2019-02-01",153]
["2019-03-01",150]
["2019-04-01",128]
["2019-05-01",118.33500000000001]
["2019-06-01",117.75]
["2019-07-01",123]
["2019-08-01",117]
["2019-09-01",117]
["2019-10-01",125]
["2019-11-01",130]
["2019-12-01",118.75]
["2020-01-01",120]
["2020-02-01",118]
["2020-03-01",118]
["2020-04-01",120]
["2020-05-01",120]
["2020-06-01",129]
["2020-07-01",119]
["2020-08-01",117.75]
["2020-09-01",119]
["2020-10-01",126.8]
["2020-11-01",181]
["2020-12-01",201.5]
["2021-01-01",200]
["2021-02-01",318]
["2021-03-01",300]
["2021-04-01"]
["2021-05-01"]
["2021-06-01"]
["2021-07-01"]
["2021-08-01"]
["2021-09-01"]
["2021-10-01"]
["2021-11-01"]
["2021-12-01"]

{"sheet":"SCFI Trend Chart","index":17,"n_rows":407,"n_cols":1,"rows_kept":407,"cut":false,"hidden":false,"merged":[]}
[]
[]
[]
[]
[]
[]
[]
[]
[]
[]
[]
[]
[]
[]
[]
[]
[]
[]
[]
[]
[]
[]
[]
[]
[]
[]
[]
[]
[]
[]
[]
[]
[]
[]
[]
[]
[]
[]
[]
[]
[]
[]
[]
[]
[]
[]
[]
[]
[]
[]
[]
[]
[]
[]
[]
[]
[]
[]
[]
[]
[]
[]
[]
[]
[]
[]
[]
[]
[]
[]
[]
[]
[]
[]
[]
[]
[]
[]
[]
[]
[]
[]
[]
[]
[]
[]
[]
[]
[]
[]
[]
[]
[]
[]
[]
[]
[]
[]
[]
[]
[]
[]
[]
[]
[]
[]
[]
[]
[]
[]
[]
[]
[]
[]
[]
[]
[]
[]
[]
[]
[]
[]
[]
[]
[]
[]
[]
[]
[]
[]
[]
[]
[]
[]
[]
[]
[]
[]
[]
[]
[]
[]
[]
[]
[]
[]
[]
[]
[]
[]
[]
[]
[]
[]
[]
[]
[]
[]
[]
[]
[]
[]
[]
[]
[]
[]
[]
[]
[]
[]
[]
[]
[]
[]
[]
[]
[]
[]
[]
[]
[]
[]
[]
[]
[]
[]
[]
[]
[]
[]
[]
[]
[]
[]
[]
[]
[]
[]
[]
[]
[]
[]
[]
[]
[]
[]
[]
[]
[]
[]
[]
[]
[]
[]
[]
[]
[]
[]
[]
[]
[]
[]
[]
[]
[]
[]
[]
[]
[]
[]
[]
[]
[]
[]
[]
[]
[]
[]
[]
[]
[]
[]
[]
[]
[]
[]
[]
[]
[]
[]
[]
[]
[]
[]
[]
[]
[]
[]
[]
[]
[]
[]
[]
[]
[]
[]
[]
[]
[]
[]
[]
[]
[]
[]
[]
[]
[]
[]
[]
[]
[]
[]
[]
[]
[]
[]
[]
[]
[]
[]
[]
[]
[]
[]
[]
[]
[]
[]
[]
[]
[]
[]
[]
[]
[]
[]
[]
[]
[]
[]
[]
[]
[]
[]
[]
[]
[]
[]
[]
[]
[]
[]
[]
[]
[]
[]
[]
[]
[]
[]
[]
[]
[]
[]
[]
[]
[]
[]
[]
[]
[]
[]
[]
[]
[]
[]
[]
[]
[]
[]
[]
[]
[]
[]
[]
[]
[]
[]
[]
[]
[]
[]
[]
[]
[]
[]
[]
[]
[]
[]
[]
[]
[]
[]
[]
[]
[]
[]
[]
[]
[]
[]
[]
[]
[]
[]
[]
[]
[]
[]
[]
[]
[]
[]
[]
[]
[]
[]
[]
[]
[]
[]
[]
[]
[]
[]
["."]

{"sheet":"CCFI Weekly Figures","index":18,"n_rows":272,"n_cols":25,"rows_kept":272,"cut":false,"hidden":false,"merged":[[51,1,51,24]]}
[]
[]
["CCFI Weekly trend"]
[]
[]
["Date","Japan","Japan \nAverage by Month","Europe","Europe Average by Month","West Coast America","West Coast America Average by Month","East Coast America","East Coast America Average by Month","Korea","Korea Average by Month","Southeast","Southeast Average by Month","Mediterranean","Mediterranean Average by Month","Australia/New Zealand","Australia/New Zealand Average by Month","South Africa","South Africa Average by Month","South America","South America Average by Month","West East Africa","West East Africa Average by Month","Persian Gulf/Red Sea","Persian Gulf/Red Sea Average by Month"]
[null,"USD",null,"USD",null,"USD",null,"USD",null,"USD",null,"USD",null,"USD",null,"USD",null,"USD",null,"USD",null,"USD",null,"USD"]
["2021-04-02",926.22,null,2953.88,null,1309.8,null,1484.44,null,859.96,null,1333.76,null,3372.37,null,1493.92,null,1557.23,null,1685,null,1426.5,null,1710.58]
[{"$f":"A8+7","v":"2021-04-09"},937.24,null,2975.54,null,1298.83,null,1459.88,null,814.67,null,1297.03,null,3373.03,null,1413.8,null,1539.67,null,1660.89,null,1366.54,null,1660.44]
["2021-04-16",926.99,null,2944.09,null,1287.2,null,1492.93,null,849.16,null,1278.3499999999999,null,3340.48,null,1465.59,null,1543.5,null,1649.25,null,1452.46,null,1699.54]
["2021-04-23",933.74,null,3047.68,null,1307.6099999999999,null,1488.65,null,814.26,null,1260.6199999999999,null,3447.22,null,1460.48,null,1632.81,null,1739.45,null,1481.55,null,1849.99]
["2021-04-30",916.56,{"$f":"AVERAGE(B8:B12)","v":928.15},3196.86,{"$f":"AVERAGE(D8:D12)","v":3023.61},1355.39,{"$f":"AVERAGE(F8:F12)","v":1311.7660000000001},1549.47,{"$f":"AVERAGE(H8:H12)","v":1495.0740000000001},913.46,{"$f":"AVERAGE(J8:J12)","v":850.30200000000002},1242.3699999999999,{"$f":"AVERAGE(L8:L12)","v":1282.4259999999999},3611.36,{"$f":"AVERAGE(N8:N12)","v":3428.8919999999998},1492.73,{"$f":"AVERAGE(P8:P12)","v":1465.3040000000001},1689.63,{"$f":"AVERAGE(R8:R12)","v":1592.5679999999998},1791.37,{"$f":"AVERAGE(T8:T12)","v":1705.1919999999998},1463.45,{"$f":"AVERAGE(V8:V12)","v":1438.1},2173.13,{"$f":"AVERAGE(X8:X12)","v":1818.7360000000001}]
["2021-05-07",919.29,null,3354.56,null,1371.96,null,1675.29,null,864.41,null,1271.4000000000001,null,3886.27,null,1513.79,null,1778.33,null,1811.212,null,1561.41,null,2255.11]
["2021-05-14",916.45,null,3462.84,null,1464.75,null,1749.12,null,853.96,null,1255.98,null,3908.94,null,1552.13,null,1819.62,null,1862.63,null,1554.37,null,2361.11]
["2021-05-21",915.13,null,3560.66,null,1541.02,null,1855.86,null,831.71,null,1297.97,null,4066.4,null,1519.92,null,1926.8,null,1823.87,null,1574.75,null,2622.35]
["2021-05-28",912.63,{"$f":"AVERAGE(B13:B16)","v":915.875},3739.5,{"$f":"AVERAGE(D13:D16)","v":3529.39},1590.53,{"$f":"AVERAGE(F13:F16)","v":1492.0649999999998},1893.27,{"$f":"AVERAGE(H13:H16)","v":1793.3849999999998},848.24,{"$f":"AVERAGE(J13:J16)","v":849.57999999999993},1274.92,{"$f":"AVERAGE(L13:L16)","v":1275.0675000000001},4458.22,{"$f":"AVERAGE(N13:N16)","v":4079.9575000000004},1545.11,{"$f":"AVERAGE(P13:P16)","v":1532.7375},1955.68,{"$f":"AVERAGE(R13:R16)","v":1870.1075000000001},1808.3,{"$f":"AVERAGE(T13:T16)","v":1826.5029999999999},1546.55,{"$f":"AVERAGE(V13:V16)","v":1559.27},2623.51,{"$f":"AVERAGE(X13:X16)","v":2465.52}]
["2021-06-04",917.48,null,3835.78,null,1619.89,null,1942.21,null,910.12,null,1326.89,null,4600.84,null,1635.91,null,2037.13,null,1921.1,null,1567.52,null,2844.6]
["2021-06-11",929.84,null,4013.86,null,1643.48,null,1977.92,null,888.09,null,1340.88,null,4797.74,null,1585.7,null,2104.9,null,1984.9,null,1620.66,null,2865.45]
["2021-06-18",914.74,null,4187.33,null,1718.08,null,2134.62,null,899.04,null,1316.29,null,4775.7700000000004,null,1662.47,null,2151.9299999999998,null,2121.02,null,1629.24,null,3062.19]
["2021-06-25",908.71,{"$f":"AVERAGE(B17:B20)","v":917.69250000000011},4266.75,{"$f":"AVERAGE(D17:D20)","v":4075.9300000000003},1783.56,{"$f":"AVERAGE(F17:F20)","v":1691.2525000000001},2137.08,{"$f":"AVERAGE(H17:H20)","v":2047.9575},936.62,{"$f":"AVERAGE(J17:J20)","v":908.46749999999997},1307.05,{"$f":"AVERAGE(L17:L20)","v":1322.7775000000001},5067.82,{"$f":"AVERAGE(N17:N20)","v":4810.5424999999996},1664.36,{"$f":"AVERAGE(P17:P20)","v":1637.11},2311.65,{"$f":"AVERAGE(R17:R20)","v":2151.4025000000001},2144.1999999999998,{"$f":"AVERAGE(T17:T20)","v":2042.8050000000001},1775.34,{"$f":"AVERAGE(V17:V20)","v":1648.19},3189.09,{"$f":"AVERAGE(X17:X20)","v":2990.3325}]
["2021-07-02",934.15,null,4392.57,null,1811.62,null,2200.9,null,847.29,null,1300.3699999999999,null,5124.72,null,1734.32,null,2339.69,null,2288.94,null,1751.11,null,3250.96]
["2021-07-09",907.18,null,4432.43,null,1923.19,null,2185.91,null,911.25,null,1318.1,null,5180.33,null,1744.07,null,2492.2399999999998,null,2210.69,null,1888.74,null,3313.46]
["2021-07-16",911.65,null,4702.8599999999997,null,1840.64,null,2170.8000000000002,null,884.8,null,1350.7,null,5341.5,null,1888.69,null,2546.5,null,2324.31,null,2086.8200000000002,null,3380.75]
["2021-07-23",919.63,null,4853.84,null,1971.5,null,2185.2800000000002,null,866.83,null,1289.71,null,5649.76,null,1972.5,null,2519.7800000000002,null,2375.84,null,2006.53,null,3412.71]
["2021-07-30",923,{"$f":"AVERAGE(B21:B25)","v":919.12200000000007},5066.32,{"$f":"AVERAGE(D21:D25)","v":4689.6040000000003},1969.97,{"$f":"AVERAGE(F21:F25)","v":1903.384},2341.37,{"$f":"AVERAGE(H21:H25)","v":2216.8519999999999},883.53,{"$f":"AVERAGE(J21:J25)","v":878.74},1307.9100000000001,{"$f":"AVERAGE(L21:L25)","v":1313.3579999999999},5638.18,{"$f":"AVERAGE(N21:N25)","v":5386.8979999999992},2041.9,{"$f":"AVERAGE(P21:P25)","v":1876.2959999999998},2634.85,{"$f":"AVERAGE(R21:R25)","v":2506.6120000000001},2376.06,{"$f":"AVERAGE(T21:T25)","v":2315.1680000000001},2031.94,{"$f":"AVERAGE(V21:V25)","v":1953.0279999999998},3579.87,{"$f":"AVERAGE(X21:X25)","v":3387.55}]
["2021-08-06",918.6,null,5165.62,null,2022.62,null,2336.52,null,1016.84,null,1311.75,null,5712.91,null,2207.83,null,2682.1,null,2412.13,null,2012.73,null,3580.9]
["2021-08-13",918.6,null,5165.62,null,2022.62,null,2336.52,null,1016.84,null,1311.75,null,5712.91,null,2207.83,null,2682.1,null,2412.13,null,2012.73,null,3580.9]
["2021-08-20",927.49,null,5439.44,null,2005.99,null,2273.94,null,1017.75,null,1443.57,null,5691.7,null,2201.5500000000002,null,2761.5,null,2456.9699999999998,null,2037.89,null,3636.12]
["2021-08-27",928.92,{"$f":"AVERAGE(B26:B29)","v":923.40250000000003},5356.26,{"$f":"AVERAGE(D26:D29)","v":5281.7350000000006},2099.31,{"$f":"AVERAGE(F26:F29)","v":2037.6349999999998},2433.9699999999998,{"$f":"AVERAGE(H26:H29)","v":2345.2374999999997},921.04,{"$f":"AVERAGE(J26:J29)","v":993.11750000000006},1365.65,{"$f":"AVERAGE(L26:L29)","v":1358.1799999999998},5838.46,{"$f":"AVERAGE(N26:N29)","v":5738.9949999999999},2312.16,{"$f":"AVERAGE(P26:P29)","v":2232.3424999999997},2959.05,{"$f":"AVERAGE(R26:R29)","v":2771.1875},2467,{"$f":"AVERAGE(T26:T29)","v":2437.0574999999999},2170.8000000000002,{"$f":"AVERAGE(V26:V29)","v":2058.5375000000004},3666.26,{"$f":"AVERAGE(X26:X29)","v":3616.0450000000001}]
["2021-09-03",934.02,null,5305.97,null,2319.37,null,2289.71,null,937.42,null,1324.3,null,5706.33,null,2377.27,null,2990.97,null,2491.9,null,2081.38,null,3762.09]
["2021-09-10",957.11,null,5459.48,null,2225.7199999999998,null,2435.87,null,866.95,null,1422.66,null,5871.46,null,2424.84,null,3186.09,null,2530.21,null,2189.64,null,3775.25]
["2021-09-17",973.29,null,5364.25,null,2183.4299999999998,null,2507.94,null,940.67,null,1410.42,null,5936.6,null,2563.42,null,3349.35,null,2567.4,null,2217.58,null,3808.57]
["2021-09-24",1004.99,{"$f":"AVERAGE(B30:B33)","v":967.35249999999996},5424.15,{"$f":"AVERAGE(D30:D33)","v":5388.4624999999996},2271.4,{"$f":"AVERAGE(F30:F33)","v":2249.98},2534.41,{"$f":"AVERAGE(H30:H33)","v":2441.9825000000001},966.68,{"$f":"AVERAGE(J30:J33)","v":927.93},1471.16,{"$f":"AVERAGE(L30:L33)","v":1407.135},6089.2,{"$f":"AVERAGE(N30:N33)","v":5900.8975},2397.63,{"$f":"AVERAGE(P30:P33)","v":2440.79},3512.35,{"$f":"AVERAGE(R30:R33)","v":3259.69},2771.84,{"$f":"AVERAGE(T30:T33)","v":2590.3375000000001},2061.73,{"$f":"AVERAGE(V30:V33)","v":2137.5825},4012.4,{"$f":"AVERAGE(X30:X33)","v":3839.5774999999999}]
["2021-10-01",1032.23,null,5393.79,null,2217.2800000000002,null,2512.38,null,1048.8399999999999,null,1412.16,null,6087.31,null,2592.0700000000002,null,3566.99,null,2737.06,null,2089.35,null,4026.02]
["2021-10-08",1034.47,null,5539.71,null,2135.83,null,2687.91,null,1050.5899999999999,null,1533.33,null,5991.8,null,2695.69,null,3528.1,null,2808.91,null,2143.4899999999998,null,4178.8500000000004]
["2021-10-15",1041.8599999999999,null,5530.61,null,2295.6,null,2547.7800000000002,null,1054.22,null,1579.92,null,6053.66,null,2668.88,null,3602.37,null,2835.45,null,2056.98,null,4138.3599999999997]
["2021-10-22",1006.63,null,5457.89,null,2381.2399999999998,null,2502.65,null,993.24,null,1582.26,null,6249.77,null,2807.19,null,3657.93,null,2921.06,null,2103.92,null,4051.4]
["2021-10-29",1052.3800000000001,{"$f":"AVERAGE(B34:B38)","v":1033.5139999999999},5362.27,{"$f":"AVERAGE(D34:D38)","v":5456.8540000000003},2220.11,{"$f":"AVERAGE(F34:F38)","v":2250.0120000000002},2480.58,{"$f":"AVERAGE(H34:H38)","v":2546.2599999999998},1059.19,{"$f":"AVERAGE(J34:J38)","v":1041.2159999999999},1643.35,{"$f":"AVERAGE(L34:L38)","v":1550.2040000000002},6210.41,{"$f":"AVERAGE(N34:N38)","v":6118.59},2843.49,{"$f":"AVERAGE(P34:P38)","v":2721.4639999999999},3763.81,{"$f":"AVERAGE(R34:R38)","v":3623.84},3000.72,{"$f":"AVERAGE(T34:T38)","v":2860.6399999999994},2137.59,{"$f":"AVERAGE(V34:V38)","v":2106.2660000000001},4040.84,{"$f":"AVERAGE(X34:X38)","v":4087.0940000000001}]
["2021-11-05",1057.46,null,5426.49,null,2251.6999999999998,null,2465.83,null,1060.05,null,1596.88,null,6185.97,null,2848.96,null,3761.38,null,3029.47,null,2082.29,null,3980.06]
["2021-11-12",1046.32,null,5342.13,null,2243.42,null,2428.0100000000002,null,1038.6600000000001,null,1494.49,null,6058.38,null,2798.57,null,3630.15,null,2966.74,null,2056.79,null,4004.81]
["2021-11-19",1100.04,null,5292.4,null,2268.13,null,2431.04,null,1053.0999999999999,null,1568.62,null,6126.6,null,2833.57,null,3669.44,null,3038.47,null,1972.02,null,3938.09]
["2021-11-26",1104.23,{"$f":"AVERAGE(B39:B42)","v":1077.0124999999998},5062.62,{"$f":"AVERAGE(D39:D42)","v":5280.91},2292.9499999999998,{"$f":"AVERAGE(F39:F42)","v":2264.0500000000002},2247.1799999999998,{"$f":"AVERAGE(H39:H42)","v":2393.0149999999999},1108.2,{"$f":"AVERAGE(J39:J42)","v":1065.0025000000001},1647.4,{"$f":"AVERAGE(L39:L42)","v":1576.8474999999999},6047.57,{"$f":"AVERAGE(N39:N42)","v":6104.63},2867.47,{"$f":"AVERAGE(P39:P42)","v":2837.1424999999999},3436.49,{"$f":"AVERAGE(R39:R42)","v":3624.3650000000002},3017.31,{"$f":"AVERAGE(T39:T42)","v":3012.9974999999995},2024.34,{"$f":"AVERAGE(V39:V42)","v":2033.8600000000001},3866.38,{"$f":"AVERAGE(X39:X42)","v":3947.335}]
["2021-12-03",1089.76,null,5121.53,null,2340.73,null,2513.66,null,1112.53,null,1651.53,null,5824.9,null,2798.17,null,3331.95,null,2919.39,null,1968.62,null,3883.6]
["2021-12-10",1100.3499999999999,null,5161.8900000000003,null,2438.17,null,2489.21,null,1107.8800000000001,null,1793.92,null,5844.85,null,2658.7,null,3429.84,null,2855.98,null,1965.19,null,3861.7]
["2021-12-17",1075.56,null,5055.51,null,2430.46,null,2521.84,null,1183.1199999999999,null,1938.94,null,5887.73,null,2757.99,null,3403.16,null,2884.35,null,1867.87,null,3944.26]
["2021-12-24",1063,null,5112,null,2413,null,2662,null,1178,null,2089,null,6046,null,2789,null,3441,null,2937,null,1936,null,3953]
["2021-12-31",1133.8599999999999,{"$f":"AVERAGE(B43:B47)","v":1092.5059999999999},5114.92,{"$f":"AVERAGE(D43:D47)","v":5113.17},2423.54,{"$f":"AVERAGE(F43:F47)","v":2409.1800000000003},2678.34,{"$f":"AVERAGE(H43:H47)","v":2573.0099999999998},1221.58,{"$f":"AVERAGE(J43:J47)","v":1160.6219999999998},2235.8000000000002,{"$f":"AVERAGE(L43:L47)","v":1941.8379999999997},6131.45,{"$f":"AVERAGE(N43:N47)","v":5946.9859999999999},2809.4,{"$f":"AVERAGE(P43:P47)","v":2762.652},3340.48,{"$f":"AVERAGE(R43:R47)","v":3389.2860000000001},2988.16,{"$f":"AVERAGE(T43:T47)","v":2916.9759999999997},1865,{"$f":"AVERAGE(V43:V47)","v":1920.5360000000001},4083.56,{"$f":"AVERAGE(X43:X47)","v":3945.2239999999997}]
["2022-01-07",1170.51,null,5239.46,null,2630.05,null,2649.67,null,1239.99,null,2311.08,null,6200.15,null,2829.49,null,3364.03,null,2940.66,null,1862.97,null,4155.2700000000004]
["2022-01-14",1190.32,null,5451.97,null,2608.48,null,2638.48,null,1284.21,null,2322.5500000000002,null,6274.17,null,2918.3,null,3353.29,null,2921.3,null,1942.71,null,4241.58]
["2022-01-21",1281.92,null,5636.83,null,2590.39,null,2738.93,null,1307.3699999999999,null,2293.13,null,6472.06,null,3034.83,null,3406.29,null,2942.83,null,1941.16,null,4187.1000000000004]
["2022-01-28",1219.81,{"$f":"AVERAGE(B48:B51)","v":1215.6399999999999},5639.26,{"$f":"AVERAGE(D48:D51)","v":5491.88},2628.62,{"$f":"AVERAGE(F48:F51)","v":2614.3850000000002},2770.26,{"$f":"AVERAGE(H48:H51)","v":2699.335},1369,{"$f":"AVERAGE(J48:J51)","v":1300.1424999999999},2294.88,{"$f":"AVERAGE(L48:L51)","v":2305.41},6577.1,{"$f":"AVERAGE(N48:N51)","v":6380.8700000000008},2917.77,{"$f":"AVERAGE(P48:P51)","v":2925.0974999999999},3336.96,{"$f":"AVERAGE(R48:R51)","v":3365.1424999999999},2834.44,{"$f":"AVERAGE(T48:T51)","v":2909.8075000000003},1952.07,{"$f":"AVERAGE(V48:V51)","v":1924.7275},4232.1400000000003,{"$f":"AVERAGE(X48:X51)","v":4204.0225}]
["2022-02-04","Nil due to CNY"]
["2022-02-11",1227.8699999999999,null,5854.14,null,2745.24,null,2801.93,null,1264.83,null,2213.5100000000002,null,6614.07,null,2839.66,null,3257.02,null,2669.63,null,1936.97,null,3882.36]
["2022-02-18",1110.27,null,5720.19,null,2626.33,null,2693.16,null,1278.6500000000001,null,2067.6,null,6472.64,null,2787.84,null,3328.87,null,2634.41,null,1932.95,null,4057.34]
["2022-02-25",1166.5999999999999,{"$f":"AVERAGE(B53:B55)","v":1168.2466666666667},5589.16,{"$f":"AVERAGE(D53:D55)","v":5721.163333333333},2591.7800000000002,{"$f":"AVERAGE(F53:F55)","v":2654.4500000000003},2658.14,{"$f":"AVERAGE(H53:H55)","v":2717.7433333333333},1284.99,{"$f":"AVERAGE(J53:J55)","v":1276.1566666666668},2018.86,{"$f":"AVERAGE(L53:L55)","v":2099.9900000000002},6135.7,{"$f":"AVERAGE(N53:N55)","v":6407.47},2771.15,{"$f":"AVERAGE(P53:P55)","v":2799.5499999999997},3293.73,{"$f":"AVERAGE(R53:R55)","v":3293.2066666666665},2611.73,{"$f":"AVERAGE(T53:T55)","v":2638.59},1884.8,{"$f":"AVERAGE(V53:V55)","v":1918.24},3974.8,{"$f":"AVERAGE(X53:X55)","v":3971.5}]
["2022-03-04",1128.75,null,5528.5,null,2578.94,null,2667.82,null,1262.2,null,1941.06,null,6271.72,null,2659.69,null,3258.92,null,2472.23,null,1920.67,null,3824.46]
["2022-03-11",1118.6199999999999,null,5474.9,null,2568.88,null,2592.59,null,1202.0899999999999,null,1922.23,null,6262.4,null,2708.33,null,3312.56,null,2388.19,null,1912.05,null,3885.53]
["2022-03-18",1124.72,null,5372.2,null,2470.7600000000002,null,2646.21,null,1268.5999999999999,null,1848.47,null,6229.19,null,2641,null,3333.78,null,2331.9299999999998,null,1842.41,null,3696.16]
["2022-03-25",1123.02,{"$f":"AVERAGE(B56:B59)","v":1123.7775000000001},5284.06,{"$f":"AVERAGE(D56:D59)","v":5414.915},2520.33,{"$f":"AVERAGE(F56:F59)","v":2534.7275},2641.88,{"$f":"AVERAGE(H56:H59)","v":2637.125},1231.3699999999999,{"$f":"AVERAGE(J56:J59)","v":1241.0650000000001},1836.72,{"$f":"AVERAGE(L56:L59)","v":1887.1200000000001},6209.8,{"$f":"AVERAGE(N56:N59)","v":6243.2774999999992},2561.81,{"$f":"AVERAGE(P56:P59)","v":2642.7075},3267.55,{"$f":"AVERAGE(R56:R59)","v":3293.2025000000003},2256.29,{"$f":"AVERAGE(T56:T59)","v":2362.16},1874.08,{"$f":"AVERAGE(V56:V59)","v":1887.3025},3596.72,{"$f":"AVERAGE(X56:X59)","v":3750.7174999999997}]
["2022-04-01",1159.7,null,5162.2299999999996,null,2436.6,null,2710.1,null,1249.33,null,1831.21,null,6025.65,null,2496.94,null,3254.62,null,2169.2199999999998,null,1792.96,null,3418.92]
["2022-04-08",1178.22,null,5104.3999999999996,null,2286.79,null,2608.64,null,1249.1099999999999,null,1765.12,null,5928.69,null,2507.58,null,3190.66,null,2035.08,null,1810.13,null,3245.9]
["2022-04-15",1192.69,null,5067.2700000000004,null,2354.1,null,2648.78,null,1271.9000000000001,null,1780.33,null,6002.97,null,2455.2399999999998,null,3171.85,null,2019.96,null,1779.99,null,3162.8]
["2022-04-22",1221.93,null,5082.92,null,2336.96,null,2645.47,null,1228.95,null,1761.57,null,6004.53,null,2556.4,null,3102.21,null,1954.15,null,1660.15,null,3013.83]
["2022-04-29",1218.67,{"$f":"AVERAGE(B60:B64)","v":1194.242},5063.3500000000004,{"$f":"AVERAGE(D60:D64)","v":5096.0339999999997},2324.0500000000002,{"$f":"AVERAGE(F60:F64)","v":2347.6999999999998},2561.15,{"$f":"AVERAGE(H60:H64)","v":2634.828},1244.04,{"$f":"AVERAGE(J60:J64)","v":1248.6659999999999},1764.62,{"$f":"AVERAGE(L60:L64)","v":1780.5699999999997},6021.42,{"$f":"AVERAGE(N60:N64)","v":5996.652},2646.36,{"$f":"AVERAGE(P60:P64)","v":2532.5039999999999},3112.71,{"$f":"AVERAGE(R60:R64)","v":3166.41},1944.27,{"$f":"AVERAGE(T60:T64)","v":2024.5360000000001},1754.7,{"$f":"AVERAGE(V60:V64)","v":1759.586},2943.57,{"$f":"AVERAGE(X60:X64)","v":3157.0039999999999}]
["2022-05-06",1197.05,null,5039.2299999999996,null,2339.09,null,2517.59,null,1179.54,null,1712.04,null,5947.17,null,2658.9,null,2997.41,null,1970.44,null,1676.08,null,2746.89]
["2022-05-13",1223.69,null,5049.9399999999996,null,2413.36,null,2671.47,null,1238.4000000000001,null,1681.52,null,5988.43,null,2634.45,null,3017.01,null,1910.27,null,1701.97,null,2716.29]
["2022-05-20",1218.83,null,4978,null,2598.5,null,2916.52,null,1224.03,null,1723.94,null,6010.56,null,2710.37,null,2993.9,null,1922.3,null,1703.71,null,2633.23]
["2022-05-27",1228.27,{"$f":"AVERAGE(B65:B68)","v":1216.96},5051.92,{"$f":"AVERAGE(D65:D68)","v":5029.7724999999991},2714.62,{"$f":"AVERAGE(F65:F68)","v":2516.3924999999999},3017.27,{"$f":"AVERAGE(H65:H68)","v":2780.7125000000001},1238.6400000000001,{"$f":"AVERAGE(J65:J68)","v":1220.1525000000001},1648.58,{"$f":"AVERAGE(L65:L68)","v":1691.52},6070.4,{"$f":"AVERAGE(N65:N68)","v":6004.1399999999994},2724.5,{"$f":"AVERAGE(P65:P68)","v":2682.0550000000003},3010.17,{"$f":"AVERAGE(R65:R68)","v":3004.6224999999999},1932.31,{"$f":"AVERAGE(T65:T68)","v":1933.83},1660.38,{"$f":"AVERAGE(V65:V68)","v":1685.5350000000001},2748.92,{"$f":"AVERAGE(X65:X68)","v":2711.3325}]
["2022-06-03",1219.25,null,5024.21,null,2682.4,null,3024.65,null,1221.4000000000001,null,1692.98,null,6065.34,null,2749.14,null,3003.44,null,1885.95,null,1672.81,null,2828.98]
["2022-06-10",1221.57,null,5069.07,null,2665.78,null,3023.22,null,1318.34,null,1727.89,null,6095.67,null,2794.21,null,2967.3,null,1983.65,null,1692.15,null,3122.05]
["2022-06-17",1222.9000000000001,null,5068.91,null,2691.53,null,3022.06,null,1223.54,null,1738.3,null,6145.5,null,2821.29,null,3060.78,null,1999.35,null,1640.4,null,3291.83]
["2022-06-24",1205.3699999999999,1217.2725,5024.16,5046.5874999999996,2676.02,2678.9325000000003,2982.23,3013.04,1211.95,1243.8074999999999,1764.58,1730.9375,5976.09,6070.6500000000005,2835.29,2799.9825000000001,3115.2,3036.6800000000003,2132.36,2000.3275000000003,1686.6,1672.9900000000002,3440.49,3170.8375000000001]
[{"$f":"A72+7","v":"2022-07-01"},1184.6500000000001,null,5098.72,null,2643.55,null,3012.13,null,1296.3699999999999,null,1758.78,null,6026.07,null,2801.11,null,3051.48,null,2148.3000000000002,null,1682.52,null,3613.78]
["2022-07-08",1189.0999999999999,null,4994.3500000000004,null,2577.61,null,2959.47,null,1261.68,null,1799.47,null,5906.55,null,2866.82,null,3012.55,null,2242.39,null,1661.71,null,3639.88]
["2022-07-15",1200.3,null,5085.87,null,2642.41,null,2927.72,null,1263,null,1748.99,null,6012.58,null,2878.02,null,3083.11,null,2314.23,null,1665.94,null,3707.59]
["2022-07-22",1190.1600000000001,null,5086.4799999999996,null,2536.56,null,2946.35,null,1271.07,null,1702.96,null,5813.46,null,2885.33,null,3051.05,null,2399.8000000000002,null,1638.27,null,3612.35]
["2022-07-29",1208.25,{"$f":"AVERAGE(B73:B77)","v":1194.492},4997.28,{"$f":"AVERAGE(D73:D77)","v":5052.5399999999991},2529,{"$f":"AVERAGE(F73:F77)","v":2585.826},2949.48,{"$f":"AVERAGE(H73:H77)","v":2959.0299999999997},1298.8800000000001,{"$f":"AVERAGE(J73:J77)","v":1278.2},1665.57,{"$f":"AVERAGE(L73:L77)","v":1735.154},5749.89,{"$f":"AVERAGE(N73:N77)","v":5901.7099999999991},2888.2,{"$f":"AVERAGE(P73:P77)","v":2863.8959999999997},3016.69,{"$f":"AVERAGE(R73:R77)","v":3042.9760000000006},2480.5,{"$f":"AVERAGE(T73:T77)","v":2317.0440000000003},1654.33,{"$f":"AVERAGE(V73:V77)","v":1660.5540000000001},3362.68,{"$f":"AVERAGE(X73:X77)","v":3587.2559999999999}]
[{"$f":"A77+7","v":"2022-08-05"},1171.3900000000001,null,5075.59,null,2457.62,null,2898.19,null,1275.04,null,1671.19,null,5610.49,null,2945.75,null,2961.83,null,2477.8000000000002,null,1632.86,null,3290.14]
["2022-08-12",1192.98,null,4910.6099999999997,null,2471.12,null,2876.22,null,1299.45,null,1483.01,null,5507.71,null,2902.29,null,3030.7,null,2420.29,null,1603.03,null,2910.29]
["2022-08-19",1183.73,null,4817.93,null,2362.71,null,2907.32,null,1250.23,null,1421.08,null,5313.46,null,2871.87,null,2946.07,null,2387.2399999999998,null,1625.05,null,2764.77]
["2022-08-26",1180.1199999999999,{"$f":"AVERAGE(B78:B81)","v":1182.0549999999998},4689.3100000000004,{"$f":"AVERAGE(D78:D81)","v":4873.3600000000006},2360.4,{"$f":"AVERAGE(F78:F81)","v":2412.9625000000001},2835.84,{"$f":"AVERAGE(H78:H81)","v":2879.3924999999999},1300.8800000000001,{"$f":"AVERAGE(J78:J81)","v":1281.4000000000001},1291.72,{"$f":"AVERAGE(L78:L81)","v":1466.75},5163.95,{"$f":"AVERAGE(N78:N81)","v":5398.9025000000001},2792.71,{"$f":"AVERAGE(P78:P81)","v":2878.1549999999997},2878.11,{"$f":"AVERAGE(R78:R81)","v":2954.1775000000002},2279.25,{"$f":"AVERAGE(T78:T81)","v":2391.145},1570.19,{"$f":"AVERAGE(V78:V81)","v":1607.7824999999998},2484.17,{"$f":"AVERAGE(X78:X81)","v":2862.3425000000002}]
["2022-09-02",1184.5999999999999,null,4616.87,null,2232.89,null,2837.09,null,1259.06,null,1217.25,null,5108.3999999999996,null,2768.04,null,2907.95,null,2170.6,null,1551.94,null,2317.5500000000002]
["2022-09-09",1165.83,null,4455.4799999999996,null,2194.66,null,2799.37,null,1261.4100000000001,null,1131.24,null,4833.04,null,2789.66,null,2842.58,null,2061.2399999999998,null,1525.51,null,2022.84]
["2022-09-16",1142.22,null,4335,null,2012.7,null,2784.02,null,1219.1099999999999,null,1025.9100000000001,null,4676.99,null,2700.89,null,2830.84,null,1848.34,null,1492.11,null,1931.49]
["2022-09-23",1174.3900000000001,null,4178.1400000000003,null,1913.8,null,2600.25,null,1211.33,null,985.67,null,4381.0600000000004,null,2603.15,null,2709.43,null,1623.3,null,1472.45,null,1659.55]
["2022-09-30",1142.76,{"$f":"AVERAGE(B82:B86)","v":1161.96},3995.68,{"$f":"AVERAGE(D82:D86)","v":4316.2339999999995},1697.24,{"$f":"AVERAGE(F82:F86)","v":2010.2579999999998},2480.83,{"$f":"AVERAGE(H82:H86)","v":2700.3119999999999},1285.28,{"$f":"AVERAGE(J82:J86)","v":1247.2379999999998},957.67,{"$f":"AVERAGE(L82:L86)","v":1063.548},4129.46,{"$f":"AVERAGE(N82:N86)","v":4625.7899999999991},2468.2399999999998,{"$f":"AVERAGE(P82:P86)","v":2665.9960000000001},2636.91,{"$f":"AVERAGE(R82:R86)","v":2785.5419999999999},1441.9,{"$f":"AVERAGE(T82:T86)","v":1829.0760000000002},1387.43,{"$f":"AVERAGE(V82:V86)","v":1485.8879999999999},1486.18,{"$f":"AVERAGE(X82:X86)","v":1883.5220000000002}]
["2022-10-07"]
["2022-10-14",1156.29,null,3435.82,null,1486.37,null,2195.67,null,1130.94,null,852.89,null,3505.76,null,2316.13,null,2455.9699999999998,null,1156.27,null,1288.6600000000001,null,1124.1099999999999]
["2022-10-21",1151.58,null,3339.09,null,1389.53,null,2143.1,null,1105.97,null,866.42,null,3314.62,null,2173.84,null,2420.39,null,1156.47,null,1282.32,null,1104.7]
["2022-10-28",1159.23,{"$f":"AVERAGE(B88:B90)","v":1155.7},3113.46,{"$f":"AVERAGE(D88:D90)","v":3296.123333333333},1241.6500000000001,{"$f":"AVERAGE(F88:F90)","v":1372.5166666666664},2035.04,{"$f":"AVERAGE(H88:H90)","v":2124.6033333333335},1121.31,{"$f":"AVERAGE(J88:J90)","v":1119.4066666666665},844.86,{"$f":"AVERAGE(L88:L90)","v":854.72333333333336},3099.43,{"$f":"AVERAGE(N88:N90)","v":3306.603333333333},2050.89,{"$f":"AVERAGE(P88:P90)","v":2180.2866666666669},2379.0300000000002,{"$f":"AVERAGE(R88:R90)","v":2418.4633333333331},1265.43,{"$f":"AVERAGE(T88:T90)","v":1192.7233333333334},1263.17,{"$f":"AVERAGE(V88:V90)","v":1278.05},1191.8599999999999,{"$f":"AVERAGE(X88:X90)","v":1140.2233333333334}]
["2022-11-04",1149.94,null,2894.69,null,1171.56,null,1964.56,null,1072.25,null,887.69,null,2917.04,null,1886.41,null,2336.69,null,1262.93,null,1242.6500000000001,null,1355.79]
["2022-11-11",1160.3499999999999,null,2689.82,null,1138.42,null,1881.53,null,1045.18,null,863.08,null,2771.26,null,1782.67,null,2367.34,null,1229.71,null,1229.67,null,1529.17]
["2022-11-18",1127.8699999999999,null,2514.6999999999998,null,1036.96,null,1780.34,null,1084.83,null,846.32,null,2668.72,null,1630.54,null,2332.71,null,1129.45,null,1148.96,null,1672.14]
["2022-11-25",1141.9000000000001,{"$f":"AVERAGE(B91:B94)","v":1145.0149999999999},2296.33,{"$f":"AVERAGE(D91:D94)","v":2598.8850000000002},988.72,{"$f":"AVERAGE(F91:F94)","v":1083.915},1676.37,{"$f":"AVERAGE(H91:H94)","v":1825.7},1055.43,{"$f":"AVERAGE(J91:J94)","v":1064.4225000000001},842.58,{"$f":"AVERAGE(L91:L94)","v":859.91750000000002},2547.4299999999998,{"$f":"AVERAGE(N91:N94)","v":2726.1125000000002},1559.48,{"$f":"AVERAGE(P91:P94)","v":1714.7750000000001},2268.19,{"$f":"AVERAGE(R91:R94)","v":2326.2325000000001},960.37,{"$f":"AVERAGE(T91:T94)","v":1145.615},1146.32,{"$f":"AVERAGE(V91:V94)","v":1191.9000000000001},1643.67,{"$f":"AVERAGE(X91:X94)","v":1550.1925000000001}]
["2022-12-02",1126,null,2162,null,928,null,1559,null,1037,null,819,null,2377,null,1445,null,2135,null,800,null,1075,null,1468]
["2022-12-09",1118.9100000000001,null,2035.28,null,927.2,null,1515.6,null,1049.48,null,759.45,null,2374.3200000000002,null,1414.66,null,2036.39,null,727.39,null,977.95,null,1353.54]
["2022-12-16",1091.22,null,1893.97,null,894.62,null,1433.23,null,1022.7,null,761.23,null,2246.64,null,1250.9100000000001,null,1903.42,null,713.66,null,916.19,null,1294.27]
["2022-12-23",1096.01,null,1823.1,null,906.35,null,1391.15,null,1030.27,null,721.61,null,2188.2199999999998,null,1255.3,null,1829.56,null,670.63,null,893.19,null,1251.3399999999999]
["2022-12-30",1071.92,{"$f":"AVERAGE(B95:B99)","v":1100.8120000000001},1766.36,{"$f":"AVERAGE(D95:D99)","v":1936.1420000000003},837.77,{"$f":"AVERAGE(F95:F99)","v":898.78800000000012},1377.49,{"$f":"AVERAGE(H95:H99)","v":1455.2939999999999},1029.8499999999999,{"$f":"AVERAGE(J95:J99)","v":1033.8600000000001},709.93,{"$f":"AVERAGE(L95:L99)","v":754.24400000000003},2184.1799999999998,{"$f":"AVERAGE(N95:N99)","v":2274.0719999999997},1276.1099999999999,{"$f":"AVERAGE(P95:P99)","v":1328.396},1772.81,{"$f":"AVERAGE(R95:R99)","v":1935.4360000000001},674.85,{"$f":"AVERAGE(T95:T99)","v":717.30599999999993},817.49,{"$f":"AVERAGE(V95:V99)","v":935.96399999999994},1218.43,{"$f":"AVERAGE(X95:X99)","v":1317.116}]
["2023-01-06",1054.19,null,1753.37,null,843.96,null,1364.14,null,1003,null,696.27,null,2170.08,null,1247.58,null,1675.81,null,676.51,null,792.54,null,1167.45]
["2023-01-13",1020,null,1584.12,null,822.62,null,1333,null,901.38,null,672.11,null,2183.06,null,1260.5999999999999,null,1604.75,null,667.25,null,718.91,null,1154.69]
["2023-01-20",1073.04,null,1502.35,null,818.48,null,1239.8800000000001,null,964.54,null,680.63,null,2088.83,null,1125.18,null,1510.89,null,599.88,null,693.99,null,1080.9100000000001]
["2023-01-27",null,{"$f":"AVERAGE(B100:B102)","v":1049.0766666666666},null,{"$f":"AVERAGE(D100:D102)","v":1613.28},null,{"$f":"AVERAGE(F100:F102)","v":828.35333333333335},null,{"$f":"AVERAGE(H100:H102)","v":1312.3400000000001},null,{"$f":"AVERAGE(J100:J102)","v":956.30666666666673},null,{"$f":"AVERAGE(L100:L102)","v":683.00333333333344},null,{"$f":"AVERAGE(N100:N102)","v":2147.3233333333333},null,{"$f":"AVERAGE(P100:P102)","v":1211.1199999999999},null,{"$f":"AVERAGE(R100:R102)","v":1597.1499999999999},null,{"$f":"AVERAGE(T100:T102)","v":647.88},null,{"$f":"AVERAGE(V100:V102)","v":735.14666666666653},null,{"$f":"AVERAGE(X100:X102)","v":1134.3500000000001}]
["2023-02-03",984.24,null,1465.34,null,794.74,null,1199.03,null,910.36,null,654.94000000000005,null,1974.65,null,1057.96,null,1443.99,null,537.96,null,628.80999999999995,null,1025.98]
["2023-02-10",1068.74,null,1449.61,null,846.32,null,1218.5,null,935.99,null,689.6,null,1983.61,null,966.64,null,1386.69,null,570.77,null,609.51,null,1068.6199999999999]
["2023-02-17",1035.23,null,1411.53,null,794.49,null,1144.03,null,773.32,null,629.44000000000005,null,1949.31,null,1024.8900000000001,null,1322.1,null,623.92999999999995,null,619.1,null,1091.24]
["2023-02-24",1027.08,{"$f":"AVERAGE(B104:B107)","v":1028.8225},1394.8,{"$f":"AVERAGE(D104:D107)","v":1430.32},779.96,{"$f":"AVERAGE(F104:F107)","v":803.87750000000005},1118.3699999999999,{"$f":"AVERAGE(H104:H107)","v":1169.9824999999998},830.12,{"$f":"AVERAGE(J104:J107)","v":862.44749999999999},634.70000000000005,{"$f":"AVERAGE(L104:L107)","v":652.17000000000007},1863.22,{"$f":"AVERAGE(N104:N107)","v":1942.6975},969.18,{"$f":"AVERAGE(P104:P107)","v":1004.6674999999999},1260.46,{"$f":"AVERAGE(R104:R107)","v":1353.3100000000002},608.02,{"$f":"AVERAGE(T104:T107)","v":585.16999999999996},607.5,{"$f":"AVERAGE(V104:V107)","v":616.23},1115.8599999999999,{"$f":"AVERAGE(X104:X107)","v":1075.425}]
["2023-03-03",961.19,null,1379.05,null,781.02,null,1083.6600000000001,null,788.38,null,605.36,null,1835.08,null,935.14,null,1208.5899999999999,null,640.77,null,582.26,null,1116.45]
["2023-03-10",982.13,null,1301.6400000000001,null,746.83,null,1048.5,null,751.86,null,608.14,null,1803.34,null,896.61,null,1105.1300000000001,null,620.87,null,574.65,null,1057.47]
["2023-03-17",906.79,null,1234.78,null,738.04,null,1065.24,null,757.55,null,645.82000000000005,null,1766.54,null,792.24,null,1061.6500000000001,null,590.59,null,567.54999999999995,null,1012.19]
["2023-03-24",939.67,null,1238.43,null,709.22,null,1071.26,null,724.6,null,641.91999999999996,null,1755.82,null,766.87,null,984.29,null,571.29,null,555.94000000000005,null,920.94]
["2023-03-31",863.97,{"$f":"AVERAGE(B108:B112)","v":930.75},1215.22,{"$f":"AVERAGE(D108:D112)","v":1273.8240000000001},694.46,{"$f":"AVERAGE(F108:F112)","v":733.91399999999999},1042.05,{"$f":"AVERAGE(H108:H112)","v":1062.1420000000001},723,{"$f":"AVERAGE(J108:J112)","v":749.07799999999997},650.94000000000005,{"$f":"AVERAGE(L108:L112)","v":630.43600000000004},1707.87,{"$f":"AVERAGE(N108:N112)","v":1773.73},741.68,{"$f":"AVERAGE(P108:P112)","v":826.50800000000004},951.95,{"$f":"AVERAGE(R108:R112)","v":1062.3219999999999},548.89,{"$f":"AVERAGE(T108:T112)","v":594.48199999999997},554.73,{"$f":"AVERAGE(V108:V112)","v":567.02599999999995},975.15,{"$f":"AVERAGE(X108:X112)","v":1016.4399999999999}]
["2023-04-07",902.3,null,1201.7,null,704.45,null,917.68,null,673.76,null,667.82,null,1714.53,null,705.97,null,940.98,null,572.08000000000004,null,546.35,null,1001.51]
["2023-04-14",860.35,null,1177.7,null,708.93,null,931.72,null,642.66999999999996,null,666.7,null,1661.47,null,727.74,null,882.33,null,618.38,null,558.07000000000005,null,996.18]
["2023-04-21",880.88,null,1160.94,null,676.48,null,867.65,null,600.76,null,653.62,null,1659.32,null,661.47,null,834.36,null,655.69,null,557.41,null,1135.8599999999999]
["2023-04-28",913.7,{"$f":"AVERAGE(B113:B116)","v":889.30750000000012},1183.3599999999999,{"$f":"AVERAGE(D113:D116)","v":1180.925},723.27,{"$f":"AVERAGE(F113:F116)","v":703.28250000000003},923.24,{"$f":"AVERAGE(H113:H116)","v":910.07249999999999},611.42999999999995,{"$f":"AVERAGE(J113:J116)","v":632.15499999999997},657.46,{"$f":"AVERAGE(L113:L116)","v":661.4},1692.45,{"$f":"AVERAGE(N113:N116)","v":1681.9424999999999},677.34,{"$f":"AVERAGE(P113:P116)","v":693.13000000000011},820.18,{"$f":"AVERAGE(R113:R116)","v":869.46249999999998},672.2,{"$f":"AVERAGE(T113:T116)","v":629.58750000000009},563.34,{"$f":"AVERAGE(V113:V116)","v":556.29250000000002},1180.1600000000001,{"$f":"AVERAGE(X113:X116)","v":1078.4275}]
["2023-05-05",883,null,1170.67,null,750.81,null,933.14,null,599.4,null,644.66999999999996,null,1696.22,null,641.91,null,780.97,null,710.51,null,550.94000000000005,null,1226.51]
["2023-05-12",845.02,null,1170.32,null,745.17,null,910.59,null,578.13,null,629.95000000000005,null,1687.81,null,597.19000000000005,null,771.98,null,734.21,null,585.30999999999995,null,1190.73]
["2023-05-19",863.12,null,1165.19,null,707.57,null,897.13,null,581.64,null,634.15,null,1681.2,null,592.91,null,795.89,null,745.78,null,596.03,null,1156.02]
["2023-05-26",899.69,{"$f":"AVERAGE(B117:B120)","v":872.70749999999998},1147.57,{"$f":"AVERAGE(D117:D120)","v":1163.4375},703.31,{"$f":"AVERAGE(F117:F120)","v":726.71500000000003},885.38,{"$f":"AVERAGE(H117:H120)","v":906.56000000000006},574.15,{"$f":"AVERAGE(J117:J120)","v":583.33000000000004},630.51,{"$f":"AVERAGE(L117:L120)","v":634.81999999999994},1678.89,{"$f":"AVERAGE(N117:N120)","v":1686.03},576.82000000000005,{"$f":"AVERAGE(P117:P120)","v":602.20749999999998},772.21,{"$f":"AVERAGE(R117:R120)","v":780.26250000000005},751.85,{"$f":"AVERAGE(T117:T120)","v":735.58749999999998},604.35,{"$f":"AVERAGE(V117:V120)","v":584.15750000000003},1104.97,{"$f":"AVERAGE(X117:X120)","v":1169.5574999999999}]
["2023-06-02",870.51,null,1149.52,null,699.48,null,860.07,null,556.96,null,608.57000000000005,null,1684.25,null,600.15,null,765.78,null,740.09,null,576.16999999999996,null,1118.08]
["2023-06-09",869.94,null,1134.3499999999999,null,679.75,null,847.79,null,521.25,null,618.15,null,1688.84,null,581.04,null,762.29,null,720.05,null,584.71,null,1118.96]
["2023-06-16",854.96,null,1124.82,null,717.57,null,868.11,null,525.80999999999995,null,607.5,null,1649.82,null,590.85,null,766.59,null,735.46,null,603.48,null,1134.3900000000001]
["2023-06-23",858.59,null,1119.3800000000001,null,714.67,null,857.98,null,500.38,null,598.58000000000004,null,1628.44,null,595.95000000000005,null,731.72,null,712.96,null,583.26,null,1153.3900000000001]
["2023-06-30",838.88,{"$f":"AVERAGE(B121:B125)","v":858.57600000000002},1101.25,{"$f":"AVERAGE(D121:D125)","v":1125.864},665.41,{"$f":"AVERAGE(F121:F125)","v":695.37599999999998},814.22,{"$f":"AVERAGE(H121:H125)","v":849.63400000000001},489.1,{"$f":"AVERAGE(J121:J125)","v":518.70000000000005},599.61,{"$f":"AVERAGE(L121:L125)","v":606.48200000000008},1621.61,{"$f":"AVERAGE(N121:N125)","v":1654.5920000000001},605.4,{"$f":"AVERAGE(P121:P125)","v":594.678},704.21,{"$f":"AVERAGE(R121:R125)","v":746.11800000000005},699.16,{"$f":"AVERAGE(T121:T125)","v":721.54399999999998},571.27,{"$f":"AVERAGE(V121:V125)","v":583.77800000000002},1129.31,{"$f":"AVERAGE(X121:X125)","v":1130.8260000000002}]
["2023-07-07",815.35,null,1080.19,null,654.88,null,790.49,null,486.97,null,585.91999999999996,null,1601.4,null,588.49,null,708.45,null,678.18,null,586.03,null,1121.21]
["2023-07-14",817.36,null,1052.27,null,659.13,null,793.02,null,458.59,null,578.42999999999995,null,1568.12,null,575.69000000000005,null,719.62,null,702.77,null,587.73,null,1084.8599999999999]
["2023-07-21",812.23,null,1027.6600000000001,null,670.35,null,829.06,null,445.94,null,583.16999999999996,null,1515.35,null,580.51,null,712.07,null,703.05,null,581.79,null,1091.58]
["2023-07-28",807.7,{"$f":"AVERAGE(B126:B129)","v":813.16000000000008},1031,{"$f":"AVERAGE(D126:D129)","v":1047.78},702.62,{"$f":"AVERAGE(F126:F129)","v":671.745},859.58,{"$f":"AVERAGE(H126:H129)","v":818.03749999999991},414.38,{"$f":"AVERAGE(J126:J129)","v":451.47},559.95000000000005,{"$f":"AVERAGE(L126:L129)","v":576.86750000000006},1505.01,{"$f":"AVERAGE(N126:N129)","v":1547.47},561.46,{"$f":"AVERAGE(P126:P129)","v":576.53750000000002},705.52,{"$f":"AVERAGE(R126:R129)","v":711.41500000000008},680.23,{"$f":"AVERAGE(T126:T129)","v":691.0575},587.64,{"$f":"AVERAGE(V126:V129)","v":585.79750000000001},1007.35,{"$f":"AVERAGE(X126:X129)","v":1076.25}]
["2023-08-04",795.82,null,1026.52,null,736.26,null,874.41,null,395.74,null,568.70000000000005,null,1483.74,null,583.62,null,701.94,null,681.63,null,582.13,null,948.01]
["2023-08-11",788.46,null,1074.3599999999999,null,733.29,null,880.06,null,424.35,null,551.09,null,1533.86,null,609.72,null,705.2,null,699.27,null,591.91,null,899.02]
["2023-08-18",753.66,null,1128.49,null,754.56,null,905.5,null,435.18,null,546.78,null,1556.71,null,623.82000000000005,null,723.29,null,713.21,null,607.01,null,854.99]
["2023-08-25",783.26,{"$f":"AVERAGE(B130:B133)","v":780.3},1110.98,{"$f":"AVERAGE(D130:D133)","v":1085.0875000000001},776.9,{"$f":"AVERAGE(F130:F133)","v":750.25249999999994},904.8,{"$f":"AVERAGE(H130:H133)","v":891.19249999999988},429.21,{"$f":"AVERAGE(J130:J133)","v":421.12},526.76,{"$f":"AVERAGE(L130:L133)","v":548.33249999999998},1545.57,{"$f":"AVERAGE(N130:N133)","v":1529.9699999999998},648.14,{"$f":"AVERAGE(P130:P133)","v":616.32500000000005},707.62,{"$f":"AVERAGE(R130:R133)","v":709.51250000000005},727.74,{"$f":"AVERAGE(T130:T133)","v":705.46250000000009},608.74,{"$f":"AVERAGE(V130:V133)","v":597.44749999999999},904.35,{"$f":"AVERAGE(X130:X133)","v":901.59249999999997}]
["2023-09-01",771.98,null,1109.82,null,766.87,null,917.47,null,432.66,null,540.48,null,1529.1,null,668.85,null,722.86,null,714.37,null,592.65,null,910.45]
["2023-09-08",788.99,null,1074.2,null,784.04,null,914.66,null,430.61,null,548.91,null,1495.42,null,676.58,null,724.17,null,700.02,null,596.86,null,935.43]
["2023-09-15",772.54,null,1038.04,null,772.12,null,895.92,null,438.2,null,549.72,null,1438,null,724.8,null,724.42,null,675.47,null,596.25,null,965.02]
["2023-09-22",792.2,null,1025.82,null,767.28,null,882.06,null,417.78,null,579.72,null,1404.61,null,731.82,null,726.22,null,643.92999999999995,null,572.95000000000005,null,986.84]
[{"$f":"A137+7","v":"2023-09-29"},810.82,{"$f":"AVERAGE(B134:B138)","v":787.30600000000004},992.55,{"$f":"AVERAGE(D134:D138)","v":1048.086},747.28,{"$f":"AVERAGE(F134:F138)","v":767.5179999999998},860.47,{"$f":"AVERAGE(H134:H138)","v":894.11599999999999},439.61,{"$f":"AVERAGE(J134:J138)","v":431.77200000000005},582.04,{"$f":"AVERAGE(L134:L138)","v":560.17399999999998},1345.4,{"$f":"AVERAGE(N134:N138)","v":1442.5060000000001},753.55,{"$f":"AVERAGE(P134:P138)","v":711.12000000000012},721.04,{"$f":"AVERAGE(R134:R138)","v":723.74199999999996},627.32000000000005,{"$f":"AVERAGE(T134:T138)","v":672.22199999999998},552.65,{"$f":"AVERAGE(V134:V138)","v":582.27200000000005},935.61,{"$f":"AVERAGE(X134:X138)","v":946.67000000000007}]
["2023-10-06","CHINA PH",null,"CHINA PH",null,"CHINA PH",null,"CHINA PH",null,"CHINA PH",null,"CHINA PH",null,"CHINA PH",null,"CHINA PH",null,"CHINA PH",null,"CHINA PH",null,"CHINA PH",null,"CHINA PH"]
["2023-10-13",805.78,null,948.33,null,721.2,null,823.44,null,431.11,null,594.4,null,1274.4100000000001,null,723.08,null,706.09,null,569.71,null,516.26,null,881.42]
["2023-10-20",827.71,null,939.52,null,708.61,null,845.96,null,441.92,null,611.04999999999995,null,1240.47,null,742.73,null,716.14,null,577.38,null,513.39,null,844.65]
["2023-10-27",780.81,{"$f":"AVERAGE(B139:B142)","v":804.76666666666677},939.27,{"$f":"AVERAGE(D139:D142)","v":942.37333333333333},718.34,{"$f":"AVERAGE(F139:F142)","v":716.05000000000007},808.58,{"$f":"AVERAGE(H139:H142)","v":825.99333333333334},436,{"$f":"AVERAGE(J139:J142)","v":436.34333333333331},586.67999999999995,{"$f":"AVERAGE(L139:L142)","v":597.37666666666655},1221.31,{"$f":"AVERAGE(N139:N142)","v":1245.3966666666668},759.5,{"$f":"AVERAGE(P139:P142)","v":741.77},700.07,{"$f":"AVERAGE(R139:R142)","v":707.43333333333339},602.44000000000005,{"$f":"AVERAGE(T139:T142)","v":583.17666666666673},549.15,{"$f":"AVERAGE(V139:V142)","v":526.26666666666677},871.81,{"$f":"AVERAGE(X139:X142)","v":865.96}]
["2023-11-03",780.07,null,903.5,null,733.84,null,811.9,null,448,null,646.1,null,1234.07,null,784.58,null,741.09,null,640.82000000000005,null,544.66,null,978.74]
["2023-11-10",793.37,null,952.58,null,722.55,null,824.8,null,455.92,null,642.34,null,1237.25,null,804.46,null,769.08,null,636.1,null,576.88,null,1038.4100000000001]
["2023-11-17",775.77,null,994.18,null,740.52,null,846.69,null,434.06,null,669.4,null,1314.2,null,838.54,null,765.67,null,672.72,null,583.91,null,1097.32]
["2023-11-24",773.29,{"$f":"AVERAGE(B143:B146)","v":780.625},998.94,{"$f":"AVERAGE(D143:D146)","v":962.3},745.82,{"$f":"AVERAGE(F143:F146)","v":735.6825},850.55,{"$f":"AVERAGE(H143:H146)","v":833.4849999999999},451.47,{"$f":"AVERAGE(J143:J146)","v":447.36250000000001},670.71,{"$f":"AVERAGE(L143:L146)","v":657.13750000000005},1302.03,{"$f":"AVERAGE(N143:N146)","v":1271.8874999999998},867.24,{"$f":"AVERAGE(P143:P146)","v":823.70499999999993},769.68,{"$f":"AVERAGE(R143:R146)","v":761.38},668.68,{"$f":"AVERAGE(T143:T146)","v":654.58000000000004},579.84,{"$f":"AVERAGE(V143:V146)","v":571.32249999999999},1126.05,{"$f":"AVERAGE(X143:X146)","v":1060.1300000000001}]
["2023-12-01",754.48,null,974.24,null,720.4,null,853.34,null,438.53,null,686.04,null,1261.95,null,887.15,null,773.5,null,659.99,null,576.39,null,1056.23]
["2023-12-08",771.3,null,983.75,null,718.95,null,837.49,null,435.36,null,678.73,null,1283.67,null,875.39,null,764.4,null,651.72,null,548.82000000000005,null,1053.33]
["2023-12-15",772.36,null,1023.75,null,718.5,null,845.31,null,455.82,null,678.75,null,1310.3900000000001,null,862.07,null,818.78,null,644.75,null,536.73,null,1037.31]
["2023-12-22",804.91,null,1049.6300000000001,null,703.99,null,854.8,null,454.56,null,680.9,null,1352.49,null,849.19,null,823.12,null,650.16,null,522.98,null,1053.3699999999999]
["2023-12-29",792.31,{"$f":"AVERAGE(B147:B151)","v":779.07199999999989},1107.46,{"$f":"AVERAGE(D147:D151)","v":1027.7660000000001},742,{"$f":"AVERAGE(F147:F151)","v":720.76800000000003},867.28,{"$f":"AVERAGE(H147:H151)","v":851.64399999999989},425.56,{"$f":"AVERAGE(J147:J151)","v":441.96600000000001},684.32,{"$f":"AVERAGE(L147:L151)","v":681.74800000000005},1493.29,{"$f":"AVERAGE(N147:N151)","v":1340.3579999999999},874.69,{"$f":"AVERAGE(P147:P151)","v":869.69799999999998},829.27,{"$f":"AVERAGE(R147:R151)","v":801.81400000000008},621.29999999999995,{"$f":"AVERAGE(T147:T151)","v":645.58400000000006},511.85,{"$f":"AVERAGE(V147:V151)","v":539.35400000000004},1050.27,{"$f":"AVERAGE(X147:X151)","v":1050.1020000000001}]
["2024-01-05",726.14,null,1180.5899999999999,null,730.99,null,901.64,null,444.58,null,677.98,null,1664.75,null,886.87,null,850.29,null,589.58000000000004,null,521.69000000000005,null,1112.07]
["2024-01-12",793.77,null,1654.04,null,788.55,null,993.71,null,500.54,null,679.88,null,2200.62,null,955.67,null,1067.73,null,645.22,null,568.20000000000005,null,1433.26]
["2024-01-19",810.69,null,2033.95,null,851.88,null,1049.92,null,534.61,null,695.49,null,2517.37,null,995.14,null,1045.18,null,748.1,null,603.91,null,1639.81]
["2024-01-26",807.61,{"$f":"AVERAGE(B152:B155)","v":784.55250000000001},2296.7199999999998,{"$f":"AVERAGE(D152:D155)","v":1791.3249999999998},916.57,{"$f":"AVERAGE(F152:F155)","v":821.99750000000006},1154.5,{"$f":"AVERAGE(H152:H155)","v":1024.9425000000001},508.58,{"$f":"AVERAGE(J152:J155)","v":497.07749999999999},736.8,{"$f":"AVERAGE(L152:L155)","v":697.53750000000014},2842.01,{"$f":"AVERAGE(N152:N155)","v":2306.1875},1030.01,{"$f":"AVERAGE(P152:P155)","v":966.9224999999999},1086.44,{"$f":"AVERAGE(R152:R155)","v":1012.41},776.67,{"$f":"AVERAGE(T152:T155)","v":689.89250000000004},629.79999999999995,{"$f":"AVERAGE(V152:V155)","v":580.90000000000009},1714.18,{"$f":"AVERAGE(X152:X155)","v":1474.83}]
["2024-02-02",805.04,null,2398.52,null,1039.57,null,1275,null,549.66999999999996,null,731.97,null,3018.75,null,1047.8800000000001,null,1114.68,null,735.86,null,663.37,null,1573.33]
["2024-02-09",795.07,null,2317.77,null,1126.43,null,1348.35,null,507.14,null,731.54,null,2962.67,null,1057.4100000000001,null,1133.92,null,719.92,null,642.23,null,1430.13]
["2024-02-16","CNY break"]
["2024-02-23","CNY break",{"$f":"AVERAGE(B156:B159)","v":800.05500000000006},"CNY break",{"$f":"AVERAGE(D156:D159)","v":2358.145},"CNY break",{"$f":"AVERAGE(F156:F159)","v":1083},"CNY break",{"$f":"AVERAGE(H156:H159)","v":1311.675},"CNY break",{"$f":"AVERAGE(J156:J159)","v":528.40499999999997},"CNY break",{"$f":"AVERAGE(L156:L159)","v":731.755},"CNY break",{"$f":"AVERAGE(N156:N159)","v":2990.71},"CNY break",{"$f":"AVERAGE(P156:P159)","v":1052.645},"CNY break",{"$f":"AVERAGE(R156:R159)","v":1124.3000000000002},"CNY break",{"$f":"AVERAGE(T156:T159)","v":727.89},"CNY break",{"$f":"AVERAGE(V156:V159)","v":652.79999999999995},"CNY break",{"$f":"AVERAGE(X156:X159)","v":1501.73}]
["2024-03-01",745.28,null,2151.71,null,1090.92,null,1268.52,null,471.47,null,706.13,null,2634.13,null,1019.14,null,911.25,null,675.22,null,592.01,null,1314.4]
["2024-03-08",761.48,null,2014.51,null,1055.0999999999999,null,1199.73,null,476.02,null,722.58,null,2511.4699999999998,null,960.68,null,944,null,692.51,null,633.98,null,1396.36]
["2024-03-15",739.21,null,1886.68,null,1041.3900000000001,null,1166.7,null,450.12,null,701.16,null,2470.1,null,917.49,null,891.51,null,699.33,null,603.47,null,1519.67]
["2024-03-22",754.2,null,1856.3,null,1001.68,null,1143.24,null,440.96,null,724.4,null,2392.77,null,899.11,null,899.96,null,683.67,null,597.54999999999995,null,1347.59]
["2024-03-29",767.95,{"$f":"AVERAGE(B160:B164)","v":753.62400000000002},1781.21,{"$f":"AVERAGE(D160:D164)","v":1938.0819999999999},958.83,{"$f":"AVERAGE(F160:F164)","v":1029.5840000000001},1120.53,{"$f":"AVERAGE(H160:H164)","v":1179.7439999999999},462.6,{"$f":"AVERAGE(J160:J164)","v":460.23400000000004},700.94,{"$f":"AVERAGE(L160:L164)","v":711.04200000000003},2349.48,{"$f":"AVERAGE(N160:N164)","v":2471.59},828.96,{"$f":"AVERAGE(P160:P164)","v":925.07600000000002},886.25,{"$f":"AVERAGE(R160:R164)","v":906.59400000000005},656.42,{"$f":"AVERAGE(T160:T164)","v":681.43000000000006},586.89,{"$f":"AVERAGE(V160:V164)","v":602.78},1318.08,{"$f":"AVERAGE(X160:X164)","v":1379.22}]
["2024-04-05",742.04,null,1769.46,null,932.29,null,1077.23,null,454.04,null,715.54,null,2276.33,null,816.11,null,911.93,null,669.7,null,590.79999999999995,null,1325.59]
["2024-04-12",738.45,null,1725.59,null,953.08,null,1063.4100000000001,null,462.11,null,704.79,null,2262.61,null,790.46,null,869.1,null,707.86,null,570.84,null,1353.12]
["2024-04-19",722.84,null,1720.21,null,914.67,null,1037.94,null,438.16,null,719.09,null,2242.5,null,778.05,null,885.19,null,775.42,null,553.20000000000005,null,1513.46]
["2024-04-26",723.12,{"$f":"AVERAGE(B165:B168)","v":731.61249999999995},1669.04,{"$f":"AVERAGE(D165:D168)","v":1721.075},909.82,{"$f":"AVERAGE(F165:F168)","v":927.46500000000003},1026.72,{"$f":"AVERAGE(H165:H168)","v":1051.325},444.5,{"$f":"AVERAGE(J165:J168)","v":449.70250000000004},761.74,{"$f":"AVERAGE(L165:L168)","v":725.29},2308.15,{"$f":"AVERAGE(N165:N168)","v":2272.3975},790.84,{"$f":"AVERAGE(P165:P168)","v":793.86500000000001},879.72,{"$f":"AVERAGE(R165:R168)","v":886.48500000000013},822.15,{"$f":"AVERAGE(T165:T168)","v":743.78250000000003},598.16999999999996,{"$f":"AVERAGE(V165:V168)","v":578.25249999999994},1583.97,{"$f":"AVERAGE(X165:X168)","v":1444.0350000000001}]
["2024-05-03","Public Holiday in China"]
["2024-05-10",729.67,null,1736.53,null,923.32,null,1017.46,null,458.96,null,775.15,null,2373.54,null,834.71,null,961.46,null,941.82,null,699.5,null,1697.72]
["2024-05-17",745,null,1838,null,1007,null,1106,null,473,null,820,null,2453,null,882,null,1074,null,1091,null,798,null,1701]
["2024-05-24",735.55,null,2011.53,null,1077.1500000000001,null,1183.3800000000001,null,471.47,null,822.8,null,2568.46,null,895.42,null,1212.94,null,1187.02,null,944.09,null,1687.42]
["2024-05-31",753.28,{"$f":"AVERAGE(B169:B173)","v":740.875},2144.3000000000002,{"$f":"AVERAGE(D169:D173)","v":1932.59},1186.53,{"$f":"AVERAGE(F169:F173)","v":1048.5},1267.95,{"$f":"AVERAGE(H169:H173)","v":1143.6975},484.59,{"$f":"AVERAGE(J169:J173)","v":472.005},874.6,{"$f":"AVERAGE(L169:L173)","v":823.13749999999993},2754.76,{"$f":"AVERAGE(N169:N173)","v":2537.44},957.12,{"$f":"AVERAGE(P169:P173)","v":892.3125},1345.26,{"$f":"AVERAGE(R169:R173)","v":1148.415},1261.3399999999999,{"$f":"AVERAGE(T169:T173)","v":1120.2950000000001},1104.03,{"$f":"AVERAGE(V169:V173)","v":886.40499999999997},1863.84,{"$f":"AVERAGE(X169:X173)","v":1737.4950000000001}]
["2024-06-07",722.02,null,2337.5100000000002,null,1248.3699999999999,null,1366.64,null,486.08,null,928.8,null,2858.6,null,974.29,null,1544.33,null,1374.69,null,1321.35,null,1955.35]
["2024-06-14",708.33,null,2546.88,null,1367.66,null,1473.05,null,466.9,null,1039.76,null,3070.58,null,978.09,null,1961.56,null,1483.87,null,1430.41,null,2170.7199999999998]
["2024-06-21",726.62,null,2677.11,null,1440.54,null,1563.58,null,479.21,null,1116.22,null,3235.93,null,989.52,null,2025.93,null,1561.51,null,1480.68,null,2365.9299999999998]
["2024-06-28",750.29,{"$f":"AVERAGE(B174:B177)","v":726.81499999999994},2870.01,{"$f":"AVERAGE(D174:D177)","v":2607.8775000000001},1507.75,{"$f":"AVERAGE(F174:F177)","v":1391.08},1619.21,{"$f":"AVERAGE(H174:H177)","v":1505.6200000000001},483.24,{"$f":"AVERAGE(J174:J177)","v":478.85750000000002},1179.6199999999999,{"$f":"AVERAGE(L174:L177)","v":1066.0999999999999},3330.24,{"$f":"AVERAGE(N174:N177)","v":3123.8375000000001},1002.64,{"$f":"AVERAGE(P174:P177)","v":986.13499999999999},2151.6999999999998,{"$f":"AVERAGE(R174:R177)","v":1920.8799999999999},1671.9,{"$f":"AVERAGE(T174:T177)","v":1522.9924999999998},1572.59,{"$f":"AVERAGE(V174:V177)","v":1451.2575000000002},2451.7199999999998,{"$f":"AVERAGE(X174:X177)","v":2235.9299999999998}]
["2024-07-05",768.3,null,3090.34,null,1599.78,null,1654.16,null,504.54,null,1258,null,3462.6,null,1031.03,null,2256.25,null,1736.85,null,1490.85,null,2386.63]
["2024-07-12",774.44,null,3282.9,null,1688.08,null,1728.05,null,498.19,null,1297.25,null,3508.34,null,1043.68,null,2335.83,null,1845.79,null,1415.65,null,2321.25]
["2024-07-19",779,null,3520.93,null,1650.86,null,1900.11,null,538.05999999999995,null,1377.61,null,3654.79,null,1062,null,2437.37,null,1854.89,null,1404.98,null,2153.25]
["2024-07-26",768.92,{"$f":"AVERAGE(B178:B181)","v":772.66499999999996},3651.15,{"$f":"AVERAGE(D178:D181)","v":3386.33},1694.26,{"$f":"AVERAGE(F178:F181)","v":1658.2449999999999},1888.96,{"$f":"AVERAGE(H178:H181)","v":1792.82},520.48,{"$f":"AVERAGE(J178:J181)","v":515.3175},1373.71,{"$f":"AVERAGE(L178:L181)","v":1326.6424999999999},3685.61,{"$f":"AVERAGE(N178:N181)","v":3577.835},1075.8599999999999,{"$f":"AVERAGE(P178:P181)","v":1053.1424999999999},2454.7800000000002,{"$f":"AVERAGE(R178:R181)","v":2371.0574999999999},1753.68,{"$f":"AVERAGE(T178:T181)","v":1797.8025},1446.5,{"$f":"AVERAGE(V178:V181)","v":1439.4949999999999},2092.52,{"$f":"AVERAGE(X178:X181)","v":2238.4124999999999}]
["2024-08-02",776.75,null,3684.44,null,1567.82,null,1831.63,null,548.55999999999995,null,1291.22,null,3633.01,null,1046.44,null,2451.2399999999998,null,1654.95,null,1452.95,null,2034.86]
["2024-08-09",783.22,null,3694.33,null,1568.84,null,1770.67,null,521.72,null,1377.77,null,3667.4,null,1109.95,null,2411.17,null,1586.58,null,1445.86,null,2022.47]
["2024-08-16",780.71,null,3698.36,null,1457.49,null,1675.35,null,539.6,null,1229.99,null,3553.92,null,1147.73,null,2385.21,null,1465.72,null,1428.97,null,1998.4]
["2024-08-23",776.69,null,3581.44,null,1398.44,null,1632.22,null,517.78,null,1264.43,null,3487.73,null,1236.8399999999999,null,2337.9299999999998,null,1427.06,null,1378.43,null,1875.53]
["2024-08-30",786.49,{"$f":"AVERAGE(B182:B186)","v":780.77200000000016},3424.58,{"$f":"AVERAGE(D182:D186)","v":3616.63},1407.56,{"$f":"AVERAGE(F182:F186)","v":1480.03},1628.61,{"$f":"AVERAGE(H182:H186)","v":1707.6959999999999},544.14,{"$f":"AVERAGE(J182:J186)","v":534.3599999999999},1191.53,{"$f":"AVERAGE(L182:L186)","v":1270.9879999999998},3422.94,{"$f":"AVERAGE(N182:N186)","v":3553},1289.3499999999999,{"$f":"AVERAGE(P182:P186)","v":1166.0619999999999},2338.4699999999998,{"$f":"AVERAGE(R182:R186)","v":2384.8039999999996},1379.57,{"$f":"AVERAGE(T182:T186)","v":1502.7759999999998},1396.47,{"$f":"AVERAGE(V182:V186)","v":1420.5360000000001},1840.45,{"$f":"AVERAGE(X182:X186)","v":1954.3419999999999}]
["2024-09-06",805.05,null,3274.95,null,1372.23,null,1623.36,null,505.09,null,1154.3900000000001,null,3293.24,null,1381.54,null,2195.04,null,1357.37,null,1332.25,null,1773.87]
["2024-09-13",805.32,null,3017.44,null,1336.62,null,1500.4,null,533.49,null,1099.6500000000001,null,3130.3,null,1449.4,null,2316.11,null,1402.84,null,1316.94,null,1605.14]
["2024-09-20",811.99,null,2801.71,null,1335.05,null,1401.75,null,540.5,null,1030.1300000000001,null,2971.03,null,1534.69,null,2200.81,null,1453.7,null,1304.76,null,1537.29]
["2024-09-27",839.68,{"$f":"AVERAGE(B187:B190)","v":815.50999999999988},2519.13,{"$f":"AVERAGE(D187:D190)","v":2903.3074999999999},1304.6300000000001,{"$f":"AVERAGE(F187:F190)","v":1337.1324999999999},1345.52,{"$f":"AVERAGE(H187:H190)","v":1467.7575000000002},525.48,{"$f":"AVERAGE(J187:J190)","v":526.14},999.71,{"$f":"AVERAGE(L187:L190)","v":1070.97},2740.74,{"$f":"AVERAGE(N187:N190)","v":3033.8274999999999},1550.34,{"$f":"AVERAGE(P187:P190)","v":1478.9925000000001},2174.14,{"$f":"AVERAGE(R187:R190)","v":2221.5249999999996},1398.35,{"$f":"AVERAGE(T187:T190)","v":1403.0650000000001},1244.53,{"$f":"AVERAGE(V187:V190)","v":1299.6199999999999},1396.66,{"$f":"AVERAGE(X187:X190)","v":1578.24}]
["2024-10-04",839.68,null,2519.13,null,1304.6300000000001,null,1345.52,null,525.48,null,999.71,null,2740.74,null,1550.34,null,2174.14,null,1398.35,null,1244.53,null,1396.66]
["2024-10-11",877.36,null,2155.56,null,1251.24,null,1232.97,null,511.88,null,948.83,null,2412.96,null,1437.53,null,2137.16,null,1260.68,null,1139.44,null,1077.49]
["2024-10-18",863.98,null,1992.69,null,1213.6400000000001,null,1184.1099999999999,null,500.03,null,925.99,null,2252.77,null,1427.09,null,2029.62,null,1202.3499999999999,null,1114.3399999999999,null,1043.1300000000001]
["2024-10-25",865.35,{"$f":"AVERAGE(B191:B194)","v":861.59249999999997},1864.77,{"$f":"AVERAGE(D191:D194)","v":2133.0375000000004},1228.0899999999999,{"$f":"AVERAGE(F191:F194)","v":1249.4000000000001},1177.3499999999999,{"$f":"AVERAGE(H191:H194)","v":1234.9874999999997},498.96,{"$f":"AVERAGE(J191:J194)","v":509.08750000000003},934.54,{"$f":"AVERAGE(L191:L194)","v":952.26749999999993},2098.67,{"$f":"AVERAGE(N191:N194)","v":2376.2849999999999},1431.08,{"$f":"AVERAGE(P191:P194)","v":1461.51},1976.15,{"$f":"AVERAGE(R191:R194)","v":2079.2674999999999},1167.42,{"$f":"AVERAGE(T191:T194)","v":1257.1999999999998},1104.55,{"$f":"AVERAGE(V191:V194)","v":1150.7150000000001},1035.3800000000001,{"$f":"AVERAGE(X191:X194)","v":1138.165}]
["2024-11-01",856.02,null,1846.24,null,1219.8,null,1184.8,null,502.35,null,938.92,null,2052.16,null,1446.99,null,1961,null,1167.1400000000001,null,1078.97,null,1178.31]
["2024-11-08",841.81,null,1847.16,null,1227.3599999999999,null,1225.0999999999999,null,483.42,null,1005.39,null,null,null,1462.4,null,2017.93,null,1167.7,null,1090.02,null,1292.01]
["2024-11-15",845.2,null,1954.75,null,1214.83,null,1184.3900000000001,null,499.28,null,1115.22,null,2242.09,null,1504.86,null,1936.26,null,1191.68,null,1145.3399999999999,null,1349.66]
["2024-11-22",848.79,null,2021.51,null,1152.0999999999999,null,1223.83,null,487.31,null,1193.54,null,2399.1999999999998,null,1523.25,null,1954.66,null,1104.25,null,1139.44,null,1451.03]
["2024-11-29",928.47,{"$f":"AVERAGE(B195:B199)","v":864.05799999999999},2031.02,{"$f":"AVERAGE(D195:D199)","v":1940.136},1083.23,{"$f":"AVERAGE(F195:F199)","v":1179.4639999999999},1247.45,{"$f":"AVERAGE(H195:H199)","v":1213.114},500.87,{"$f":"AVERAGE(J195:J199)","v":494.64600000000002},1258.76,{"$f":"AVERAGE(L195:L199)","v":1102.366},2466.7800000000002,{"$f":"AVERAGE(N195:N199)","v":2290.0574999999999},1524.64,{"$f":"AVERAGE(P195:P199)","v":1492.4280000000001},1890.14,{"$f":"AVERAGE(R195:R199)","v":1951.998},1073.31,{"$f":"AVERAGE(T195:T199)","v":1140.816},1164.52,{"$f":"AVERAGE(V195:V199)","v":1123.6580000000001},1439.58,{"$f":"AVERAGE(X195:X199)","v":1342.1179999999999}]
["2024-12-06",961.13,null,2070.81,null,1023.64,null,1224.28,null,520.08000000000004,null,1279.83,null,2487.6,null,1452.55,null,1794,null,1017.32,null,1119.3399999999999,null,1423.07]
["2024-12-13",936.15,null,2173.64,null,980.24,null,1252.3599999999999,null,486.95,null,1313.83,null,2604.69,null,1354.31,null,1773.62,null,1035.94,null,1101.94,null,1416.64]
[{"$f":"A201+7","v":"2024-12-20"},953.57,null,2208.23,null,972.04,null,1208.78,null,508.2,null,1299.79,null,2675.3,null,1303.21,null,1734.28,null,1040.1199999999999,null,1071.45,null,1419.79]
["2024-12-27",954.83,{"$f":"AVERAGE(B200:B203)","v":951.42},2273.19,{"$f":"AVERAGE(D200:D203)","v":2181.4675000000002},996.53,{"$f":"AVERAGE(F200:F203)","v":993.11249999999995},1221.23,{"$f":"AVERAGE(H200:H203)","v":1226.6624999999999},504.79,{"$f":"AVERAGE(J200:J203)","v":505.005},1300.1500000000001,{"$f":"AVERAGE(L200:L203)","v":1298.4000000000001},2736.09,{"$f":"AVERAGE(N200:N203)","v":2625.92},1326.23,{"$f":"AVERAGE(P200:P203)","v":1359.0749999999998},1662.82,{"$f":"AVERAGE(R200:R203)","v":1741.1799999999998},1010.33,{"$f":"AVERAGE(T200:T203)","v":1025.9275},1097.28,{"$f":"AVERAGE(V200:V203)","v":1097.5024999999998},1442.24,{"$f":"AVERAGE(X200:X203)","v":1425.4349999999999}]
["2025-01-03",964.6,null,2280.1999999999998,null,1092.55,null,1237.49,null,537.33000000000004,null,1293.45,null,2828.74,null,1365.02,null,1641.24,null,1016.71,null,1093.78,null,1440.5]
["2025-01-10",952.25,null,2291.67,null,1158.51,null,1330.41,null,509.64,null,1238.1300000000001,null,2762.2,null,1398.32,null,1615.07,null,1012.77,null,1039.3599999999999,null,1491.56]
["2025-01-17",985.1,null,2252.56,null,1198.07,null,1334.74,null,490.5,null,1226.2,null,2807.4,null,1387.96,null,1548.56,null,980.6,null,1044.75,null,1423.54]
["2025-01-24",984.92,null,2122.19,null,1217.46,null,1293.6500000000001,null,508.4,null,1170.81,null,2682.41,null,1260.01,null,1493.71,null,909.18,null,1093.9100000000001,null,1369.25]
["2025-01-31",984.92,{"$f":"AVERAGE(B204:B208)","v":974.35799999999995},2122.19,{"$f":"AVERAGE(D204:D208)","v":2213.7620000000002},1217.46,{"$f":"AVERAGE(F204:F208)","v":1176.81},1293.6500000000001,{"$f":"AVERAGE(H204:H208)","v":1297.9880000000001},508.4,{"$f":"AVERAGE(J204:J208)","v":510.85399999999998},1170.81,{"$f":"AVERAGE(L204:L208)","v":1219.8799999999999},2682.41,{"$f":"AVERAGE(N204:N208)","v":2752.6320000000001},1260.01,{"$f":"AVERAGE(P204:P208)","v":1334.2640000000001},1493.71,{"$f":"AVERAGE(R204:R208)","v":1558.4580000000001},909.18,{"$f":"AVERAGE(T204:T208)","v":965.68799999999987},1093.9100000000001,{"$f":"AVERAGE(V204:V208)","v":1073.1420000000001},1369.25,{"$f":"AVERAGE(X204:X208)","v":1418.8200000000002}]
["2025-02-07",1005.9,null,1934.1,null,1175.18,null,1291.75,null,493.05,null,1092.0899999999999,null,2487.84,null,1102.81,null,1403.98,null,856.26,null,970.65,null,1269.97]
["2025-02-14",981.01,null,1914.87,null,1110.5,null,1286.24,null,526.9,null,1056.27,null,2482.3000000000002,null,1024.78,null,1421.93,null,812.14,null,964.9,null,1264.8699999999999]
["2025-02-21",979.39,null,1791.13,null,1069.99,null,1207.68,null,502.44,null,1003.93,null,2352.75,null,1007.15,null,1396.96,null,821.44,null,921.31,null,1146.52]
["2025-02-28",990.23,{"$f":"AVERAGE(B209:B212)","v":989.13249999999994},1688.04,{"$f":"AVERAGE(D209:D212)","v":1832.0350000000001},997.46,{"$f":"AVERAGE(F209:F212)","v":1088.2825},1107.72,{"$f":"AVERAGE(H209:H212)","v":1223.3475000000001},500.48,{"$f":"AVERAGE(J209:J212)","v":505.71750000000003},972.9,{"$f":"AVERAGE(L209:L212)","v":1031.2974999999999},2144.64,{"$f":"AVERAGE(N209:N212)","v":2366.8825000000002},942.38,{"$f":"AVERAGE(P209:P212)","v":1019.2800000000001},1254.06,{"$f":"AVERAGE(R209:R212)","v":1369.2325000000001},817.58,{"$f":"AVERAGE(T209:T212)","v":826.85500000000002},836.54,{"$f":"AVERAGE(V209:V212)","v":923.34999999999991},1205.79,{"$f":"AVERAGE(X209:X212)","v":1221.7874999999999}]
["2025-03-07",979.45,null,1596.56,null,962.59,null,1060.7,null,506.25,null,952.89,null,2111.81,null,900.1,null,1211.1500000000001,null,796.21,null,880.87,null,1183.25]
["2025-03-14",970.45,null,1622.61,null,923.48,null,1040.0899999999999,null,480.83,null,961.96,null,2075.75,null,841.79,null,1123.6199999999999,null,742.44,null,845.93,null,1138.3]
["2025-03-21",970.34,null,1586.66,null,859.97,null,1001.42,null,466.34,null,946.81,null,2028.37,null,809.08,null,1027.44,null,684.58,null,833.55,null,1046.1300000000001]
["2025-03-28",967.28,{"$f":"AVERAGE(B213:B216)","v":971.88000000000011},1526.99,{"$f":"AVERAGE(D213:D216)","v":1583.2049999999999},806.01,{"$f":"AVERAGE(F213:F216)","v":888.01250000000005},963.1,{"$f":"AVERAGE(H213:H216)","v":1016.3275},501.91,{"$f":"AVERAGE(J213:J216)","v":488.83249999999998},965.88,{"$f":"AVERAGE(L213:L216)","v":956.88499999999999},1928.74,{"$f":"AVERAGE(N213:N216)","v":2036.1674999999998},841.16,{"$f":"AVERAGE(P213:P216)","v":848.03249999999991},983.31,{"$f":"AVERAGE(R213:R216)","v":1086.3800000000001},661.42,{"$f":"AVERAGE(T213:T216)","v":721.16250000000002},804.39,{"$f":"AVERAGE(V213:V216)","v":841.18499999999995},1022.68,{"$f":"AVERAGE(X213:X216)","v":1097.5900000000001}]
[{"$f":"A216+6","v":"2025-04-03"},975.84,null,1507.27,null,776.61,null,916.83,null,499.07,null,955.66,null,1952.91,null,836.28,null,937.45,null,639.4,null,796.29,null,1109.22]
[{"$f":"A217+8","v":"2025-04-11"},981.15,null,1495.45,null,796.27,null,939.1,null,498.46,null,990.12,null,1857.58,null,867.55,null,960.64,null,613.84,null,817.36,null,1158.73]
["2025-04-18",1001.35,null,1486.14,null,811.65,null,929.63,null,508.84,null,990.62,null,1812.36,null,921.07,null,956.97,null,619.92999999999995,null,812.21,null,1201.01]
[{"$f":"A219+5","v":"2025-04-23"},977.21,{"$f":"AVERAGE(B217:B220)","v":983.88750000000005},1499.5,{"$f":"AVERAGE(D217:D220)","v":1497.0900000000001},823.14,{"$f":"AVERAGE(F217:F220)","v":801.91750000000002},930.47,{"$f":"AVERAGE(H217:H220)","v":929.00749999999994},499.76,{"$f":"AVERAGE(J217:J220)","v":501.53249999999997},1000.51,{"$f":"AVERAGE(L217:L220)","v":984.22749999999996},1850.56,{"$f":"AVERAGE(N217:N220)","v":1868.3525},943.73,{"$f":"AVERAGE(P217:P220)","v":892.15750000000003},968.21,{"$f":"AVERAGE(R217:R220)","v":955.81750000000011},597.61,{"$f":"AVERAGE(T217:T220)","v":617.69500000000005},857.41,{"$f":"AVERAGE(V217:V220)","v":820.8175},1248.99,{"$f":"AVERAGE(X217:X220)","v":1179.4875}]
[{"$f":"A220+7","v":"2025-04-30"},968.68,null,1497.15,null,837.43,null,931.83,null,507,null,1002.78,null,1841.45,null,943.67,null,958.61,null,602.21,null,824.38,null,1220.3499999999999]
[{"$f":"A221+9","v":"2025-05-09"},973.76,null,1445.24,null,857.65,null,915.67,null,518.79999999999995,null,979.99,null,1863.48,null,953.45,null,942.91,null,608.42999999999995,null,848.24,null,1112.97]
["2025-05-16",974.72,null,1430.35,null,876.92,null,964.6,null,475.83,null,964.6,null,1839.33,null,920.6,null,943.52,null,582.4,null,855.07,null,1118.25]
["2025-05-23",1015,null,1392.61,null,908.14,null,992.52,null,507.58,null,930.21,null,1804.82,null,896.21,null,932.23,null,572.54999999999995,null,850.06,null,1175.8499999999999]
["2025-05-30",944.06,{"$f":"AVERAGE(B221:B225)","v":975.24399999999991},1375.62,{"$f":"AVERAGE(D221:D225)","v":1428.194},944.06,{"$f":"AVERAGE(F221:F225)","v":884.83999999999992},1085.18,{"$f":"AVERAGE(H221:H225)","v":977.96},534.11,{"$f":"AVERAGE(J221:J225)","v":508.66399999999993},961.73,{"$f":"AVERAGE(L221:L225)","v":967.86199999999985},1798.19,{"$f":"AVERAGE(N221:N225)","v":1829.4540000000002},888.85,{"$f":"AVERAGE(P221:P225)","v":920.55599999999993},930.3,{"$f":"AVERAGE(R221:R225)","v":941.5139999999999},616.71,{"$f":"AVERAGE(T221:T225)","v":596.46},866.07,{"$f":"AVERAGE(V221:V225)","v":848.7639999999999},1147.1400000000001,{"$f":"AVERAGE(X221:X225)","v":1154.912}]
["2025-06-06",961.51,null,1397.02,null,1034.94,null,1129.98,null,504.53,null,930.16,null,1861,null,873.82,null,934.91,null,680.43,null,875.85,null,1204.78]
["2025-06-13",952.84,null,1488.87,null,1094.58,null,1250.26,null,517.79,null,941.71,null,2111.0100000000002,null,883.15,null,1019.04,null,862.18,null,954.15,null,1351.1]
["2025-06-20",967.31,null,1578.6,null,1256.9100000000001,null,1492.92,null,505.25,null,937.79,null,2246.4899999999998,null,860.88,null,1051.3,null,981.75,null,1015.25,null,1430.93]
["2025-06-27",957.14,{"$f":"AVERAGE(B226:B229)","v":959.69999999999993},1640.72,{"$f":"AVERAGE(D226:D229)","v":1526.3025},1212.0899999999999,{"$f":"AVERAGE(F226:F229)","v":1149.6300000000001},1509.76,{"$f":"AVERAGE(H226:H229)","v":1345.73},490.84,{"$f":"AVERAGE(J226:J229)","v":504.60249999999996},937.62,{"$f":"AVERAGE(L226:L229)","v":936.81999999999994},2304.71,{"$f":"AVERAGE(N226:N229)","v":2130.8024999999998},881.05,{"$f":"AVERAGE(P226:P229)","v":874.72499999999991},1176.9000000000001,{"$f":"AVERAGE(R226:R229)","v":1045.5374999999999},1034.82,{"$f":"AVERAGE(T226:T229)","v":889.79499999999985},1094.42,{"$f":"AVERAGE(V226:V229)","v":984.91750000000002},1570,1389.2025000000001]
["2025-07-04",958.26,null,1694.3,null,1084.28,null,1376.51,null,500.01,null,941.27,null,2283.86,null,913.27,null,1187.6600000000001,null,1003.56,null,1102.1199999999999,null,1610.01]
["2025-07-11",936.66,null,1726.41,null,1027.49,null,1279.31,null,474.5,null,905.69,null,2171.71,null,920.14,null,1276.0899999999999,null,976.76,null,1155.19,null,1586.89]
["2025-07-18",947.69,null,1803.42,null,941.65,null,1216.23,null,471.05,null,914.29,null,2151.5500000000002,null,947.2,null,1354.31,null,1011.78,null,1149.22,null,1501.01]
["2025-07-25",954.91,{"$f":"AVERAGE(B230:B233)","v":949.38},1787.24,{"$f":"AVERAGE(D230:D233)","v":1752.8425},880.99,{"$f":"AVERAGE(F230:F233)","v":983.60249999999996},1117.1400000000001,{"$f":"AVERAGE(H230:H233)","v":1247.2974999999999},473.18,{"$f":"AVERAGE(J230:J233)","v":479.685},902.05,{"$f":"AVERAGE(L230:L233)","v":915.82500000000005},2081.12,{"$f":"AVERAGE(N230:N233)","v":2172.06},989.9,{"$f":"AVERAGE(P230:P233)","v":942.62749999999994},1380.24,{"$f":"AVERAGE(R230:R233)","v":1299.575},969.98,{"$f":"AVERAGE(T230:T233)","v":990.52},1170.05,{"$f":"AVERAGE(V230:V233)","v":1144.145},1353.38,1512.8225]
["2025-08-01",933.84,null,1789.5,null,876.57,null,1081.17,null,469.33,null,867.22,null,1985.15,null,1020.09,null,1398.69,null,925.92,null,1120.92,null,1228.05]
["2025-08-08",940.56,null,1799.05,null,827.84,null,1025.5899999999999,null,446.57,null,832.1,null,1943.55,null,1007.8,null,1427.7,null,863.33,null,1094.3800000000001,null,1130.69]
["2025-08-15",927,null,1790,null,823,null,982,null,467,null,840,null,1975,null,1042,null,1446,null,886,null,1085,null,1048]
["2025-08-22",950.21,null,1757.74,null,799.19,null,951.9,null,483.87,null,804.66,null,1900.85,null,1090.4000000000001,null,1453.39,null,884.77,null,1041.27,null,1088.8599999999999]
["2025-08-29",957.13,{"$f":"AVERAGE(B234:B238)","v":941.74799999999993},1685.8,{"$f":"AVERAGE(D234:D238)","v":1764.4180000000001},774.39,{"$f":"AVERAGE(F234:F238)","v":820.19799999999998},936.26,{"$f":"AVERAGE(H234:H238)","v":995.38400000000001},480.78,{"$f":"AVERAGE(J234:J238)","v":469.51000000000005},823.99,{"$f":"AVERAGE(L234:L238)","v":833.59400000000005},1880.81,{"$f":"AVERAGE(N234:N238)","v":1937.0719999999997},1105.6400000000001,{"$f":"AVERAGE(P234:P238)","v":1053.1860000000001},1452.95,{"$f":"AVERAGE(R234:R238)","v":1435.7460000000001},858.12,{"$f":"AVERAGE(T234:T238)","v":883.62800000000004},1004.82,{"$f":"AVERAGE(V234:V238)","v":1069.2779999999998},1134.98,{"$f":"AVERAGE(X234:X238)","v":1126.116}]
["2025-09-05",963.07,null,1638.77,null,774.4,null,915.5,null,497.37,null,803.02,null,1852.58,null,1097.46,null,1445.99,null,859.72,null,992.49,null,1245.01]
["2025-09-12",964," ",1537," ",757," ",918," ",492," ",814," ",1779," ",1121," ",1456," ",830," ",979," ",1324]
["2025-09-19",959.29,null,1470.97,null,805.69,null,956.27,null,506.33,null,811.55,null,1747.66,null,1124.4100000000001,null,1481.28,null,807.35,null,975.22,null,1294.47]
["2025-09-26",967.16,{"$f":"AVERAGE(B239:B242)","v":963.38},1401.91,{"$f":"AVERAGE(D239:D242)","v":1512.1624999999999},824.92,{"$f":"AVERAGE(F239:F242)","v":790.50250000000005},960.91,{"$f":"AVERAGE(H239:H242)","v":937.67},487.91,{"$f":"AVERAGE(J239:J242)","v":495.90250000000003},801.93,{"$f":"AVERAGE(L239:L242)","v":807.62499999999989},1649.34,{"$f":"AVERAGE(N239:N242)","v":1757.145},1120.51,{"$f":"AVERAGE(P239:P242)","v":1115.845},1408.09,{"$f":"AVERAGE(R239:R242)","v":1447.84},765.88,{"$f":"AVERAGE(T239:T242)","v":815.73750000000007},956.32,{"$f":"AVERAGE(V239:V242)","v":975.75750000000005},1166.06,{"$f":"AVERAGE(X239:X242)","v":1257.3850000000002}]
["2025-10-03",967.16,null,1401.91,null,824.92,null,960.91,null,487.91,null,801.93,null,1649.34,null,1120.51,null,1408.09,null,765.88,null,956.32,null,1166.06]
["2025-10-10",1001.97,null,1287.1500000000001,null,777.77,null,893.04,null,486.49,null,784.28,null,1510.61,null,1082.8499999999999,null,1384.69,null,662.32,null,907.24,null,964.26]
["2025-10-17"]
["2025-10-24"]
["2025-10-31",null,{"$f":"AVERAGE(B243:B247)","v":984.56500000000005},null,{"$f":"AVERAGE(D243:D247)","v":1344.5300000000002},null,{"$f":"AVERAGE(F243:F247)","v":801.34500000000003},null,{"$f":"AVERAGE(H243:H247)","v":926.97499999999991},null,{"$f":"AVERAGE(J243:J247)","v":487.20000000000005},null,{"$f":"AVERAGE(L243:L247)","v":793.10500000000002},null,{"$f":"AVERAGE(N243:N247)","v":1579.9749999999999},null,{"$f":"AVERAGE(P243:P247)","v":1101.6799999999998},null,{"$f":"AVERAGE(R243:R247)","v":1396.3899999999999},null,{"$f":"AVERAGE(T243:T247)","v":714.1},null,{"$f":"AVERAGE(V243:V247)","v":931.78},null,{"$f":"AVERAGE(X243:X247)","v":1065.1599999999999}]
["2025-11-07"]
["2025-11-14"]
["2025-11-21"]
["2025-11-28",null,{"$f":"AVERAGE(B248:B251)","v":{"$error":"#DIV/0!"}},null,{"$f":"AVERAGE(D248:D251)","v":{"$error":"#DIV/0!"}},null,{"$f":"AVERAGE(F248:F251)","v":{"$error":"#DIV/0!"}},null,{"$f":"AVERAGE(H248:H251)","v":{"$error":"#DIV/0!"}},null,{"$f":"AVERAGE(J248:J251)","v":{"$error":"#DIV/0!"}},null,{"$f":"AVERAGE(L248:L251)","v":{"$error":"#DIV/0!"}},null,{"$f":"AVERAGE(N248:N251)","v":{"$error":"#DIV/0!"}},null,{"$f":"AVERAGE(P248:P251)","v":{"$error":"#DIV/0!"}},null,{"$f":"AVERAGE(R248:R251)","v":{"$error":"#DIV/0!"}},null,{"$f":"AVERAGE(T248:T251)","v":{"$error":"#DIV/0!"}},null,{"$f":"AVERAGE(V248:V251)","v":{"$error":"#DIV/0!"}},null,{"$f":"AVERAGE(X248:X251)","v":{"$error":"#DIV/0!"}}]
["2025-12-05"]
["2025-12-12"]
["2025-12-19"]
["2025-12-26",null,{"$f":"AVERAGE(B252:B255)","v":{"$error":"#DIV/0!"}},null,{"$f":"AVERAGE(D252:D255)","v":{"$error":"#DIV/0!"}},null,{"$f":"AVERAGE(F252:F255)","v":{"$error":"#DIV/0!"}},null,{"$f":"AVERAGE(H252:H255)","v":{"$error":"#DIV/0!"}},null,{"$f":"AVERAGE(J252:J255)","v":{"$error":"#DIV/0!"}},null,{"$f":"AVERAGE(L252:L255)","v":{"$error":"#DIV/0!"}},null,{"$f":"AVERAGE(N252:N255)","v":{"$error":"#DIV/0!"}},null,{"$f":"AVERAGE(P252:P255)","v":{"$error":"#DIV/0!"}},null,{"$f":"AVERAGE(R252:R255)","v":{"$error":"#DIV/0!"}},null,{"$f":"AVERAGE(T252:T255)","v":{"$error":"#DIV/0!"}},null,{"$f":"AVERAGE(V252:V255)","v":{"$error":"#DIV/0!"}},null,{"$f":"AVERAGE(X252:X255)","v":{"$error":"#DIV/0!"}}]
["2026-01-02"]
["2026-01-09"]
["2026-01-16"]
["2026-01-23"]
["2026-01-30",null,{"$f":"AVERAGE(B256:B260)","v":{"$error":"#DIV/0!"}},null,{"$f":"AVERAGE(D256:D260)","v":{"$error":"#DIV/0!"}},null,{"$f":"AVERAGE(F256:F260)","v":{"$error":"#DIV/0!"}},null,{"$f":"AVERAGE(H256:H260)","v":{"$error":"#DIV/0!"}},null,{"$f":"AVERAGE(J256:J260)","v":{"$error":"#DIV/0!"}},null,{"$f":"AVERAGE(L256:L260)","v":{"$error":"#DIV/0!"}},null,{"$f":"AVERAGE(N256:N260)","v":{"$error":"#DIV/0!"}},null,{"$f":"AVERAGE(P256:P260)","v":{"$error":"#DIV/0!"}},null,{"$f":"AVERAGE(R256:R260)","v":{"$error":"#DIV/0!"}},null,{"$f":"AVERAGE(T256:T260)","v":{"$error":"#DIV/0!"}},null,{"$f":"AVERAGE(V256:V260)","v":{"$error":"#DIV/0!"}},null,{"$f":"AVERAGE(X256:X260)","v":{"$error":"#DIV/0!"}}]
["2026-02-06"]
["2026-02-13"]
["2026-02-20"]
["2026-02-27",null,{"$f":"AVERAGE(B261:B264)","v":{"$error":"#DIV/0!"}},null,{"$f":"AVERAGE(D261:D264)","v":{"$error":"#DIV/0!"}},null,{"$f":"AVERAGE(F261:F264)","v":{"$error":"#DIV/0!"}},null,{"$f":"AVERAGE(H261:H264)","v":{"$error":"#DIV/0!"}},null,{"$f":"AVERAGE(J261:J264)","v":{"$error":"#DIV/0!"}},null,{"$f":"AVERAGE(L261:L264)","v":{"$error":"#DIV/0!"}},null,{"$f":"AVERAGE(N261:N264)","v":{"$error":"#DIV/0!"}},null,{"$f":"AVERAGE(P261:P264)","v":{"$error":"#DIV/0!"}},null,{"$f":"AVERAGE(R261:R264)","v":{"$error":"#DIV/0!"}},null,{"$f":"AVERAGE(T261:T264)","v":{"$error":"#DIV/0!"}},null,{"$f":"AVERAGE(V261:V264)","v":{"$error":"#DIV/0!"}},null,{"$f":"AVERAGE(X261:X264)","v":{"$error":"#DIV/0!"}}]
["2026-03-06"]
[{"$f":"A265+7","v":"2026-03-13"}]
["2026-03-20"]
["2026-03-27",null,{"$f":"AVERAGE(B265:B268)","v":{"$error":"#DIV/0!"}},null,{"$f":"AVERAGE(D265:D268)","v":{"$error":"#DIV/0!"}},null,{"$f":"AVERAGE(F265:F268)","v":{"$error":"#DIV/0!"}},null,{"$f":"AVERAGE(H265:H268)","v":{"$error":"#DIV/0!"}},null,{"$f":"AVERAGE(J265:J268)","v":{"$error":"#DIV/0!"}},null,{"$f":"AVERAGE(L265:L268)","v":{"$error":"#DIV/0!"}},null,{"$f":"AVERAGE(N265:N268)","v":{"$error":"#DIV/0!"}},null,{"$f":"AVERAGE(P265:P268)","v":{"$error":"#DIV/0!"}},null,{"$f":"AVERAGE(R265:R268)","v":{"$error":"#DIV/0!"}},null,{"$f":"AVERAGE(T265:T268)","v":{"$error":"#DIV/0!"}},null,{"$f":"AVERAGE(V265:V268)","v":{"$error":"#DIV/0!"}},null,{"$f":"AVERAGE(X265:X268)","v":{"$error":"#DIV/0!"}}]
["2026-04-03"]
["2026-04-10"]
["2026-04-17"]
["2026-04-24",null,{"$error":"#DIV/0!"},null,{"$error":"#DIV/0!"},null,{"$error":"#DIV/0!"},null,{"$error":"#DIV/0!"},null,{"$error":"#DIV/0!"},null,{"$error":"#DIV/0!"},null,{"$error":"#DIV/0!"},null,{"$error":"#DIV/0!"},null,{"$error":"#DIV/0!"},null,{"$error":"#DIV/0!"},null,{"$error":"#DIV/0!"},null,{"$error":"#DIV/0!"}]

{"sheet":"2025_CCFI","index":19,"n_rows":54,"n_cols":13,"rows_kept":54,"cut":false,"hidden":false,"merged":[]}
["CHINA CONTAINERIZED FREIGHT INDEX"]
["DATE","JAPAN","EUROPE","W/C AMERICA","E/C AMERICA","KOREA","SOUTHEAST","MEDITERRANEAN","AUSTRALIA/NEW ZEALAND","SOUTH AFRICA","SOUTH AMERICA","WEST EAST AFRICA","PERSIAN GULF/RED SEA"]
["2025-01-03",965,2280,1093,1237,537,1293,2829,1365,1641,1017,1094,1441]
["2025-01-10",952,2292,1159,1330,510,1238,2762,1398,1615,1013,1039,1492]
["2025-01-17",985,2253,1198,1335,491,1226,2807,1388,1549,981,1045,1424]
["2025-01-24",985,2122,1217,1294,508,1171,2682,1260,1494,909,1094,1369]
["2025-01-31",985,2122,1217,1294,508,1171,2682,1260,1494,909,1094,1369]
["2025-02-07",1006,1934,1175,1292,493,1092,2488,1103,1404,856,971,1270]
["2025-02-14",981,1915,1111,1286,527,1056,2482,1025,1422,812,965,1265]
["2025-02-21",979,1791,1070,1208,502,1004,2353,1007,1397,821,921,1147]
["2025-02-28",990,1688,997,1108,500,973,2145,942,1254,818,837,1206]
["2025-03-07",979,1597,963,1061,506,953,2112,900,1211,796,881,1183]
["2025-03-14",970,1623,923,1040,481,962,2076,842,1124,742,846,1138]
["2025-03-21",970,1587,860,1001,466,947,2028,809,1027,685,834,1046]
["2025-03-28",967,1527,806,963,502,966,1929,841,983,661,804,1023]
["2025-04-04",976,1507,777,917,499,956,1953,836,937,639,796,1109]
["2025-04-11",981,1495,796,939,498,990,1858,868,961,614,817,1159]
["2025-04-18",1001,1486,812,930,509,991,1812,921,957,620,812,1201]
["2025-04-25",977,1500,823,930,500,1001,1851,944,968,598,857,1249]
["2025-05-02",969,1497,837,932,507,1003,1841,944,959,602,824,1220]
["2025-05-09",974,1445,858,916,519,980,1863,953,943,608,848,1113]
["2025-05-16",975,1430,877,965,476,965,1839,921,944,582,855,1118]
["2025-05-23",1015,1392.61,908.14,992.52,507.58,930.21,1804.82,896.21,932.23,572.54999999999995,850.06,1175.8499999999999]
["2025-05-30",944.06,1375.62,944.06,1085.18,534.11,961.73,1798.19,888.85,930.3,616.71,866.07,1147.1400000000001]
["2025-06-06",961.51,1397.02,1034.94,1129.98,504.53,930.16,1861,873.82,934.91,680.43,875.85,1204.78]
["2025-06-13",952.84,1488.87,1094.58,1250.26,517.79,941.71,2111.0100000000002,883.15,1019.04,862.18,954.15,1351.1]
["2025-06-20",967.31,1578.6,1256.9100000000001,1492.92,505.25,937.79,2246.4899999999998,860.88,1051.3,981.75,1015.25,1430.93]
["2025-06-27",957.14,1640.72,1212.0899999999999,1509.76,490.84,937.62,2304.71,881.05,1176.9000000000001,1034.82,1094.42,1570]
["2025-07-04",958.26,1694.3,1084.28,1376.51,500.01,941.27,2283.86,913.27,1187.6600000000001,1003.56,1102.1199999999999,1610.01]
["2025-07-11",936.66,1726.41,1027.49,1279.31,474.5,905.69,2171.71,920.14,1276.0899999999999,976.76,1155.19,1586.89]
["2025-07-18",947.69,1803.42,941.65,1216.23,471.05,914.29,2151.5500000000002,947.2,1354.31,1011.78,1149.22,1501.01]
["2025-07-25",954.91,1787.24,880.99,1117.1400000000001,473.18,902.05,2081.12,989.9,1380.24,969.98,1170.05,1353.38]
["2025-08-01",933.84,1789.5,876.57,1081.17,469.33,867.22,1985.15,1020.09,1398.69,925.92,1120.92,1228.05]
["2025-08-08",940.56,1799.05,827.84,1025.5899999999999,446.57,832.1,1943.55,1007.8,1427.7,863.33,1094.3800000000001,1130.69]
["2025-08-15",927.83,1790.47,823.32,982.06,466.98,839.79,1974.51,1042.4100000000001,1446.33,885.91,1085.02,1048.1600000000001]
["2025-08-22",950.21,1757.74,799.19,951.9,483.87,804.66,1900.85,1090.4000000000001,1453.39,884.77,1041.27,1088.8599999999999]
["2025-08-29",957.13,1685.8,774.39,936.26,480.78,823.99,1880.81,1105.6400000000001,1452.95,858.12,1004.82,1134.98]
["2025-09-05",963.07,1638.77,774.4,915.5,497.37,80302,1852.58,1097.46,1445.99,859.72,992.49,1245.01]
["2025-09-12","USD 964.10","USD 1,537.28","USD 757.45","USD 918.22","USD 492.32","USD 813.94","USD 1,778.50","USD 1,120.52","USD 1,456.25","USD 829.74","USD 978.96","USD 1,323.55"]
["2025-09-19",959.29,1470.97,805.69,956.27,506.33,811.55,1747.66,1124.4100000000001,1481.28,807.35,975.22,1294.47]
["2025-09-26",967.16,1401.91,824.92,960.91,487.91,801.93,1649.34,1120.51,1408.09,765.88,956.32,1166.06]
["2025-10-03",967.16,1401.91,824.92,960.91,487.91,801.93,1649.34,1120.51,1408.09,765.88,956.32,1166.06]
["2025-10-10",1001.97,1287.1500000000001,777.77,893.04,486.49,784.28,1510.61,1082.8499999999999,1384.69,662.32,907.24,964.26]
["2025-10-17"]
["2025-10-24"]
["2025-10-31"]
["2025-11-07"]
["2025-11-14"]
["2025-11-21"]
["2025-11-28"]
["2025-12-05"]
["2025-12-12"]
["2025-12-19"]
["2025-12-26"]

{"sheet":"CCFI Graph - Flexi","index":20,"n_rows":123,"n_cols":4,"rows_kept":123,"cut":false,"hidden":false,"merged":[[97,0,97,13],[0,0,0,13],[32,0,32,13],[65,0,65,13]]}
["EUROPE"]
[]
[]
[]
[]
[]
[]
[]
[]
[]
[]
[]
[null,"Sum of Europe Average by Month","Years"]
[null,"Date","2024","2025"]
[null,"Jan",1791.3249999999998,2213.7620000000002]
[null,"Feb",2358.145,1832.0350000000001]
[null,"Mar",1938.0819999999999,1583.2049999999999]
[null,"Apr",1721.075,1497.0900000000001]
[null,"May",1932.59,1428.194]
[null,"Jun",2607.8775000000001,1526.3025]
[null,"Jul",3386.33,1752.8425]
[null,"Aug",3616.63,1764.4180000000001]
[null,"Sep",2903.3074999999999]
[null,"Oct",2133.0375000000004]
[null,"Nov",1940.136]
[null,"Dec",2181.4675000000002]
[]
[]
[]
[]
[]
[]
["OCEANIA"]
[]
[]
[]
[]
[]
[]
[]
[]
[]
[]
[]
[null,"Sum of Australia/New Zealand Average by Month","Years"]
[null,"Date","2024","2025"]
[null,"Jan",966.9224999999999,1334.2640000000001]
[null,"Feb",1052.645,1019.2800000000001]
[null,"Mar",925.07600000000002,848.03249999999991]
[null,"Apr",793.86500000000001,892.15750000000003]
[null,"May",892.3125,920.55599999999993]
[null,"Jun",986.13499999999999,874.72499999999991]
[null,"Jul",1053.1424999999999,942.62749999999994]
[null,"Aug",1166.0619999999999,1053.1860000000001]
[null,"Sep",1478.9925000000001]
[null,"Oct",1461.51]
[null,"Nov",1492.4280000000001]
[null,"Dec",1359.0749999999998]
[]
[]
[]
[]
[]
[]
[]
["USWC"]
[]
[]
[]
[]
[]
[]
[]
[]
[]
[]
[]
[null,"Sum of West Coast America Average by Month","Years"]
[null,"Date","2024","2025"]
[null,"Jan",821.99750000000006,1176.81]
[null,"Feb",1083,1088.2825]
[null,"Mar",1029.5840000000001,888.01250000000005]
[null,"Apr",927.46500000000003,801.91750000000002]
[null,"May",1048.5,884.83999999999992]
[null,"Jun",1391.08,1149.6300000000001]
[null,"Jul",1658.2449999999999,983.60249999999996]
[null,"Aug",1480.03,820.19799999999998]
[null,"Sep",1337.1324999999999]
[null,"Oct",1249.4000000000001]
[null,"Nov",1179.4639999999999]
[null,"Dec",993.11249999999995]
[]
[]
[]
[]
[]
[]
["USEC"]
[]
[]
[]
[]
[]
[]
[]
[]
[]
[]
[]
[null,"Sum of East Coast America Average by Month","Years"]
[null,"Date","2024","2025"]
[null,"Jan",1024.9425000000001,1297.9880000000001]
[null,"Feb",1311.675,1223.3475000000001]
[null,"Mar",1179.7439999999999,1016.3275]
[null,"Apr",1051.325,929.00749999999994]
[null,"May",1143.6975,977.96]
[null,"Jun",1505.6200000000001,1345.73]
[null,"Jul",1792.82,1247.2974999999999]
[null,"Aug",1707.6959999999999,995.38400000000001]
[null,"Sep",1467.7575000000002]
[null,"Oct",1234.9874999999997]
[null,"Nov",1213.114]
[null,"Dec",1226.6624999999999]

{"sheet":"CCFI All Trades Data for Trend","index":21,"n_rows":242,"n_cols":13,"rows_kept":242,"cut":false,"hidden":true,"merged":[[166,0,166,2],[2,0,2,2],[16,0,16,2],[31,0,31,2],[46,0,46,2],[61,0,61,2],[76,0,76,2],[91,0,91,2],[106,0,106,2],[121,0,121,2],[136,0,136,2],[151,0,151,2]]}
[]
[]
["JAPAN"]
[null,"Japan Average by Month in 2021",null,"Japan Average by Month in 2022",null,"Japan Average by Month in 2023",null,"Japan Average by Month in 2024",null,"Japan Average by Month in 2025"]
["JANUARY",null,"JANUARY",1215.6399999999999,"JANUARY",1049.0766666666666,"JANUARY",784.55250000000001,"JANUARY",974.35799999999995]
["FEBRUARY",null,"FEBRUARY",1168.2466666666667,"FEBRUARY",1028.8225,"FEBRUARY",800.05500000000006,"FEBRUARY",989.13249999999994]
["MARCH",null,"MARCH",1123.7775000000001,"MARCH",930.75,"MARCH",753.62400000000002,"MARCH",971.88000000000011]
["APRIL",928,"APRIL",1194.242,"APRIL",889.30750000000012,"APRIL",731.61249999999995,"APRIL",983.88750000000005]
["MAY",916,"MAY",1216.96,"MAY",872.70749999999998,"MAY",740.875,"MAY",975.24399999999991]
["JUNE",918,"JUNE",1217.2725,"JUNE",858.57600000000002,"JUNE",726.81499999999994,"JUNE",959.69999999999993]
["JULY",919,"JULY",1194.492,"JULY",813.16000000000008,"JULY",772.66499999999996,"JULY",949.38]
["AUGUST",923,"AUGUST",1182.0549999999998,"AUGUST",780.3,"AUGUST",780.77200000000016,"AUGUST",933.80000000000007]
["SEPTEMBER",967,"SEPTEMBER",1161.96,"SEPTEMBER",787.30600000000004,"SEPTEMBER",815.50999999999988,"SEPTEMBER",{"$error":"#DIV/0!"}]
["OCTOBER",1034,"OCTOBER",1155.7,"OCTOBER",804.76666666666677,"OCTOBER",861.59249999999997,"OCTOBER",{"$error":"#DIV/0!"}]
["NOVEMBER",1077,"NOVEMBER",1145.0149999999999,"NOVEMBER",780.625,"NOVEMBER",864.05799999999999,"NOVEMBER",{"$error":"#DIV/0!"}]
["DECEMBER",1093,"DECEMBER",1100.8120000000001,"DECEMBER",779.07199999999989,"DECEMBER",951.42,"DECEMBER",{"$error":"#DIV/0!"}]
["EUROPE"]
[null,"Europe Average by Month in 2021",null,"Europe Average by Month in 2022",null,"Europe Average by Month in 2023",null,"Europe Average by Month in 2024",null,"Europe Average by Month in 2025"]
["JANUARY",null,"JANUARY",5491.88,"JANUARY",1613.28,"JANUARY",1791.3249999999998,"JANUARY",2213.7620000000002]
["FEBRUARY",null,"FEBRUARY",5721.163333333333,"FEBRUARY",1430.32,"FEBRUARY",2358.145,"FEBRUARY",1832.0350000000001]
["MARCH",null,"MARCH",5414.915,"MARCH",1273.8240000000001,"MARCH",1938.0819999999999,"MARCH",1583.2049999999999]
["APRIL",3024,"APRIL",5096.0339999999997,"APRIL",1180.925,"APRIL",1721.075,"APRIL",1497.0900000000001]
["MAY",3529,"MAY",5029.7724999999991,"MAY",1163.4375,"MAY",1932.59,"MAY",1428.194]
["JUNE",4076,"JUNE",5046.5874999999996,"JUNE",1125.864,"JUNE",2607.8775000000001,"JUNE",1526.3025]
["JULY",4690,"JULY",5052.5399999999991,"JULY",1047.78,"JULY",3386.33,"JULY",1752.8425]
["AUGUST",5282,"AUGUST",4873.3600000000006,"AUGUST",1085.0875000000001,"AUGUST",3616.63,"AUGUST",1792.8500000000001]
["SEPTEMBER",5388,"SEPTEMBER",4316.2339999999995,"SEPTEMBER",1048.086,"SEPTEMBER",2903.3074999999999,"SEPTEMBER",{"$error":"#DIV/0!"}]
["OCTOBER",5457,"OCTOBER",3296.123333333333,"OCTOBER",942.37333333333333,"OCTOBER",2133.0375000000004,"OCTOBER",{"$error":"#DIV/0!"}]
["NOVEMBER",5281,"NOVEMBER",2598.8850000000002,"NOVEMBER",962.3,"NOVEMBER",1940.136,"NOVEMBER",{"$error":"#DIV/0!"}]
["DECEMBER",5113,"DECEMBER",1936.1420000000003,"DECEMBER",1027.7660000000001,"DECEMBER",2181.4675000000002,"DECEMBER",{"$error":"#DIV/0!"}]
[]
["USWC"]
[null,"America West Coast Average by Month in 2021",null,"America West Coast Average by Month in 2022",null,"America West Coast Average by Month in 2023",null,"America West Coast Average by Month in 2024",null,"America West Coast Average by Month in 2025"]
["JANUARY",null,"JANUARY",2614.3850000000002,"JANUARY",828.35333333333335,"JANUARY",821.99750000000006,"JANUARY",1176.81]
["FEBRUARY",null,"FEBRUARY",2654.4500000000003,"FEBRUARY",803.87750000000005,"FEBRUARY",1083,"FEBRUARY",1088.2825]
["MARCH",null,"MARCH",2534.7275,"MARCH",733.91399999999999,"MARCH",1029.5840000000001,"MARCH",888.01250000000005]
["APRIL",1312,"APRIL",2347.6999999999998,"APRIL",703.28250000000003,"APRIL",927.46500000000003,"APRIL",801.91750000000002]
["MAY",1492,"MAY",2516.3924999999999,"MAY",726.71500000000003,"MAY",1048.5,"MAY",884.83999999999992]
["JUNE",1691,"JUNE",2678.9325000000003,"JUNE",695.37599999999998,"JUNE",1391.08,"JUNE",1149.6300000000001]
["JULY",1903,"JULY",2585.826,"JULY",671.745,"JULY",1658.2449999999999,"JULY",983.60249999999996]
["AUGUST",2038,"AUGUST",2412.9625000000001,"AUGUST",750.25249999999994,"AUGUST",1480.03,"AUGUST",842.46999999999991]
["SEPTEMBER",2250,"SEPTEMBER",2010.2579999999998,"SEPTEMBER",767.5179999999998,"SEPTEMBER",1337.1324999999999,"SEPTEMBER",{"$error":"#DIV/0!"}]
["OCTOBER",2250,"OCTOBER",1372.5166666666664,"OCTOBER",716.05000000000007,"OCTOBER",1249.4000000000001,"OCTOBER",{"$error":"#DIV/0!"}]
["NOVEMBER",2264,"NOVEMBER",1083.915,"NOVEMBER",735.6825,"NOVEMBER",1179.4639999999999,"NOVEMBER",{"$error":"#DIV/0!"}]
["DECEMBER",2409,"DECEMBER",898.78800000000012,"DECEMBER",720.76800000000003,"DECEMBER",993.11249999999995,"DECEMBER",{"$error":"#DIV/0!"}]
[]
["USEC"]
[null,"America East Coast Average by Month in 2021",null,"America East Coast Average by Month in 2022",null,"America East Coast Average by Month in 2023",null,"America East Coast Average by Month in 2024",null,"America East Coast Average by Month in 2025"]
["January",null,"January",2699.335,"January",1312.3400000000001,"January",1024.9425000000001,"January",1297.9880000000001]
["February",null,"February",2717.7433333333333,"February",1169.9824999999998,"February",1311.675,"February",1223.3475000000001]
["March",null,"March",2637.125,"March",1062.1420000000001,"March",1179.7439999999999,"March",1016.3275]
["April",1495,"April",2634.828,"April",910.07249999999999,"April",1051.325,"April",929.00749999999994]
["May",1793,"May",2780.7125000000001,"May",906.56000000000006,"May",1143.6975,"May",977.96]
["June",2048,"June",3013.04,"June",849.63400000000001,"June",1505.6200000000001,"June",1345.73]
["July",2217,"July",2959.0299999999997,"July",818.03749999999991,"July",1792.82,"July",1247.2974999999999]
["August",2345,"August",2879.3924999999999,"August",891.19249999999988,"August",1707.6959999999999,"August",1029.5866666666668]
["September",2442,"September",2700.3119999999999,"September",894.11599999999999,"September",1467.7575000000002,"September",{"$error":"#DIV/0!"}]
["October",2546,"October",2124.6033333333335,"October",825.99333333333334,"October",1234.9874999999997,"October",{"$error":"#DIV/0!"}]
["November",2393,"November",1825.7,"November",833.4849999999999,"November",1213.114,"November",{"$error":"#DIV/0!"}]
["December",2573,"December",1455.2939999999999,"December",851.64399999999989,"December",1226.6624999999999,"December",{"$error":"#DIV/0!"}]
[]
["KOREA"]
[null,"Korea Average by Month in 2021",null,"Korea Average by Month in 2022",null,"Korea Average by Month in 2023",null,"Korea Average by Month in 2024",null,"Korea Average by Month in 2025"]
["January",null,"January",1300.1424999999999,"January",956.30666666666673,"January",497.07749999999999,"January",510.85399999999998]
["February",null,"February",1276.1566666666668,"February",862.44749999999999,"February",528.40499999999997,"February",505.71750000000003]
["March",null,"March",1241.0650000000001,"March",749.07799999999997,"March",460.23400000000004,"March",488.83249999999998]
["April",850,"April",1248.6659999999999,"April",632.15499999999997,"April",449.70250000000004,"April",501.53249999999997]
["May",850,"May",1220.1525000000001,"May",583.33000000000004,"May",472.005,"May",508.66399999999993]
["June",908,"June",1243.8074999999999,"June",518.70000000000005,"June",478.85750000000002,"June",504.60249999999996]
["July",879,"July",1278.2,"July",451.47,"July",515.3175,"July",479.685]
["August",993,"August",1281.4000000000001,"August",421.12,"August",534.3599999999999,"August",460.9666666666667]
["September",928,"September",1247.2379999999998,"September",431.77200000000005,"September",526.14,"September",{"$error":"#DIV/0!"}]
["October",1041,"October",1119.4066666666665,"October",436.34333333333331,"October",509.08750000000003,"October",{"$error":"#DIV/0!"}]
["November",1065,"November",1064.4225000000001,"November",447.36250000000001,"November",494.64600000000002,"November",{"$error":"#DIV/0!"}]
["December",1161,"December",1033.8600000000001,"December",441.96600000000001,"December",505.005,"December",{"$error":"#DIV/0!"}]
[]
["SOUTHEAST"]
[null,"Southeast Average by Month in 2021",null,"Southeast Average by Month in 2022",null,"Southeast Average by Month in 2023",null,"Southeast Average by Month in 2024",null,"Southeast Average by Month in 2025"]
["January",null,"January",2305.41,"January",683.00333333333344,"January",697.53750000000014,"January",1219.8799999999999]
["February",null,"February",2099.9900000000002,"February",652.17000000000007,"February",731.755,"February",1031.2974999999999]
["March",null,"March",1887.1200000000001,"March",630.43600000000004,"March",711.04200000000003,"March",956.88499999999999]
["April",1282,"April",1780.5699999999997,"April",661.4,"April",725.29,"April",984.22749999999996]
["May",1275,"May",1691.52,"May",634.81999999999994,"May",823.13749999999993,"May",967.86199999999985]
["June",1323,"June",1730.9375,"June",606.48200000000008,"June",1066.0999999999999,"June",936.81999999999994]
["July",1313,"July",1735.154,"July",576.86750000000006,"July",1326.6424999999999,"July",915.82500000000005]
["August",1358,"August",1466.75,"August",548.33249999999998,"August",1270.9879999999998,"August",846.44]
["September",1407,"September",1063.548,"September",560.17399999999998,"September",1070.97,"September",{"$error":"#DIV/0!"}]
["October",1550,"October",854.72333333333336,"October",597.37666666666655,"October",952.26749999999993,"October",{"$error":"#DIV/0!"}]
["November",1577,"November",859.91750000000002,"November",657.13750000000005,"November",1102.366,"November",{"$error":"#DIV/0!"}]
["December",1942,"December",754.24400000000003,"December",681.74800000000005,"December",1298.4000000000001,"December",{"$error":"#DIV/0!"}]
[]
["MEDITERRANEAN"]
[null,"Mediterranean Average by Month in 2021",null,"Mediterranean Average by Month in 2022",null,"Mediterranean Average by Month in 2023",null,"Mediterranean Average by Month in 2024",null,"Mediterranean Average by Month in 2025"]
["January",null,"January",6380.8700000000008,"January",2147.3233333333333,"January",2306.1875,"January",2752.6320000000001]
["February",null,"February",6407.47,"February",1942.6975,"February",2990.71,"February",2366.8825000000002]
["March",null,"March",6243.2774999999992,"March",1773.73,"March",2471.59,"March",2036.1674999999998]
["April",3429,"April",5996.652,"April",1681.9424999999999,"April",2272.3975,"April",1868.3525]
["May",4080,"May",6004.1399999999994,"May",1686.03,"May",2537.44,"May",1829.4540000000002]
["June",4811,"June",6070.6500000000005,"June",1654.5920000000001,"June",3123.8375000000001,"June",2130.8024999999998]
["July",5387,"July",5901.7099999999991,"July",1547.47,"July",3577.835,"July",2172.06]
["August",5739,"August",5398.9025000000001,"August",1529.9699999999998,"August",3553,"August",1967.8999999999999]
["September",5901,"September",4625.7899999999991,"September",1442.5060000000001,"September",3033.8274999999999,"September",{"$error":"#DIV/0!"}]
["October",6119,"October",3306.603333333333,"October",1245.3966666666668,"October",2376.2849999999999,"October",{"$error":"#DIV/0!"}]
["November",6105,"November",2726.1125000000002,"November",1271.8874999999998,"November",2290.0574999999999,"November",{"$error":"#DIV/0!"}]
["December",5947,"December",2274.0719999999997,"December",1340.3579999999999,"December",2625.92,"December",{"$error":"#DIV/0!"}]
[]
["AUSTRALIA / NZ"]
[null,"Australia/New Zealand Average by Month in 2021",null,"Australia/New Zealand Average by Month in 2022",null,"Australia/New Zealand Average by Month in 2023",null,"Australia/New Zealand Average by Month in 2024",null,"Australia/New Zealand Average by Month in 2025"]
["January",null,"January",2925.0974999999999,"January",1211.1199999999999,"January",966.9224999999999,"January",1334.2640000000001]
["February",null,"February",2799.5499999999997,"February",1004.6674999999999,"February",1052.645,"February",1019.2800000000001]
["March",null,"March",2642.7075,"March",826.50800000000004,"March",925.07600000000002,"March",848.03249999999991]
["April",1465,"April",2532.5039999999999,"April",693.13000000000011,"April",793.86500000000001,"April",892.15750000000003]
["May",1533,"May",2682.0550000000003,"May",602.20749999999998,"May",892.3125,"May",920.55599999999993]
["June",1637,"June",2799.9825000000001,"June",594.678,"June",986.13499999999999,"June",874.72499999999991]
["July",1876,"July",2863.8959999999997,"July",576.53750000000002,"July",1053.1424999999999,"July",942.62749999999994]
["August",2232,"August",2878.1549999999997,"August",616.32500000000005,"August",1166.0619999999999,"August",1023.2966666666666]
["September",2441,"September",2665.9960000000001,"September",711.12000000000012,"September",1478.9925000000001,"September",{"$error":"#DIV/0!"}]
["October",2721,"October",2180.2866666666669,"October",741.77,"October",1461.51,"October",{"$error":"#DIV/0!"}]
["November",2837,"November",1714.7750000000001,"November",823.70499999999993,"November",1492.4280000000001,"November",{"$error":"#DIV/0!"}]
["December",2763,"December",1328.396,"December",869.69799999999998,"December",1359.0749999999998,"December",{"$error":"#DIV/0!"}]
[]
["SOUTH AFRICA"]
[null,"South Africa Average by Month in 2021",null,"South Africa Average by Month in 2022",null,"South Africa Average by Month in 2023",null,"South Africa Average by Month in 2024",null,"South Africa Average by Month in 2025"]
["January",null,"January",3365.1424999999999,"January",1597.1499999999999,"January",1012.41,"January",1558.4580000000001]
["February",null,"February",3293.2066666666665,"February",1353.3100000000002,"February",1124.3000000000002,"February",1369.2325000000001]
["March",null,"March",3293.2025000000003,"March",1062.3219999999999,"March",906.59400000000005,"March",1086.3800000000001]
["April",1593,"April",3166.41,"April",869.46249999999998,"April",886.48500000000013,"April",955.81750000000011]
["May",1870,"May",3004.6224999999999,"May",780.26250000000005,"May",1148.415,"May",941.5139999999999]
["June",2151,"June",3036.6800000000003,"June",746.11800000000005,"June",1920.8799999999999,"June",1045.5374999999999]
["July",2507,"July",3042.9760000000006,"July",711.41500000000008,"July",2371.0574999999999,"July",1299.575]
["August",2771,"August",2954.1775000000002,"August",709.51250000000005,"August",2384.8039999999996,"August",1424.13]
["September",3260,"September",2785.5419999999999,"September",723.74199999999996,"September",2221.5249999999996,"September",{"$error":"#DIV/0!"}]
["October",3624,"October",2418.4633333333331,"October",707.43333333333339,"October",2079.2674999999999,"October",{"$error":"#DIV/0!"}]
["November",2837,"November",2326.2325000000001,"November",761.38,"November",1951.998,"November",{"$error":"#DIV/0!"}]
["December",3389,"December",1935.4360000000001,"December",801.81400000000008,"December",1741.1799999999998,"December",{"$error":"#DIV/0!"}]
[]
["SOUTH AMERICA"]
[null,"South America Average by Month in 2021",null,"South America Average by Month in 2022",null,"South America Average by Month in 2023",null,"South America Average by Month in 2024",null,"South America Average by Month in 2025"]
["January",null,"January",2909.8075000000003,"January",647.88,"January",689.89250000000004,"January",965.68799999999987]
["February",null,"February",2638.59,"February",585.16999999999996,"February",727.89,"February",826.85500000000002]
["March",null,"March",2362.16,"March",594.48199999999997,"March",681.43000000000006,"March",721.16250000000002]
["April",1705,"April",2024.5360000000001,"April",629.58750000000009,"April",743.78250000000003,"April",617.69500000000005]
["May",1827,"May",1933.83,"May",735.58749999999998,"May",1120.2950000000001,"May",596.46]
["June",2043,"June",2000.3275000000003,"June",721.54399999999998,"June",1522.9924999999998,"June",889.79499999999985]
["July",2315,"July",2317.0440000000003,"July",691.0575,"July",1797.8025,"July",990.52]
["August",2437,"August",2391.145,"August",705.46250000000009,"August",1502.7759999999998,"August",891.75]
["September",2590,"September",1829.0760000000002,"September",672.22199999999998,"September",1403.0650000000001,"September",{"$error":"#DIV/0!"}]
["October",2861,"October",1192.7233333333334,"October",583.17666666666673,"October",1257.1999999999998,"October",{"$error":"#DIV/0!"}]
["November",3013,"November",1145.615,"November",654.58000000000004,"November",1140.816,"November",{"$error":"#DIV/0!"}]
["December",2917,"December",717.30599999999993,"December",645.58400000000006,"December",1025.9275,"December",{"$error":"#DIV/0!"}]
[]
["WEST EAST AFRICA"]
[null,"West East Africa Average by Month in 2021",null,"West East Africa Average by Month in 2022",null,"West East Africa Average by Month in 2023",null,"West East Africa Average by Month in 2024",null,"West East Africa Average by Month in 2025"]
["January",null,"January",1924.7275,"January",735.14666666666653,"January",580.90000000000009,"January",1073.1420000000001]
["February",null,"February",1918.24,"February",616.23,"February",652.79999999999995,"February",923.34999999999991]
["March",null,"March",1887.3025,"March",567.02599999999995,"March",602.78,"March",841.18499999999995]
["April",1438,"April",1759.586,"April",556.29250000000002,"April",578.25249999999994,"April",820.8175]
["May",1559,"May",1685.5350000000001,"May",584.15750000000003,"May",886.40499999999997,"May",848.7639999999999]
["June",1648,"June",1672.9900000000002,"June",583.77800000000002,"June",1451.2575000000002,"June",984.91750000000002]
["July",1953,"July",1660.5540000000001,"July",585.79750000000001,"July",1439.4949999999999,"July",1144.145]
["August",2059,"August",1607.7824999999998,"August",597.44749999999999,"August",1420.5360000000001,"August",1100.1000000000001]
["September",2138,"September",1485.8879999999999,"September",582.27200000000005,"September",1299.6199999999999,"September",{"$error":"#DIV/0!"}]
["October",2106,"October",1278.05,"October",526.26666666666677,"October",1150.7150000000001,"October",{"$error":"#DIV/0!"}]
["November",2034,"November",1191.9000000000001,"November",571.32249999999999,"November",1123.6580000000001,"November",{"$error":"#DIV/0!"}]
["December",1921,"December",935.96399999999994,"December",539.35400000000004,"December",1097.5024999999998,"December",{"$error":"#DIV/0!"}]
[]
["PERSIAN GULF / RED SEA"]
[null,"Persian Gulf/Red Sea Average by Month in 2021",null,"Persian Gulf/Red Sea Average by Month in 2022",null,"Persian Gulf/Red Sea Average by Month in 2023",null,"Persian Gulf/Red Sea Average by Month in 2024",null,"Persian Gulf/Red Sea Average by Month in 2025"]
["January",null,"January",4204.0225,"January",1134.3500000000001,"January",1474.83,"January",1418.8200000000002]
["February",null,"February",3971.5,"February",1075.425,"February",1501.73,"February",1221.7874999999999]
["March",null,"March",3750.7174999999997,"March",1016.4399999999999,"March",1379.22,"March",1097.5900000000001]
["April",1819,"April",3157.0039999999999,"April",1078.4275,"April",1444.0350000000001,"April",1179.4875]
["May",2466,"May",2711.3325,"May",1169.5574999999999,"May",1737.4950000000001,"May",1154.912]
["June",2990,"June",3170.8375000000001,"June",1130.8260000000002,"June",2235.9299999999998,"June",1389.2025000000001]
["July",3388,"July",3587.2559999999999,"July",1076.25,"July",2238.4124999999999,"July",1512.8225]
["August",3616,"August",2862.3425000000002,"August",901.59249999999997,"August",1954.3419999999999,"August",1135.58]
["September",3840,"September",1883.5220000000002,"September",946.67000000000007,"September",1578.24,"September",{"$error":"#DIV/0!"}]
["October",4087,"October",1140.2233333333334,"October",865.96,"October",1138.165,"October",{"$error":"#DIV/0!"}]
["November",3947,"November",1550.1925000000001,"November",1060.1300000000001,"November",1342.1179999999999,"November",{"$error":"#DIV/0!"}]
["December",3945,"December",1317.116,"December",1050.1020000000001,"December",1425.4349999999999,"December",{"$error":"#DIV/0!"}]
[]
[]
[]
[]
[null,"Japan Average by Month ","Europe Average by Month","America West Coast Average by Month","America East Coast Average by Month ","Korea Average by Month","Southeast Average by Month ","Mediterranean Average by Month ","Australia/New Zealand Average by Month","South Africa Average by Month ","South American Average by Month","West East Africa Average by Month ","Persian Gulf/Red Sea Average by Month "]
["2021-04-02",928,3024,1312,1495,850,1282,3429,1465,1593,1705,1438,1819]
["2021-05-02",916,3529,1492,1793,850,1275,4080,1533,1870,1827,1559,2466]
["2021-06-02",918,4076,1691,2048,908,1323,4811,1637,2151,2043,1648,2990]
["2021-07-02",919,4690,1903,2217,879,1313,5387,1876,2507,2315,1953,3388]
["2021-08-02",923,5282,2038,2345,993,1358,5739,2232,2771,2437,2059,3616]
["2021-09-02",967,5388,2250,2442,928,1407,5901,2441,3260,2590,2138,3840]
["2021-10-02",1034,5457,2250,2546,1041,1550,6119,2721,3624,2861,2106,4087]
["2021-11-02",1077,5281,2264,2393,1065,1577,6105,2837,3624,3013,2034,3947]
["2021-12-02",1093,5113,2409,2573,1161,1942,5947,2763,3389,2917,1921,3945]
["2022-01-02",1215.6399999999999,5491.88,2614.3850000000002,2699.335,1300.1424999999999,2305.41,6380.8700000000008,2925.0974999999999,3365.1424999999999,2909.8075000000003,1924.7275,4204.0225]
["2022-02-02",1168.2466666666667,5721.163333333333,2654.4500000000003,2717.7433333333333,1276.1566666666668,2099.9900000000002,6407.47,2799.5499999999997,3293.2066666666665,2638.59,1918.24,3971.5]
["2022-03-02",1123.7775000000001,5414.915,2534.7275,2637.125,1241.0650000000001,1887.1200000000001,6243.2774999999992,2642.7075,3293.2025000000003,2362.16,1887.3025,3750.7174999999997]
["2022-04-02",1194.242,5096.0339999999997,2347.6999999999998,2634.828,1248.6659999999999,1780.5699999999997,5996.652,2532.5039999999999,3166.41,2024.5360000000001,1759.586,3157.0039999999999]
["2022-05-02",1216.96,5029.7724999999991,2516.3924999999999,2780.7125000000001,1220.1525000000001,1691.52,6004.1399999999994,2682.0550000000003,3004.6224999999999,1933.83,1685.5350000000001,2711.3325]
["2022-06-02",1217.2725,5046.5874999999996,2678.9325000000003,3013.04,1243.8074999999999,1730.9375,6070.6500000000005,2799.9825000000001,3036.6800000000003,2000.3275000000003,1672.9900000000002,3170.8375000000001]
["2022-07-02",1194.492,5052.5399999999991,2585.826,2959.0299999999997,1278.2,1735.154,5901.7099999999991,2863.8959999999997,3042.9760000000006,2317.0440000000003,1660.5540000000001,3587.2559999999999]
["2022-08-02",1182.0549999999998,4873.3600000000006,2412.9625000000001,2879.3924999999999,1281.4000000000001,1466.75,5398.9025000000001,2878.1549999999997,2954.1775000000002,2391.145,1607.7824999999998,2862.3425000000002]
["2022-09-02",1161.96,4316.2339999999995,2010.2579999999998,2700.3119999999999,1247.2379999999998,1063.548,4625.7899999999991,2665.9960000000001,2785.5419999999999,1829.0760000000002,1485.8879999999999,1883.5220000000002]
["2022-10-02",1155.7,3296.123333333333,1372.5166666666664,2124.6033333333335,1119.4066666666665,854.72333333333336,3306.603333333333,2180.2866666666669,2418.4633333333331,1192.7233333333334,1278.05,1140.2233333333334]
["2022-11-02",1145.0149999999999,2598.8850000000002,1083.915,1825.7,1064.4225000000001,859.91750000000002,2726.1125000000002,1714.7750000000001,2326.2325000000001,1145.615,1191.9000000000001,1550.1925000000001]
["2022-12-02",1100.8120000000001,1936.1420000000003,898.78800000000012,1455.2939999999999,1033.8600000000001,754.24400000000003,2274.0719999999997,1328.396,1935.4360000000001,717.30599999999993,935.96399999999994,1317.116]
["2023-01-02",1049.0766666666666,1613.28,828.35333333333335,1312.3400000000001,956.30666666666673,683.00333333333344,2147.3233333333333,1211.1199999999999,1597.1499999999999,647.88,735.14666666666653,1134.3500000000001]
["2023-02-02",1028.8225,1430.32,803.87750000000005,1169.9824999999998,862.44749999999999,652.17000000000007,1942.6975,1004.6674999999999,1353.3100000000002,585.16999999999996,616.23,1075.425]
["2023-03-02",930.75,1273.8240000000001,733.91399999999999,1062.1420000000001,749.07799999999997,630.43600000000004,1773.73,826.50800000000004,1062.3219999999999,594.48199999999997,567.02599999999995,1016.4399999999999]
["2023-04-02",889.30750000000012,1180.925,703.28250000000003,910.07249999999999,632.15499999999997,661.4,1681.9424999999999,693.13000000000011,869.46249999999998,629.58750000000009,556.29250000000002,1078.4275]
["2023-05-02",872.70749999999998,1163.4375,726.71500000000003,906.56000000000006,583.33000000000004,634.81999999999994,1686.03,602.20749999999998,780.26250000000005,735.58749999999998,584.15750000000003,1169.5574999999999]
["2023-06-02",858.57600000000002,1125.864,695.37599999999998,849.63400000000001,518.70000000000005,606.48200000000008,1654.5920000000001,594.678,746.11800000000005,721.54399999999998,583.77800000000002,1130.8260000000002]
["2023-07-02",813.16000000000008,1047.78,671.745,818.03749999999991,451.47,576.86750000000006,1547.47,576.53750000000002,711.41500000000008,691.0575,585.79750000000001,1076.25]
["2023-08-02",780.3,1085.0875000000001,750.25249999999994,891.19249999999988,421.12,548.33249999999998,1529.9699999999998,616.32500000000005,709.51250000000005,705.46250000000009,597.44749999999999,901.59249999999997]
["2023-09-02",787.30600000000004,1048.086,767.5179999999998,894.11599999999999,431.77200000000005,560.17399999999998,1442.5060000000001,711.12000000000012,723.74199999999996,672.22199999999998,582.27200000000005,946.67000000000007]
["2023-10-02",804.76666666666677,942.37333333333333,716.05000000000007,825.99333333333334,436.34333333333331,597.37666666666655,1245.3966666666668,741.77,707.43333333333339,583.17666666666673,526.26666666666677,865.96]
["2023-11-02",780.625,962.3,735.6825,833.4849999999999,447.36250000000001,657.13750000000005,1271.8874999999998,823.70499999999993,761.38,654.58000000000004,571.32249999999999,1060.1300000000001]
["2023-12-02",779.07199999999989,1027.7660000000001,720.76800000000003,851.64399999999989,441.96600000000001,681.74800000000005,1340.3579999999999,869.69799999999998,801.81400000000008,645.58400000000006,539.35400000000004,1050.1020000000001]
["2024-01-02",784.55250000000001,1791.3249999999998,821.99750000000006,1024.9425000000001,497.07749999999999,697.53750000000014,2306.1875,966.9224999999999,1012.41,689.89250000000004,580.90000000000009,1474.83]
["2024-02-02",800.05500000000006,2358.145,1083,1311.675,528.40499999999997,731.755,2990.71,1052.645,1124.3000000000002,727.89,652.79999999999995,1501.73]
["2024-03-02",753.62400000000002,1938.0819999999999,1029.5840000000001,1179.7439999999999,460.23400000000004,711.04200000000003,2471.59,925.07600000000002,906.59400000000005,681.43000000000006,602.78,1379.22]
["2024-04-02",731.61249999999995,1721.075,927.46500000000003,1051.325,449.70250000000004,725.29,2272.3975,793.86500000000001,886.48500000000013,743.78250000000003,578.25249999999994,1444.0350000000001]
["2024-05-02",740.875,1932.59,1048.5,1143.6975,472.005,823.13749999999993,2537.44,892.3125,1148.415,1120.2950000000001,886.40499999999997,1737.4950000000001]
["2024-06-02",726.81499999999994,2607.8775000000001,1391.08,1505.6200000000001,478.85750000000002,1066.0999999999999,3123.8375000000001,986.13499999999999,1920.8799999999999,1522.9924999999998,1451.2575000000002,2235.9299999999998]
["2024-07-02",772.66499999999996,3386.33,1658.2449999999999,1792.82,515.3175,1326.6424999999999,3577.835,1053.1424999999999,2371.0574999999999,1797.8025,1439.4949999999999,2238.4124999999999]
["2024-08-02",780.77200000000016,3616.63,1480.03,1707.6959999999999,534.3599999999999,1270.9879999999998,3553,1166.0619999999999,2384.8039999999996,1502.7759999999998,1420.5360000000001,1954.3419999999999]
["2024-09-02",815.50999999999988,2903.3074999999999,1337.1324999999999,1467.7575000000002,526.14,1070.97,3033.8274999999999,1478.9925000000001,2221.5249999999996,1403.0650000000001,1299.6199999999999,1578.24]
["2024-10-02",861.59249999999997,2133.0375000000004,1249.4000000000001,1234.9874999999997,509.08750000000003,952.26749999999993,2376.2849999999999,1461.51,2079.2674999999999,1257.1999999999998,1150.7150000000001,1138.165]
["2024-11-02",864.05799999999999,1940.136,1179.4639999999999,1213.114,494.64600000000002,1102.366,2290.0574999999999,1492.4280000000001,1951.998,1140.816,1123.6580000000001,1342.1179999999999]
["2024-12-02",951.42,2181.4675000000002,993.11249999999995,1226.6624999999999,505.005,1298.4000000000001,2625.92,1359.0749999999998,1741.1799999999998,1025.9275,1097.5024999999998,1425.4349999999999]
["2025-01-02",974.35799999999995,2213.7620000000002,1176.81,1297.9880000000001,510.85399999999998,1219.8799999999999,2752.6320000000001,1334.2640000000001,1558.4580000000001,965.68799999999987,1073.1420000000001,1418.8200000000002]
["2025-02-02",989.13249999999994,1832.0350000000001,1088.2825,1223.3475000000001,505.71750000000003,1031.2974999999999,2366.8825000000002,1019.2800000000001,1369.2325000000001,826.85500000000002,923.34999999999991,1221.7874999999999]
["2025-03-02",971.88000000000011,1583.2049999999999,888.01250000000005,1016.3275,488.83249999999998,956.88499999999999,2036.1674999999998,848.03249999999991,1086.3800000000001,721.16250000000002,841.18499999999995,1097.5900000000001]
["2025-04-02",983.88750000000005,1497.0900000000001,801.91750000000002,929.00749999999994,501.53249999999997,984.22749999999996,1868.3525,892.15750000000003,955.81750000000011,617.69500000000005,820.8175,1179.4875]
["2025-05-02",975.24399999999991,1428.194,884.83999999999992,977.96,508.66399999999993,967.86199999999985,1829.4540000000002,920.55599999999993,941.5139999999999,596.46,848.7639999999999,1154.912]
["2025-06-02",959.69999999999993,1526.3025,1149.6300000000001,1345.73,504.60249999999996,936.81999999999994,2130.8024999999998,874.72499999999991,1045.5374999999999,889.79499999999985,984.91750000000002,1389.2025000000001]
["2025-07-02",949.38,1752.8425,983.60249999999996,1247.2974999999999,479.685,915.82500000000005,2172.06,942.62749999999994,1299.575,990.52,1144.145,1512.8225]
["2025-08-02",933.80000000000007,1792.8500000000001,842.46999999999991,1029.5866666666668,460.9666666666667,846.44,1967.8999999999999,1023.2966666666666,1424.13,891.75,1100.1000000000001,1135.58]
["2025-09-02",{"$error":"#DIV/0!"},{"$error":"#DIV/0!"},{"$error":"#DIV/0!"},{"$error":"#DIV/0!"},{"$error":"#DIV/0!"},{"$error":"#DIV/0!"},{"$error":"#DIV/0!"},{"$error":"#DIV/0!"},{"$error":"#DIV/0!"},{"$error":"#DIV/0!"},{"$error":"#DIV/0!"},{"$error":"#DIV/0!"}]
["2025-10-02",{"$error":"#DIV/0!"},{"$error":"#DIV/0!"},{"$error":"#DIV/0!"},{"$error":"#DIV/0!"},{"$error":"#DIV/0!"},{"$error":"#DIV/0!"},{"$error":"#DIV/0!"},{"$error":"#DIV/0!"},{"$error":"#DIV/0!"},{"$error":"#DIV/0!"},{"$error":"#DIV/0!"},{"$error":"#DIV/0!"}]
["2025-11-02",{"$error":"#DIV/0!"},{"$error":"#DIV/0!"},{"$error":"#DIV/0!"},{"$error":"#DIV/0!"},{"$error":"#DIV/0!"},{"$error":"#DIV/0!"},{"$error":"#DIV/0!"},{"$error":"#DIV/0!"},{"$error":"#DIV/0!"},{"$error":"#DIV/0!"},{"$error":"#DIV/0!"},{"$error":"#DIV/0!"}]
["2025-12-02",{"$error":"#DIV/0!"},{"$error":"#DIV/0!"},{"$error":"#DIV/0!"},{"$error":"#DIV/0!"},{"$error":"#DIV/0!"},{"$error":"#DIV/0!"},{"$error":"#DIV/0!"},{"$error":"#DIV/0!"},{"$error":"#DIV/0!"},{"$error":"#DIV/0!"},{"$error":"#DIV/0!"},{"$error":"#DIV/0!"}]

{"sheet":"CCFI Trend Chart","index":22,"n_rows":407,"n_cols":1,"rows_kept":407,"cut":false,"hidden":false,"merged":[]}
[]
[]
[]
[]
[]
[]
[]
[]
[]
[]
[]
[]
[]
[]
[]
[]
[]
[]
[]
[]
[]
[]
[]
[]
[]
[]
[]
[]
[]
[]
[]
[]
[]
[]
[]
[]
[]
[]
[]
[]
[]
[]
[]
[]
[]
[]
[]
[]
[]
[]
[]
[]
[]
[]
[]
[]
[]
[]
[]
[]
[]
[]
[]
[]
[]
[]
[]
[]
[]
[]
[]
[]
[]
[]
[]
[]
[]
[]
[]
[]
[]
[]
[]
[]
[]
[]
[]
[]
[]
[]
[]
[]
[]
[]
[]
[]
[]
[]
[]
[]
[]
[]
[]
[]
[]
[]
[]
[]
[]
[]
[]
[]
[]
[]
[]
[]
[]
[]
[]
[]
[]
[]
[]
[]
[]
[]
[]
[]
[]
[]
[]
[]
[]
[]
[]
[]
[]
[]
[]
[]
[]
[]
[]
[]
[]
[]
[]
[]
[]
[]
[]
[]
[]
[]
[]
[]
[]
[]
[]
[]
[]
[]
[]
[]
[]
[]
[]
[]
[]
[]
[]
[]
[]
[]
[]
[]
[]
[]
[]
[]
[]
[]
[]
[]
[]
[]
[]
[]
[]
[]
[]
[]
[]
[]
[]
[]
[]
[]
[]
[]
[]
[]
[]
[]
[]
[]
[]
[]
[]
[]
[]
[]
[]
[]
[]
[]
[]
[]
[]
[]
[]
[]
[]
[]
[]
[]
[]
[]
[]
[]
[]
[]
[]
[]
[]
[]
[]
[]
[]
[]
[]
[]
[]
[]
[]
[]
[]
[]
[]
[]
[]
[]
[]
[]
[]
[]
[]
[]
[]
[]
[]
[]
[]
[]
[]
[]
[]
[]
[]
[]
[]
[]
[]
[]
[]
[]
[]
[]
[]
[]
[]
[]
[]
[]
[]
[]
[]
[]
[]
[]
[]
[]
[]
[]
[]
[]
[]
[]
[]
[]
[]
[]
[]
[]
[]
[]
[]
[]
[]
[]
[]
[]
[]
[]
[]
[]
[]
[]
[]
[]
[]
[]
[]
[]
[]
[]
[]
[]
[]
[]
[]
[]
[]
[]
[]
[]
[]
[]
[]
[]
[]
[]
[]
[]
[]
[]
[]
[]
[]
[]
[]
[]
[]
[]
[]
[]
[]
[]
[]
[]
[]
[]
[]
[]
[]
[]
[]
[]
[]
[]
[]
[]
[]
[]
[]
[]
[]
[]
[]
[]
[]
[]
[]
[]
[]
[]
[]
[]
[]
[]
[]
[]
[]
[]
[]
[]
[]
[]
[]
[]
[]
[]
[]
[]
[]
[]
["."]

{"sheet":"FAQ","index":23,"n_rows":24,"n_cols":2,"rows_kept":24,"cut":false,"hidden":false,"merged":[[0,1,0,7],[8,1,20,7],[23,1,49,7],[3,1,5,7],[2,1,2,7],[7,1,7,7],[22,1,22,7]]}
[null,"FAQ"]
[]
[null,"Q: What is SCFI"]
[null,"SCFI is the abbreviation of Shanghai Containerized Freight Index that reflects the fluctuation of spot freight rates on export container transport market from Shanghai."]
[]
[]
[]
[null,"Q: What is the main differences between SCFI and CCFI? "]
[null,"1) Different geographic coverage: SCFI composite index is a weighted average of 15 individual routes. The individual trade route reflects the export container market from Shanghai by an average spot freight rates with a port-to-port freight level; CCFI composite index reflects China’s nationwide export container transport by the indices of individual routes showing the ups and downs of the entire shipping routes.\n\n2) Different target market: SCFI targets at the spot rates of Shanghai export container transport market, which is more sensitive and periodical; CCFI targets the overall freight level (including spot and contractual rates) of China’s export container transport market, which is more comprehensive and macroeconomic."]
[]
[]
[]
[]
[]
[]
[]
[]
[]
[]
[]
[]
[]
[null,"Q: What is the definition of freight rates of individual routes?"]
[null,"The freight rate of individual routes of SCFI is the average all-in price which considers the spot ocean freights and related seaborne surcharges. \n\nThe ports of destination are the base ports of the route, e.g. Mediterranean Sea—Barcelona/Valencia/Genoa/Naples, Europe—Hamburg/Rotterdam/Antwerp/Felixstowe/Le Havre, USWC—Los Angeles/Long Beach/Oakland, USEC—New York/Savannah/Norfolk/Charleston, West Japan—Osaka/Kobe, East Japan—Tokyo/Yokohama\n\nThe seaborne surcharges include:\nBunker Adjustment Factor(BAF)/ Fuel Adjustment Factor(FAF)/ Low Sulphur Surcharge(LSS)\nEmergency Bunker Surcharge(EBS)/ Emergency Bunker Additional (EBA)\nCurrency Adjustment Factor(CAF)/ Yen Appreciation Surcharge (YAS)\nPeak Season Surcharge(PSS)\nWar Risk Surcharge(WRS)\nPort Congestion Surcharge (PCS)\nSuez Canal transit Fee/Surcharge (SCS)/ Suez Canal Fee (SCF)/ Panama Transit Fee (PTF)/ Panama Canal Charge (PCC).\n\nLandside surcharge, such as Terminal Handle Charge(THC) at both ends, Port Facility Security Surcharge, South China Place of Origin Surcharge, US Automatic Customs Declaration Charge and Inland On-carriage Charges are not included."]

{"sheet":"2024","index":24,"n_rows":53,"n_cols":14,"rows_kept":53,"cut":false,"hidden":false,"merged":[[7,1,7,13],[18,1,18,13],[40,1,40,13]]}
["Date","NWE\nTEU","MED\nTEU","USWC\nFEU","USEC\nFEU","Gulf & Red Sea (DXB) TEU","ANZ (MEL) TEU","E/W Africa (LOS) TEU","S/ Africa DUR) TEU","S/America (SSZ) TEU","W/Japan \nTEU","E/Japan\nTEU","SE Asia (SIN) TEU","Korea (PUS) TEU"]
["2024-01-05",2871,3620,2775,3931,2338,1084,2209,1741,2901,294,301,259,138]
["2024-01-12",3103,4037,3974,5813,2224,1211,2341,1805,2874,292,300,309,140]
["2024-01-19",3030,4067,4320,6262,1982,1258,2380,1848,2714,289,302,327,153]
["2024-01-26",2861,3903,4412,6413,1662,1266,2460,1851,2666,289,302,320,159]
["2024-02-02",2723,3753,5005,6652,1586,1249,2464,1854,2567,289,302,305,157]
["2024-02-09",2648,3705,4833,6452,1550,1228,2480,1871,2567,289,302,302,156]
["2024-02-16","No SCFI due to Chinese New Year"]
["2024-02-23",2508,3465,4691,6127,1701,1213,2397,1912,2625,289,302,297,155]
["2024-03-01",2277,3292,4262,5747,1715,1133,2310,1874,2625,289,302,285,153]
["2024-03-08",2134,3138,4039,5608,1599,1016,2265,1831,2596,289,302,278,148]
["2024-03-15",1971,2977,3776,5252,1410,907,2231,1783,2530,289,302,280,158]
["2024-03-22",1943,2887,3621,4842,1503,822,2194,1683,2550,288,300,281,158]
["2024-03-29",1994,3009,3407,4447,1697,729,2168,1665,2788,288,297,284,155]
["2024-04-05",1997,3014,3308,4359,1894,701,2167,1753,3082,296,302,283,155]
["2024-04-12",1971,3010,3205,4179,2051,824,2363,1781,3627,294,309,280,155]
["2024-04-19",1971,3048,3175,4071,2032,853,2468,1804,4153,292,305,295,164]
["2024-04-26",2300,3235,3602,4661,2047,929,2719,2043,4623,292,305,307,158]
["2024-05-03","No SCFI due to China Holiday"]
["2024-05-10",2869,3915,4393,5562,2124,1169,3767,2657,5461,287,309,362,161]
["2024-05-17",3050,3957,5025,6026,2221,1259,4605,3365,6686,292,305,406,181]
["2024-05-24",3409,4248,5189,6482,2391,1289,5352,3888,7065,292,305,450,161]
["2024-05-31",3740,4720,6168,7206,2542,1342,6151,4824,7408,293,299,547,163]
["2024-06-07",3949,4784,6209,7447,2855,1440,6142,5205,7936,293,299,627,163]
["2024-06-14",4179,4848,6906,7993,2950,1382,5888,5478,8263,293,299,679,163]
["2024-06-21",4336,4855,7173,8277,2893,1406,5776,5541,8558,293,299,739,169]
["2024-06-28",4880,5387,7830,9274,2711,1397,5681,5584,8854,293,299,743,172]
["2024-07-05",4857,5432,8103,9945,2436,1375,5563,5426,9026,293,299,730,166]
["2024-07-12",5051,5424,7654,9881,2273,1404,5187,5099,8760,293,299,753,162]
["2024-07-19",5000,5361,7124,9751,2193,1385,5056,4954,8212,293,299,711,165]
["2024-07-26",4991,5270,6663,9557,2219,1482,5013,4875,7939,293,299,673,165]
["2024-08-02",4907,4997,6245,9346,2217,1581,5064,4882,7867,293,299,628,162]
["2024-08-09",4786,4733,6068,9083,2208,1776,5068,4800,7987,293,299,595,162]
["2024-08-16",4610,4645,6581,9297,2139,1911,5015,4809,7730,293,299,578,162]
["2024-08-23",4400,4523,5955,8546,1969,2072,5004,4836,7562,293,299,544,162]
["2024-08-30",3876,4083,6140,8439,1756,2235,4873,4754,7698,293,299,497,161]
["2024-09-06",3459,3823,5605,7511,1509,2268,4850,4626,7523,298,305,467,139]
["2024-09-13",2841,3365,5494,6838,1264,2267,4656,4539,7301,298,306,447,147]
["2024-09-20",2592,2955,5341,6486,1147,2193,4589,4361,6990,301,309,412,141]
["2024-09-27",2250,2541,4852,5626,962,2008,4489,4245,6439,301,307,396,143]
["2024-10-04","No SCFI due to Golden week China Holiday"]
["2024-10-11",2040,2369,4730,5554,986,1966,4380,4204,6341,302,304,389,144]
["2024-10-18",1950,2312,4726,4969,1193,2026,4428,4254,6235,302,304,420,144]
["2024-10-25",2226,2555,4783,5099,1427,2058,4504,4233,6285,304,305,464,146]
["2024-11-01",2442,2907,4826,5258,1507,2145,4610,4296,6359,304,305,536,147]
["2024-11-08",2541,3055,4729,5281,1480,2190,4615,4149,5931,304,305,601,147]
["2024-11-15",2512,3080,4181,5062,1421,2159,4546,4012,5515,304,305,670,138]
["2024-11-22",2481,3071,3821,4997,1317,2038,4490,3868,5259,304,305,647,138]
["2024-11-29",3039,3682,3345,4954,1362,1850,4480,3776,5346,304,307,660,139]
["2024-12-06",3030,3761,3309,4924,1474,1769,4521,3648,5711,306,309,682,138]
["2024-12-13",2963,3746,4023,5494,1507,1922,4542,3579,5608,304,307,725,138]
["2024-12-20",2946,3733,4198,5642,1429,1952,4522,3511,5351,304,307,711,140]
["2024-12-27",2962,3780,4581,6074,1444,2110,4531,3466,5468,316,316,672,140]

{"sheet":"2023","index":25,"n_rows":53,"n_cols":14,"rows_kept":53,"cut":false,"hidden":false,"merged":[[40,1,40,13]]}
["Date","NWE\nTEU","MED\nTEU","USWC\nFEU","USEC\nFEU","Gulf & Red Sea (DXB) TEU","ANZ (MEL) TEU","E/W Africa (LOS) TEU","S/ Africa DUR) TEU","S/America (SSZ) TEU","W/Japan TEU","E/Japan TEU","SE Asia (SIN) TEU","Korea (PUS) TEU"]
["2023-01-06",1050,1855,1414,2845,1039,589,3151,2759,1231,321,331,175,238]
["2023-01-13",1020,1836,1378,2825,1002,545,3091,2724,1117,323,331,154,238]
["2023-01-20",1014,1816,1403,2783,1000,515,3047,2701,1065,334,331,154,238]
["2023-01-27","CHINA CNY HOLIDAY"]
["2023-02-03",961,1754,1363,2706,1040,441,2931,2577,1441,326,317,150,226]
["2023-02-10",925,1724,1293,2553,1132,414,2864,2479,1522,333,324,155,211]
["2023-02-17",910,1633,1273,2496,1079,369,2779,2378,1508,331,340,161,211]
["2023-02-24",882,1605,1234,2391,1029,346,2758,2296,1507,326,336,155,208]
["2023-03-03",865,1600,1200,2321,965,334,2718,2112,1482,328,328,177,202]
["2023-03-10",865,1589,1163,2194,878,280,2734,2010,1378,328,328,180,200]
["2023-03-17",878,1651,1161,2088,879,277,2731,1896,1306,328,328,190,197]
["2023-03-24",884,1606,1155,2038,894,324,2725,1860,1422,318,327,194,188]
["2023-03-31",863,1602,1148,2010,1040,318,2609,1756,1721,319,329,199,186]
["2023-04-07",877,1621,1292,2147,1092,267,2655,1741,1817,320,329,196,184]
["2023-04-14",871,1618,1668,2565,1221,255,2749,1535,2005,324,332,191,171]
["2023-04-21",883,1605,1633,2510,1314,238,2684,1500,1989,324,332,193,172]
["2023-04-28",881,1609,1453,2418,1297,223,2661,1454,1914,324,332,182,173]
["2023-05-05",875,1616,1453,2396,1298,218,2683,1457,1929,324,332,180,170]
["2023-05-12",870,1624,1385,2381,1324,225,2744,1350,1955,321,329,173,144]
["2023-05-19",869,1628,1329,2365,1261,279,2759,1417,2009,321,329,174,140]
["2023-05-26",859,1651,1398,2374,1276,261,2787,1393,2073,321,329,171,140]
["2023-06-02",846,1638,1666,2634,1297,254,2758,1375,2236,321,329,167,140]
["2023-06-09",831,1626,1388,2435,1280,273,2762,1357,2305,328,327,164,140]
["2023-06-16",808,1601,1207,2103,1238,269,2744,1332,2375,328,327,164,140]
["2023-06-23",793,1588,1173,2061,1226,272,2712,1317,2419,329,327,165,137]
["2023-06-30",763,1466,1408,2368,1226,260,2672,1297,2532,329,327,169,131]
["2023-07-07",740,1413,1404,2368,1145,249,2663,1291,2616,327,335,153,131]
["2023-07-14",738,1412,1771,2662,1013,248,2666,1304,2665,327,335,156,131]
["2023-07-21",742,1407,1764,2676,938,257,2729,1293,2580,326,334,149,131]
["2023-07-28",975,1503,1943,2853,839,318,2637,1334,2513,326,334,143,131]
["2023-08-04",947,1529,2002,3013,809,340,2572,1323,2451,326,334,143,165]
["2023-08-11",926,1507,2017,3071,853,435,2533,1379,2444,319,332,140,157]
["2023-08-18",852,1500,2003,3110,908,453,2501,1328,2285,313,318,144,157]
["2023-08-25",802,1455,2006,3052,914,520,2472,1377,2107,310,318,140,138]
["2023-09-01",768,1364,2136,3132,962,588,2457,1355,2055,309,318,152,145]
["2023-09-08",714,1308,2037,2869,948,630,2403,1348,1924,310,318,162,145]
["2023-09-15",658,1248,1888,2550,864,617,2323,1324,1816,306,320,182,145]
["2023-09-22",623,1217,1790,2377,815,610,2220,1312,1793,308,322,174,147]
["2023-09-29",599,1166,1729,2249,790,600,2183,1305,1756,306,321,176,147]
["2023-10-06","CHINA GOLDEN WEEK HOLIDAY"]
["2023-10-13",562,1112,1735,2230,841,662,2247,1410,1922,306,319,180,140]
["2023-10-20",581,1109,1746,2198,962,709,2196,1465,2164,307,319,185,142]
["2023-10-27",769,1221,1916,2361,1101,792,2307,1514,2425,306,319,187,142]
["2023-11-03",756,1231,2102,2434,1268,838,2341,1516,2660,307,319,192,142]
["2023-11-10",722,1184,1843,2354,1313,911,2295,1521,2767,307,321,194,142]
["2023-11-17",707,1147,1696,2351,1271,946,2237,1513,2812,304,319,194,139]
["2023-11-24",779,1182,1627,2316,1198,927,2246,1518,2700,304,319,196,137]
["2023-12-01",851,1260,1646,2446,1152,920,2198,1524,2578,304,319,200,137]
["2023-12-08",925,1387,1669,2441,1156,915,2164,1552,2483,301,309,200,137]
["2023-12-15",1029,1569,1819,2805,1175,916,2054,1560,2329,299,307,202,137]
["2023-12-22",1497,2054,1855,2982,1477,923,2054,1595,2340,299,306,207,138]
["2023-12-29",2694,3491,2553,3559,2045,1051,2223,1686,2793,299,306,208,138]

{"sheet":"2022","index":26,"n_rows":53,"n_cols":14,"rows_kept":53,"cut":false,"hidden":false,"merged":[]}
["Date","NWE\nTEU","MED\nTEU","USWC\nFEU","USEC\nFEU","Gulf & Red Sea (DXB)","ANZ (MEL)","E/W Africa (LOS)","S/ Africa DUR)","S/America (SSZ)","W/Japan","E/Japan","SE Asia (SIN)","Korea (PUS)"]
["2022-01-07",7777,7529,7994,11833,3790,4691,7470,6419,10323,304,276,1537,432]
["2022-01-14",7797,7520,7994,11729,3695,4673,7473,6316,10168,318,288,1523,456]
["2022-01-21",7783,7522,7976,11337,3575,4610,7396,6278,9988,341,281,1510,449]
["2022-01-28",7780,7520,7957,10985,3535,4552,7380,6275,9387,287,286,1483,449]
["2022-02-04"]
["2022-02-11",7677,7435,8054,11022,3518,4602,7244,6162,9261,310,305,1465,407]
["2022-02-18",7652,7416,8117,10870,3518,4515,7174,6140,9093,317,291,1403,404]
["2022-02-25",7519,7339,8066,10864,3426,4379,7115,6097,8801,319,290,1236,369]
["2022-03-04",7387,7254,8110,10678,3350,4216,6964,5980,8358,319,290,1195,369]
["2022-03-11",7019,7073,8105,10634,3228,4041,6905,5849,8045,313,307,1153,358]
["2022-03-18",6797,7035,8023,10634,3118,3955,6773,5778,7626,315,309,1135,353]
["2022-03-25",6593,6921,7960,10504,2843,3815,6683,5658,7289,339,329,1098,374]
["2022-04-01",6425,6839,7916,10395,2653,3712,6665,5577,6794,339,329,1085,370]
["2022-04-08",6157,6773,7860,10581,2563,3621,6597,5526,6650,339,329,1054,340]
["2022-04-15",6086,6738,7860,10649,2471,3514,6573,5520,6528,346,335,1035,340]
["2022-04-22",6016,6690,7860,10645,2428,3423,6552,5485,6564,346,335,1015,334]
["2022-04-29",5984,6671,7888,10629,2388,3322,6534,5476,6494,346,335,1001,334]
["2022-05-06",5955,6691,7888,10588,2344,3332,6485,5444,6284,346,354,996,328]
["2022-05-13",5860,6601,7900,10560,2458,3282,6444,5340,6253,344,353,992,330]
["2022-05-20",5862,6614,7888,10560,2567,3297,6383,5383,6309,344,354,994,330]
["2022-05-27",5865,6589,7776,10505,2742,3326,6375,5522,6487,344,343,1009,333]
["2022-06-03",5855,6570,7710,10231,3039,3349,6384,5549,6702,344,343,1044,333]
["2022-06-10",5843,6557,7630,10098,3267,3405,6312,5601,7216,344,343,1058,333]
["2022-06-17",5793,6487,7489,10073,3417,3402,6322,5599,7632,338,362,1049,325]
["2022-06-24",5766,6425,7378,9804,3541,3398,6214,5590,7884,338,362,1073,328]
["2022-07-01",5731,6418,7334,9684,3473,3320,6203,5568,8384,342,347,1079,359]
["2022-07-08",5697,6355,7116,9602,3309,3309,6182,5535,8954,342,347,1060,362]
["2022-07-15",5612,6268,6883,9534,3201,3186,6181,5487,9312,342,347,1054,358]
["2022-07-22",5570,6201,6722,9441,2971,3143,6131,5475,9483,342,347,1016,353]
["2022-07-29",5416,5971,6694,9348,2789,2997,6066,5391,9439,318,305,968,352]
["2022-08-05",5166,5852,6499,9330,2601,2988,6050,5336,9531,316,305,846,343]
["2022-08-12",4971,5633,6153,9106,2372,2902,5886,5260,9214,316,305,775,294]
["2022-08-19",4788,5483,5782,8992,2231,2853,5748,5220,8965,316,305,749,289]
["2022-08-26",4441,5071,5134,8801,2057,2797,5649,5064,8828,327,317,591,262]
["2022-09-02",4252,4774,3959,8318,1767,2662,5429,4950,7981,327,305,562,256]
["2022-09-09",3877,4222,3484,7767,1481,2489,5197,4817,7183,325,315,463,253]
["2022-09-16",3545,3777,3050,7176,1232,2262,5022,4654,6342,321,311,403,265]
["2022-09-23",3163,3249,2684,6538,988,1956,4979,4532,5479,325,302,386,265]
["2022-09-30",2950,2999,2399,6159,912,1850,4811,4407,5025,311,301,348,262]
["2022-10-07"]
["2022-10-14",2581,2747,2097,5816,1171,1561,4837,4446,5120,325,302,349,254]
["2022-10-21",2379,2568,2029,5639,1451,1498,4771,4376,5059,323,298,352,255]
["2022-10-28",2102,2344,1902,5318,1727,1354,4750,4211,4541,320,298,346,254]
["2022-11-04",1763,2222,1681,4890,1812,1200,4632,4096,3816,320,297,355,258]
["2022-11-11",1478,2061,1632,4223,1650,1006,4363,3925,2944,322,318,346,256]
["2022-11-18",1172,1967,1559,3877,1393,802,4111,3738,2576,331,308,327,254]
["2022-11-25",1100,1842,1496,3687,1250,613,3861,3520,2276,336,337,303,251]
["2022-12-02",1085,1827,1437,3437,1184,602,3717,3366,2025,349,337,237,272]
["2022-12-09",1047,1841,1430,3290,1171,705,3567,3085,1834,321,331,216,269]
["2022-12-16",1050,1851,1423,3169,1153,738,3401,3087,1649,331,341,205,236]
["2022-12-23",1049,1896,1418,3096,1152,721,3367,2957,1570,321,331,189,225]
["2022-12-30",1078,1850,1423,3067,1173,692,3295,2979,1433,321,331,188,238]

{"sheet":"2021","index":27,"n_rows":54,"n_cols":14,"rows_kept":54,"cut":false,"hidden":false,"merged":[]}
["Date","NWE\nTEU","MED\nTEU","USWC\nFEU","USEC\nFEU","Gulf & Red Sea (DXB)","ANZ (MEL)","E/W Africa (LOS)","S/ Africa DUR)","S/America (SSZ)","W/Japan","E/Japan","SE Asia (SIN)","Korea (PUS)"]
["2021-01-01",4091,4286,4018,4729,1903,2465,6072,3158,8173,244,251,933,196]
[{"$f":"A2+7","v":"2021-01-08"},4452,4298,4019,4750,1995,2451,6196,3307,8631,244,251,943,196]
[{"$f":"A3+7","v":"2021-01-15"},4413,4296,4054,4800,1982,2406,6630,3298,8907,244,521,958,203]
["2021-01-22",4394,4296,3995,4750,1934,2406,6560,3152,8870,246,253,974,203]
["2021-01-29",4276,4337,4088,4679,1895,2409,6604,3063,8544,255,264,990,203]
["2021-02-05",4324,4332,4076,4800,1873,2429,6608,3032,8430,256,265,996,323]
["2021-02-12",4108.55,4281.76,3968.96,4800,1858.8,2376,6567.53,3022.67,8391.67,256,265.14,996.25,323.33]
["2021-02-19",4281,4252,4106,4800,1856,2379,6566,3019,8268,256,265,1017,323]
["2021-02-26",4047,4147,3968,4814,1692,2387,6403,2849,8120,252,260,1004,301]
["2021-03-05",3966,4078,4008,4808,1531,2247,5991,2755,7801,252,258,998,297]
["2021-03-12",3712,4020,3999,4786,1428,2095,5887,2694,7373,246,251,982,296]
["2021-03-19",3665,3901,3984,4795,1373,2012,5767,2456,6855,250,254,955,296]
["2021-03-26",3742,3900,3971,4839,1355,1877,5994,2749,6790,253,258,883,311]
["2021-04-02",3651,3962,4056,4788,1504,1832,6109,2836,6895,255,259,868,308]
["2021-04-09",3964,4026,3931,5334,1624,1810,6242,2996,7155,254,261,840,308]
["2021-04-16",4187,4239,4432,5452,1932,1856,6532,3236,7374,254,260,854,308]
["2021-04-23",4325,4446,4967,5687,2160,1878,6412,3326,7304,253,260,854,312]
["2021-04-30",4360,4705,5023,6419,2299,1853,6506,3522,7313,252,259,857,312]
["2021-05-07",4678,4803,4608,7036,2441,1896,6482,3594,7410,248,257,854,306]
["2021-05-14",5438,5320,4839,7378,2550,1949,6633,3866,7657,281,285,868,306]
["2021-05-21",5579,5526,4843,7521,2646,2007,6723,4017,8097,295,297,903,319]
["2021-05-28",5816,5811,4416,7633,2831,2110,7215,4134,8601,305,308,934,319]
["2021-06-04",5887,5952,4826,8475,2859,2154,7292,4205,8915,307,311,928,318]
["2021-06-11",6355,6272,4658,8554,2937,2279,7518,4308,9120,302,308,926,243]
["2021-06-18",6351,6392,4716,8914,3002,2395,7728,4396,9297,300,306,924,231]
["2021-06-25",6479,6514,4716,8944,2997,2593,7835,4476,9380,297,305,912,231]
["2021-07-02",6786,6655,4944,9254,3116,2768,7938,4572,9379,295,302,900,229]
["2021-07-09",6741,6746,5024,9356,3262,2838,8024,4626,9449,292,296,880,227]
["2021-07-16",7023,6893,5334,9655,3373,3002,8025,4680,9383,287,284,870,229]
["2021-07-23",7127,6961,5388,9850,3481,3168,8036,4647,9498,282,280,856,205]
["2021-07-30",7395,6991,5518,10067,3553,3406,8102,4873,9720,277,277,861,189]
["2021-08-06",7418,7042,5555,10167,3584,3527,8128,5062,9772,274,273,866,189]
["2021-08-13",7407,7051,5744,10452,3643,3717,8280,5322,9820,274,274,866,189]
["2021-08-20",7398,7080,5927,10876,3720,3772,8267,5845,9845,275,278,860,184]
["2021-08-27",7365,7125,5949,11138,3776,3962,8412,6336,10000,280,281,861,236]
["2021-09-03",7443,7289,6266,11648,3830,4154,8340,6624,10012,281,282,883,271]
["2021-09-10",7491,7365,6322,11731,3941,4198,8359,6732,10148,303,305,921,273]
["2021-09-17",7524,7511,6322,11759,3960,4300,8354,6909,10191,355,340,934,330]
["2021-09-24",7551,7498,6322,11976,3925,4442,8313,7039,10195,355,340,951,339]
["2021-10-01",7538,7444,6322,11250,3862,4405,8236,6997,10222,355,340,970,350]
[{"$f":"A41+7","v":"2021-10-08"},7714,7448,6371,11114,3859,4418,8244,7009,10226,355,340,973,351]
["2021-10-15",7687,7374,6219,10700,3735,4463,8167,7160,10187,356,339,963,351]
["2021-10-22",7666,7335,6343,10544,3687,4494,7996,6957,10211,356,339,961,351]
["2021-10-29",7693,7315,6414,10454,3584,4487,7801,6712,10199,324,316,965,351]
["2021-11-05",7637,7269,6461,10428,3459,4474,7751,6650,10135,309,297,965,344]
["2021-11-12",7560,7207,6730,10589,3361,4452,7608,6564,10131,321,308,978,340]
["2021-11-19",7552,7234,6730,10415,3338,4445,7499,6487,10135,318,305,1010,339]
["2021-11-26",7549,7234,6730,10427,3360,4448,7444,6454,10137,318,305,1124,343]
["2021-12-03",7587,7251,7019,10623,3536,4459,7425,6427,10139,300,298,1266,343]
["2021-12-10",7597,7314,7300,10644,3538,4459,7442,6441,10105,298,288,1368,338]
["2021-12-17",7603,7329,7419,10983,3666,4490,7454,6435,10161,295,272,1469,342]
["2021-12-24",7671,7420,7444,11351,3753,4544,7461,6480,10297,282,271,1494,386]
["2021-12-31",7751,7535,7681,11579,3860,4683,7476,6473,10276,337,268,1489,424]

{"sheet":"2020","index":28,"n_rows":53,"n_cols":15,"rows_kept":53,"cut":false,"hidden":false,"merged":[]}
["Date","NWE\nTEU","MED\nTEU","USWC\nFEU","USEC\nFEU","Gulf & Red Sea (DXB)","ANZ (MEL)","E/W Africa (LOS)","S/ Africa DUR)","S/America (SSZ)","W/Japan","E/Japan","SE Asia (SIN)","Korea (PUS)"]
["2020-01-03",1124,1185,1636,2808,1218,949,2744,1159,2183,226,242,176,118]
[{"$f":"A2+7","v":"2020-01-10"},1058,1179,1543,2888,1175,937,2873,1150,2136,226,243,191,120]
[{"$f":"A3+7","v":"2020-01-17"},1010,1180,1562,2943,1123,949,2897,1084,1989,226,243,193,120]
["2020-01-24",969,1179,1545,2951,1126,942,2908,1087,1967,224,236,195,120]
["2020-01-31",null,null,null,null,null,null,null,null,null,null,null,null,null,"Chinese New Year"]
["2020-02-07",null,null,null,null,null,null,null,null,null,null,null,null,null,"CORONA"]
["2020-02-14",850,1031,1423,2768,1089,892,2983,1066,1848,215,230,178,120]
["2020-02-21",834,977,1367,2683,1027,863,2892,1005,1711,224,239,191,117]
["2020-02-28",804,928,1394,2690,985,849,2916,1025,1582,224,239,191,117]
["2020-03-06",830,915,1361,2679,958,835,2939,1019,1580,225,240,191,117]
["2020-03-13",827,903,1610,2912,1009,771,2924,978,1460,225,240,191,117]
["2020-03-20",797,892,1549,2785,1015,753,2842,952,1358,225,240,211,116]
["2020-03-27",764,880,1515,2758,1004,899,2859,926,1304,233,240,209,120]
["2020-04-03",750,863,1662,2782,896,918,2776,889,1114,233,240,209,120]
["2020-04-10",734,859,1630,2720,813,892,2736,849,1008,234,241,209,120]
["2020-04-17",725,841,1528,2637,708,872,2762,809,919,234,243,199,120]
["2020-04-24",753,844,1495,2620,650,929,2752,788,886,234,243,186,120]
["2020-05-01",739,840,1724,2773,637,947,2742,789,1050,234,243,179,120]
["2020-05-08",744,853,1730,2717,640,950,2727,762,1180,234,243,178,120]
["2020-05-15",831,875,1686,2542,656,935,2757,739,998,228,244,173,120]
["2020-05-22",827,879,1678,2543,618,937,2817,733,930,228,244,173,120]
["2020-05-29",863,924,2097,2732,581,959,2823,698,1211,226,238,170,120]
["2020-06-05",880,931,2132,2738,543,998,2847,682,1147,226,238,168,134]
["2020-06-12",875,954,2755,3255,470,1008,2818,656,936,226,238,165,134]
["2020-06-19",886,949,2669,3288,430,1017,2757,611,794,226,238,147,124]
["2020-06-26",890,968,2692,3303,458,1073,2742,635,779,226,238,150,124]
["2020-07-03",907,970,2920,3459,595,1096,2736,665,615,229,238,151,121]
["2020-07-10",920,951,2783,3297,638,1076,2657,700,541,229,238,151,119]
["2020-07-17",907,940,2794,3334,675,1068,2681,703,500,229,238,148,119]
["2020-07-24",896,937,2704,3269,703,1079,2681,711,548,229,238,144,117]
["2020-07-31",901,935,3167,3495,751,1082,2672,752,959,229,238,131,117]
["2020-08-07",910,940,3144,3504,783,1094,2612,761,963,231,238,134,117]
["2020-08-14",916,967,3406,3913,780,1098,2693,799,1309,231,238,134,118]
["2020-08-21",937,996,3440,3953,796,1107,2684,872,1367,231,238,133,118]
["2020-08-28",1029,1060,3639,4207,837,1213,2837,1064,1878,231,238,132,118]
["2020-09-04",1042,1082,3758,4538,909,1250,2937,1217,2223,231,238,148,118]
["2020-09-11",1054,1115,3813,4534,960,1315,3105,1416,2901,232,238,134,118]
["2020-09-18",1082,1188,3867,4634,1079,1358,3180,1619,3646,232,238,130,123]
["2020-09-25",1079,1193,3856,4625,1081,1529,3220,1685,3942,232,238,131,118]
["2020-10-02",1168,1211,3863,4622,1073,1633,3293,1737,3958,232,238,131,118]
[{"$f":"A41+7","v":"2020-10-09"},1149,1202,3848,4622,1065,1648,3265,1736,3952,232,238,135,118]
["2020-10-16",1084,1239,3841,4619,1055,1821,3406,1869,3984,230,238,158,119]
["2020-10-23",1100,1261,3865,4625,1062,1919,3430,1947,3955,231,237,170,133]
["2020-10-30",1140,1329,3849,4641,1085,2118,3572,1979,4090,236,240,254,146]
["2020-11-06",1246,1365,3871,4665,1222,2243,3632,1969,4110,244,250,475,145]
["2020-11-13",1508,1674,3887,4676,1267,2360,3978,1897,4294,249,255,728,195]
["2020-11-20",1644,1797,3913,4682,1374,2375,4219,1887,4403,250,252,802,188]
["2020-11-27",2091,2219,3880,4708,1412,2430,4549,1818,4805,250,253,776,197]
["2020-12-04",2374,2384,3947,4700,1402,2490,4588,1996,5225,251,253,775,197]
["2020-12-11",2948,3073,3948,4804,1422,2431,5001,2289,5876,248,250,798,197]
["2020-12-18",3124,3223,3900,4874,1517,2438,5140,2505,6256,244,250,899,206]
["2020-12-25",3797,3709,4080,4876,1737,2460,5652,2658,7184,244,251,910,206]

{"sheet":"2019","index":29,"n_rows":53,"n_cols":14,"rows_kept":53,"cut":false,"hidden":false,"merged":[]}
["Date","NWE\nTEU","MED\nTEU","USWC\nFEU","USEC\nFEU","Gulf & Red Sea (DXB)","ANZ (MEL)","E/W Africa (LOS)","S/ Africa DUR)","S/America (SSZ)","W/Japan","E/Japan","SE Asia (SIN)","Korea (PUS)"]
["2019-01-04",996,997,1933,3119,789,612,2367,901,1237,226,227,153,146]
[{"$f":"A2+7","v":"2019-01-11"},979,980,1895,3040,814,551,2618,841,1675,226,227,153,146]
[{"$f":"A3+7","v":"2019-01-18"},970,978,2114,3187,778,542,2627,828,1506,226,227,158,146]
["2019-01-25",960,957,2039,3137,736,536,2600,835,1408,228,230,156,145]
["2019-02-01",960,962,1993,3054,721,532,2582,838,1363,228,227,156,153]
["2019-02-08"]
["2019-02-15",906,920,1834,2968,703,502,2536,818,1304,219,219,153,153]
["2019-02-22",831,857,1720,2837,690,468,2483,798,1290,226,227,148,153]
["2019-03-01",796,810,1549,2640,639,394,2522,765,1498,226,227,148,153]
["2019-03-08",754,776,1431,2479,612,383,2485,726,1469,226,227,146,153]
["2019-03-15",714,748,1345,2357,590,358,2726,678,1498,228,229,148,147]
["2019-03-22",684,732,1329,2338,575,375,2745,663,1298,227,229,148,147]
["2019-03-29",651,725,1626,2634,689,374,2806,686,1573,230,232,148,149]
["2019-04-05",658,711,1623,2644,730,360,2731,654,1418,231,232,146,149]
["2019-04-12",640,715,1606,2638,734,339,2691,644,1434,231,232,145,122]
["2019-04-19",638,717,1538,2634,702,308,2590,640,1230,232,233,142,120]
["2019-04-26",717,726,1569,2705,682,298,2668,629,1139,232,233,142,120]
["2019-05-03"]
["2019-05-10",767.78,725.59,1441.84,2710.94,620.09,288.48,2601.16,626.05999999999995,940,233.07,237.31,141,119.67]
["2019-05-17",722.57,696.27,1340,2596.7600000000002,611.35,274.55,2616,620,887,233,237,140,118]
["2019-05-24",743,710,1294,2540,657,270,2554,613,803,231,233,140,118]
["2019-05-31",780,740,1471,2541,775,259,2525,689,1361,231,233,140,118]
["2019-06-07",779,745,1439,2502,840,256,2468,705,1330,231,233,140,118]
["2019-06-14",745,741,1416,2464,820,249,2417,748,1774,231,233,140,118]
["2019-06-21",716,731,1382,2404,794,252,2366,765,1800,231,234,140,118]
["2019-06-28",701,726,1720,2789,784,300,2356,777,2260,231,234,138,117]
["2019-07-05",688,705,1649,2764,782,348,2313,749,2014,234,234,134,125]
["2019-07-12",676,697,1659,2864,773,416,2385,769,2180,234,234,131,125]
["2019-07-19",672,695,1539,2891,738,464,2492,759,1958,234,234,119,125]
["2019-07-26",754,718,1433,2800,720,525,2530,783,2052,234,234,116,117]
["2019-08-02",806,850,1589,2801,713,578,2556,774,1935,234,234,122,117]
["2019-08-09",810,974,1474,2660,683,591,2545,766,2104,234,234,125,117]
["2019-08-16",812,1017,1368,2543,684,609,2507,749,2028,232,234,120,117]
["2019-08-23",793,969,1286,2436,685,660,2494,746,1881,232,234,103,117]
["2019-08-30",757,895,1615,2691,657,770,2408,779,2001,232,234,103,117]
["2019-09-06",710,877,1566,2631,633,790,2318,771,1866,232,234,101,117]
["2019-09-13",674,826,1447,2516,602,820,2352,789,1977,232,234,101,117]
["2019-09-20",639,797,1338,2351,562,898,2322,828,1849,234,236,101,117]
["2019-09-27",593,742,1328,2346,519,923,2308,842,1770,234,236,120,117]
["2019-10-04"]
[{"$f":"A41+7","v":"2019-10-11"},581,722,1313,2335,512,1064,2287,906,1811,224,226,110,117]
["2019-10-18",580,715,1368,2374,642,1121,2320,939,1798,234,236,114,117]
["2019-10-25",594,710,1361,2411,786,1164,2324,955,1965,223,235,122,140]
["2019-11-01",707,735,1588,2604,830,1196,2446,991,2117,223,235,130,141]
["2019-11-08",729,721,1532,2572,773,1173,2405,950,2405,223,236,150,136]
["2019-11-15",708,706,1351,2398,755,1056,2325,970,1839,228,239,163,133]
["2019-11-22",702,689,1229,2256,772,926,2281,939,1627,228,244,165,120]
["2019-11-29",766,730,1405,2684,835,816,2290,996,1667,229,244,158,120]
["2019-12-06",800,771,1509,2638,930,760,2259,996,1747,226,241,158,121]
["2019-12-13",893,1083,1370,2512,1017,740,2209,993,2014,226,241,158,121]
["2019-12-20",944,1096,1342,2451,1158,774,2335,1012,2000,226,240,163,121]
["2019-12-27",1027,1172,1434,2562,1172,929,2521,1076,2236,226,240,173,112]

{"sheet":"2018","index":30,"n_rows":53,"n_cols":14,"rows_kept":53,"cut":false,"hidden":false,"merged":[]}
["Date","NWE\nTEU","MED\nTEU","USWC\nFEU","USEC\nFEU","Gulf & Red Sea (DXB)","ANZ (MEL)","E/W Africa (LOS)","S/ Africa DUR)","S/America (SSZ)","W/Japan","E/Japan","SE Asia (SIN)","Korea (PUS)"]
["2018-01-05",888,738,1465,2425,433,1218,1293,1178,2923,213,213,145,150]
[{"$f":"A2+7","v":"2018-01-12"},897,759,1514,2608,450,1399,1481,1242,2517,213,213,153,150]
[{"$f":"A3+7","v":"2018-01-19"},891,761,1436,2792,572,1360,1487,1264,2179,209,210,157,152]
["2018-01-26",907,772,1457,2761,631,1360,1525,1264,2393,209,210,159,157]
["2018-02-02",912,797,1552,2843,611,1351,1804,1292,2584,209,210,161,160]
["2018-02-09",914,791,1486,2775,573,1314,1791,1304,2562,218,220,166,165]
["2018-02-16",905,791,1484,2767,579,1288,1788,1301,2559,218,220,161,163]
["2018-02-23",916,797,1412,2708,571,1263,1788,1303,2539,218,220,160,157]
["2018-03-02",827,721,1252,2375,465,1136,1668,1251,2309,209,211,158,150]
["2018-03-09",791,701,1143,2181,427,1003,1582,1172,2391,218,220,140,150]
["2018-03-16",741,665,1016,2009,384,933,1367,1080,2007,215,217,142,146]
["2018-03-23",704,650,945,1933,355,897,1296,1027,1904,217,219,138,144]
["2018-03-30",633,615,1127,2148,319,894,1319,1026,1759,216,219,142,144]
["2018-04-06",617,616,1128,2150,311,883,1307,998,1707,216,219,144,144]
["2018-04-13",585,600,1152,2192,327,846,1358,930,2094,218,219,142,148]
["2018-04-20",584,601,1152,2193,460,831,1340,894,1767,221,223,144,194]
["2018-04-27",774,694,1403,2371,436,832,1546,868,2133,230,229,141,191]
["2018-05-04",788,756,1468,2433,431,837,1593,834,2086,229,228,136,204]
["2018-05-11",811,783,1382,2364,460,848,2004,797,2118,229,228,139,205]
["2018-05-18",793,795,1308,2331,459,826,1949,783,1655,227,226,141,200]
["2018-05-25",825,848,1283,2271,484,810,1954,797,1849,227,226,141,198]
["2018-06-01",876,895,1445,2463,557,787,2331,888,2180,227,226,153,193]
["2018-06-08",870,904,1358,2354,547,757,2177,848,1990,227,225,159,189]
["2018-06-15",862,915,1266,2236,544,710,2213,800,1673,226,225,154,181]
["2018-06-22",834,905,1194,2181,508,697,2165,749,1546,226,225,152,181]
["2018-06-29",885,913,1545,2524,482,713,2148,697,1988,227,226,143,180]
["2018-07-06",881,903,1555,2623,470,723,2042,623,1737,227,224,152,168]
["2018-07-13",882,887,1685,2710,434,730,2173,589,1587,227,222,140,164]
["2018-07-20",863,869,1616,2650,371,737,2008,569,1437,226,224,131,159]
["2018-07-27",926,893,1877,2846,371,754,1960,562,1931,225,224,146,159]
["2018-08-03",935,881,2074,3099,364,756,2020,540,1576,225,224,142,159]
["2018-08-10",948,895,2068,3102,373,727,1963,502,1830,225,226,136,158]
["2018-08-17",928,909,2086,3317,357,663,1853,483,1607,226,226,140,155]
["2018-08-24",959,915,2126,3329,392,621,1859,488,1448,226,226,138,154]
["2018-08-31",933,908,2298,3485,409,590,2081,724,1753,226,226,137,154]
["2018-09-07",885,870,2332,3518,391,559,1898,712,1311,229,230,137,154]
["2018-09-14",821,852,2349,3512,391,552,1775,745,1272,229,228,137,155]
["2018-09-21",766,804,2343,3502,365,538,1773,753,1098,228,228,137,165]
["2018-09-28",735,767,2332,3319,354,532,1719,752,976,228,228,138,162]
["2018-10-05"]
[{"$f":"A41+7","v":"2018-10-12"},731,751,2503,3304,366,716,2003,895,952,220,221,140,160]
["2018-10-19",727,751,2587,3304,422,733,2082,954,885,220,220,149,158]
["2018-10-26",761,778,2587,3294,495,761,2226,979,1310,227,228,151,158]
["2018-11-02",752,769,2606,3615,525,778,2437,930,1468,227,228,155,150]
["2018-11-09",753,767,2575,3613,528,735,2472,845,1243,226,227,147,150]
["2018-11-16",735,757,2529,3739,518,675,2538,824,1185,226,227,145,157]
["2018-11-23",738,755,2247,3652,513,632,2581,813,996,228,228,143,153]
["2018-11-30",747,783,2190,3403,518,564,2559,1010,771,226,227,148,153]
["2018-12-07",774,788,2030,3136,523,563,2497,957,692,226,227,146,157]
["2018-12-14",832,821,1935,2901,530,564,2393,819,649,226,227,147,153]
["2018-12-21",872,839,1763,2750,597,564,2378,822,616,226,227,147,146]
["2018-12-28",996,967,1883,2998,668,634,2373,829,1092,226,227,153,146]

{"sheet":"2017","index":31,"n_rows":53,"n_cols":8,"rows_kept":53,"cut":false,"hidden":false,"merged":[]}
["Date","NWE\nTEU","MED\nTEU","USWC\nFEU","USEC\nFEU","ANZ (MEL)","Gulf & Red Sea (DXB)"]
["2017-01-06",1116,1042,2082,3133]
[{"$f":"A2+7","v":"2017-01-13"},1086,1028,2211,3594]
[{"$f":"A3+7","v":"2017-01-20"},1052,1004,2167,3647]
["2017-01-27",1041,986,2106,3637]
["2017-02-03",1023,998,2092,3639]
["2017-02-10",913,876,1964,3456]
["2017-02-17",858,844,1771,3214]
["2017-02-24",921,882,1650,3055]
["2017-03-03",876,854,1496,2955]
["2017-03-10",859,838,1424,2887]
["2017-03-17",859,838,1424,2887,null,null,"*no numbers available Friday 17/03/2017, numbers are 10/03/2017"]
["2017-03-24",815,798,1288,2625]
["2017-03-31",838,837,1479,2565]
["2017-04-07",836,817,1375,2436]
["2017-04-14",866,827,1357,2360]
["2017-04-21",880,841,1326,2307]
["2017-04-28",1021,1011,1606,2625]
["2017-05-05",996,988,1555,2567]
["2017-05-12",961,949,1432,2432,419,716]
["2017-05-19",924,914,1310,2298,406,719]
["2017-05-26",977,945,1264,2229,373,764]
["2017-06-02",933,920,1413,2428,350,918]
["2017-06-09",935,904,1277,2233,338,916]
["2017-06-16",880,877,1146,2081,323,949]
["2017-06-23",882,878,1092,2013,337,933]
["2017-06-30",1015,951,1378,2356,394,910]
["2017-07-07",969,906,1333,2307,374,846]
["2017-07-14",939,864,1265,2251,366,772]
["2017-07-21",919,852,1226,2233,365,717]
["2017-07-28",963,883,1687,2685,513,690]
["2017-08-04",935,859,1661,2661,504,672]
["2017-08-11",931,849,1641,2620,493,633]
["2017-08-18",918,831,1659,2592,489,548]
["2017-08-25",923,822,1541,2419,514,475]
["2017-09-01",886,791,1495,2280,710,450]
["2017-09-08",812,758,1473,2231,706,430]
["2017-09-15",769,730,1586,2269,714,420]
["2017-09-22",734,709,1484,2105,730,376]
["2017-09-29",714,692,1414,1991,708,366]
["2017-10-06",714,692,1414,1991,708,366,"*no numbers available Friday 06/10/2017, numbers are 29/09/2017 (Due to China Holiday)"]
["2017-10-13",686,652,1367,1801,1020,410]
["2017-10-20",681,646,1366,1755,1052,570]
["2017-10-27",744,640,1512,2075,1100,576]
["2017-11-03",779,660,1548,2089,1155,521]
["2017-11-10",728,619,1411,1917,1309,482]
["2017-11-17",689,595,1249,1801,1362,410]
["2017-11-24",694,593,1097,1681,1358,401]
["2017-12-01",729,598,1177,1901,1280,391]
["2017-12-08",751,600,1078,1804,1167,360]
["2017-12-15",801,596,1183,1967,1144,329]
["2017-12-22",800,596,1177,1972,1145,319]
["2017-12-29",864,738,1523,2418,1185,415]

{"sheet":"2016","index":32,"n_rows":54,"n_cols":6,"rows_kept":54,"cut":false,"hidden":false,"merged":[]}
["Date","NWE\nTEU","MED\nTEU","USWC\nFEU","USEC\nFEU"]
["2016-01-01",573,510,766,1448,"*no numbers available Friday 01/01/2016, numbers are 30/12/2015"]
[{"$f":"A2+7","v":"2016-01-08"},932,1022,1498,2542]
[{"$f":"A3+7","v":"2016-01-15"},932,1022,1498,2542,"*no numbers available Friday 15/01/2016, numbers are 08/01/2016"]
["2016-01-22",545,629,1377,2420]
["2016-01-29",469,488,1388,2466]
["2016-02-05",431,454,1321,2341]
["2016-02-12",431,454,1321,2341]
["2016-02-19",332,344,1070,2074]
["2016-02-26",332,344,1070,2074,"*no numbers available Friday 26/02/2016, numbers are 19/02/2016"]
["2016-03-04",231,236,884,1804]
["2016-03-11",211,203,810,1710]
["2016-03-18",205,195,761,1659]
["2016-03-25",205,195,761,1659,"*no numbers available Friday 25/03/2016, numbers are 18/03/2016"]
["2016-04-01",339,507,922,1787]
["2016-04-08",291,438,849,1732]
["2016-04-15",271,409,770,1648]
["2016-04-22",271,397,725,1599]
["2016-04-29",732,944,857,1694]
["2016-05-06",636,873,863,1683]
["2016-05-13",606,869,818,1619]
["2016-05-20",527,754,753,1547]
["2016-05-27",720,918,788,1622]
["2016-06-03",761,889,852,1685]
["2016-06-10",657,788,811,1649]
["2016-06-17",540,660,770,1528]
["2016-06-24",680,776,753,1496]
["2016-07-01",1206,1172,1209,1758]
["2016-07-08",932,951,1166,1727]
["2016-07-15",776,758,1421,1871]
["2016-07-22",713,664,1296,1744]
["2016-07-29",1125,1004,1322,1958]
["2016-08-05",1125,1004,1322,1958,"*no numbers available Friday 05/08/2016, numbers are 29/07/2016"]
["2016-08-12",1125,1004,1322,1958,"*no numbers available Friday 12/08/2016, numbers are 29/07/2016"]
["2016-08-19",1125,1004,1322,1958,"*no numbers available Friday 19/08/2016, numbers are 29/07/2016"]
["2016-08-26",695,553,1153,1684]
["2016-09-02",949,519,1746,2441]
["2016-09-09",943,702,1749,2447]
["2016-09-16",966,860,1742,2447]
["2016-09-23",764,667,1726,2433]
["2016-09-30",699,583,1686,2416]
["2016-10-07",699,583,1686,2416]
["2016-10-14",755,565,1914,2563]
["2016-10-21",761,558,1917,2565]
["2016-10-28",958,788,2034,2836]
["2016-11-04",913,738,1990,2793]
["2016-11-11",869,728,1809,2671]
["2016-11-18",869,728,1809,2671]
["2016-11-25",775,725,1528,2513]
["2016-12-02",930,864,1456,2414]
["2016-12-09",1046,944,1382,2340]
["2016-12-16",1046,944,1382,2340,"*no numbers available Friday 16/12/2016, numbers are 09/12/2016"]
["2016-12-23",1046,944,1382,2340,"*no numbers available Friday 16/12/2016, numbers are 09/12/2016"]
["2016-12-30",1168,1086,1923,3100]

{"sheet":"2015","index":33,"n_rows":53,"n_cols":6,"rows_kept":53,"cut":false,"hidden":false,"merged":[]}
["Date","NWE\nTEU","MED\nTEU","USWC\nFEU","USEC\nFEU"]
["2015-01-02",1149,1303,2125,4538]
["2015-01-09",975,1174,1930,4500]
["2015-01-16",1008,1360,2089,4747]
["2015-01-23",1256,1460,2063,4748]
["2015-01-30",1153,1427,1979,4383]
["2015-02-06",1057,1373,2242,4978]
["2015-02-13",1003,1355,2265,5049]
["2015-02-20",1003,1355,2265,5049,"no publication due to Chinese New Year"]
["2015-02-27",938,1273,2009,4946]
["2015-03-06",816,1134,1921,4740]
["2015-03-13",708,956,1835,4569]
["2015-03-20",620,808,1748,4355]
["2015-03-27",586,735,1701,4215]
["2015-04-04",511,663,1635,4033]
["2015-04-10",466,607,1932,4057]
["2015-04-17",399,540,1623,3701]
["2015-04-24",349,476,1596,3644]
["2015-05-01",343,684,1783,3605]
["2015-05-08",861,1003,1647,3310]
["2015-05-15",658,776,1519,3215]
["2015-05-22",444,581,1412,3141]
["2015-05-29",342,466,1526,3216]
[{"$f":"A23+7","v":"2015-06-05"},284,379,1447,3116]
[{"$f":"A24+7","v":"2015-06-12"},243,312,1341,3004]
["2015-06-22",205,274,1268,2904,"*no numbers available Friday 19/6/2015"]
[{"$f":"A25+14","v":"2015-06-26"},548,675,1229,2866]
["2015-07-03",879,941,1421,2951]
["2015-07-10",699,737,1280,2812]
["2015-07-17",518,529,1175,2635]
["2015-07-24",518,529,1175,2635,"*no numbers available Friday 24/7/2015, number are 17/7/2015"]
["2015-07-31",1109,1119,1607,3050,"*no numbers available Friday 31/7/2015, numbers are 3/8/2015"]
["2015-08-07",833,879,1542,2985]
["2015-08-14",640,661,1719,3159]
["2015-08-21",469,449,1585,2846]
["2015-08-28",591,697,1481,2733]
["2015-09-04",763,865,1456,2672]
["2015-09-11",588,613,1461,2670]
["2015-09-18",588,613,1461,2670,"*no numbers available Friday 18/9/2015, numbers are 11/9/2015"]
["2015-09-25",313,313,1291,2318]
["2015-10-02",313,313,1291,2318,"* no SCFI during \"Golden Week\""]
["2015-10-09",259,244,1197,2199]
["2015-10-16",233,195,1377,2390]
["2015-10-23",231,202,1166,2163]
["2015-10-30",988,804,1363,2354]
["2015-11-06",674,646,1102,2015]
["2015-11-13",409,406,1009,1834]
["2015-11-20",295,315,922,1688]
["2015-11-27",554,626,936,1699]
["2015-12-04",275,780,891,1625]
["2015-12-11",703,585,816,1506]
["2015-12-18",558,486,768,1454]
["2015-12-25",558,486,768,1454,"*no numbers available Friday 25/12/2015, numbers are 18/12/2015"]

{"sheet":"2014","index":34,"n_rows":52,"n_cols":5,"rows_kept":52,"cut":false,"hidden":false,"merged":[]}
["Date","NWE\nTEU","MED\nTEU","USWC\nFEU","USEC\nFEU"]
["2014-01-03",1765,1791,1815,3137]
["2014-01-10",1713,1745,1866,3217]
["2014-01-17",1641,1670,2111,3430]
["2014-01-24",1598,1634,2110,3427]
["2014-01-30",1580,1609,2108,3426]
["2014-02-07",1567,1595,2108,3426]
["2014-02-14",1379,1414,2041,3363]
["2014-02-21",1233,1264,1945,3294]
["2014-02-28",1110,1147,1852,3256]
["2014-03-07",988,1033,1784,3186]
["2014-03-14",{"$f":"B11-100","v":888},935,1931,3287]
["2014-03-21",843,893,1865,3293]
["2014-03-28",1214,1401,1824,3278]
["2014-04-04",1242,1347,1808,3262]
["2014-04-11",1156,1263,1872,3281]
["2014-04-18",1077,1182,1923,3328]
["2014-04-25",1084,1244,1922,3328]
["2014-04-30",1305,1458,1913,3328]
["2014-05-09",1401,1598,1907,3316]
["2014-05-16",1287,1562,1987,3424]
["2014-05-23",1188,1508,1923,3384]
["2014-05-30",1155,1611,1865,3332]
["2014-06-06",1183,1761,1802,3286]
["2014-06-13",1202,1671,1761,3268]
["2014-06-20",1120,1595,1720,3124]
["2014-06-27",1106,1567,1769,3291]
["2014-07-04",1416,1700,1841,3598]
["2014-07-11",1302,1567,1824,3598]
["2014-07-18",1230,1486,1783,3581]
["2014-07-25",1203,1459,1765,3578]
["2014-08-01",1455,1608,2198,4187]
["2014-08-08",1341,1613,2189,4187]
["2014-08-15",1198,1524,2109,4178]
["2014-08-22",1106,1427,2044,4161]
["2014-08-29",1083,1378,2178,4344]
["2014-09-05",1129,1487,2304,4636]
["2014-09-12",1055,1357,2195,4534]
["2014-09-19",908,1237,2086,4298]
["2014-09-26",822,1125,1930,4085]
["2014-10-03",738,1033,1891,4045]
["2014-10-17",705,965,2139,4146]
[{"$f":"A42+7","v":"2014-10-24"},697,936,2109,4119]
[{"$f":"A43+7","v":"2014-10-31"},1312,1416,1988,4048]
["2014-11-07",1175,1305,1927,3941]
["2014-11-14",934,1127,2090,4190]
["2014-11-21",809,1013,2158,4229]
["2014-11-28",739,952,1905,4078]
["2014-12-05",719,915,1825,4020]
["2014-12-12",1353,1443,2259,4363]
["2014-12-19",1230,1392,2242,4575]
["2014-12-26",1149,1303,2125,4538]

{"sheet":"2024_CCFI","index":35,"n_rows":54,"n_cols":13,"rows_kept":54,"cut":false,"hidden":false,"merged":[[8,1,8,12],[19,1,19,12],[41,1,41,12]]}
["CHINA CONTAINERIZED FREIGHT INDEX"]
["DATE","JAPAN","EUROPE","W/C AMERICA","E/C AMERICA","KOREA","SOUTHEAST","MEDITERRANEAN","AUSTRALIA/NEW ZEALAND","SOUTH AFRICA","SOUTH AMERICA","WEST EAST AFRICA","PERSIAN GULF/RED SEA"]
["2024-01-05",726.14,1180.5899999999999,730.99,901.64,444.58,677.98,1664.75,886.87,850.29,589.58000000000004,521.69000000000005,1112.07]
["2024-01-12",793.77,1654.04,788.55,993.71,500.54,679.88,2200.62,955.67,1067.73,645.22,568.20000000000005,1433.26]
["2024-01-19",810.69,2033.95,851.88,1049.92,534.61,695.49,2517.37,995.14,1045.18,748.1,603.91,1639.81]
["2024-01-26",807.61,2296.7199999999998,916.57,1154.5,508.58,736.8,2842.01,1030.01,1086.44,776.67,629.79999999999995,1714.18]
["2024-02-02",805.04,2398.52,1039.57,1275,549.66999999999996,731.97,3018.75,1047.8800000000001,1114.68,735.86,663.37,1573.33]
["2024-02-09",795.07,2317.77,1126.43,1348.35,507.14,731.54,2962.67,1057.4100000000001,1133.92,719.92,642.23,1430.13]
["2024-02-16","No CCFI due to Chinese New Year"]
["2024-02-23",804.22,2189.87,1134.45,1292.5999999999999,517.53,717.97,2812.56,1036.8699999999999,1035.42,688.67,647.99,1340.01]
["2024-03-01",745.28,2151.71,1090.92,1268.52,471.47,706.13,2634.13,1019.14,911.25,675.22,592.01,1314.4]
["2024-03-08",761.48,2014.51,1055.0999999999999,1199.73,476.02,722.58,2511.4699999999998,960.68,944,692.51,633.98,1396.36]
["2024-03-15",739.21,1886.68,1041.3900000000001,1166.7,450.12,701.16,2470.1,917.49,891.51,699.33,603.47,1519.67]
["2024-03-22",754.2,1856.3,1001.68,1143.24,440.96,724.4,2392.77,899.11,899.96,683.67,597.54999999999995,1347.59]
["2024-03-29",767.95,1781.21,958.83,1120.53,462.6,700.94,2349.48,828.96,886.25,656.42,586.89,1318.08]
["2024-04-05",742.04,1769.46,932.29,1077.23,454.04,715.54,2276.33,816.11,911.93,669.7,590.79999999999995,1325.59]
["2024-04-12",738.45,1725.59,953.08,1063.4100000000001,462.11,704.79,2262.61,790.46,869.1,707.86,570.84,1353.12]
["2024-04-19",722.84,1720.21,914.67,1037.94,438.16,719.09,2242.5,778.05,885.19,775.42,553.20000000000005,1513.46]
["2024-04-26",723.12,1669.04,909.82,1026.72,444.5,761.74,2308.15,790.84,879.72,822.15,598.16999999999996,1583.97]
["2024-05-03","No CCFI due to China Holiday"]
["2024-05-10",729.67,1736.53,923.32,1017.46,458.96,775.15,2373.54,834.71,961.46,941.82,699.5,1697.72]
["2024-05-17",744.72,1838.17,1007.02,1106.27,472.76,819.8,2452.73,881.88,1074.4000000000001,1091.17,797.83,1700.6]
["2024-05-24",735.55,2011.53,1077.1500000000001,1183.3800000000001,471.47,822.8,2568.46,895.42,1212.94,1187.02,944.09,1687.42]
["2024-05-31",753.28,2144.3000000000002,1186.53,1267.95,484.59,874.6,2754.76,957.12,1345.26,1261.3399999999999,1104.03,1863.84]
["2024-06-07",722.02,2337.5100000000002,1248.3699999999999,1366.64,486.08,928.8,2858.6,974.29,1544.33,1374.69,1321.35,1955.35]
["2024-06-14",708.33,2546.88,1367.66,1473.05,466.9,1039.76,3070.58,978.09,1961.56,1483.87,1430.41,2170.7199999999998]
["2024-06-21",726.62,2677.11,1440.54,1563.58,479.21,1116.22,3235.93,989.52,2025.93,1561.51,1480.68,2365.9299999999998]
["2024-06-28",750.29,2870.01,1507.75,1619.21,483.24,1179.6199999999999,3330.24,1002.64,2151.6999999999998,1671.9,1572.59,2451.7199999999998]
["2024-07-05",768.3,3090.34,1599.78,1654.16,504.54,1258,3462.6,1031.03,2256.25,1736.85,1490.85,2386.63]
["2024-07-12",774.44,3282.9,1688.08,1728.05,498.19,1297.25,3508.34,1043.68,2335.83,1845.79,1415.65,2321.25]
["2024-07-19",779,3520.93,1650.86,1900.11,538.05999999999995,1377.61,3654.79,1062,2437.37,1854.89,1404.98,2153.25]
["2024-07-26",768.92,3651.15,1694.26,1888.96,520.48,1373.71,3685.61,1075.8599999999999,2454.7800000000002,1753.68,1446.5,2092.52]
["2024-08-02",776.75,3684.44,1567.82,1831.63,548.55999999999995,1291.22,3633.01,1046.44,2451.2399999999998,1654.95,1452.95,2034.86]
["2024-08-09",783.22,3694.33,1568.84,1770.67,521.72,1377.77,3667.4,1109.95,2411.17,1586.58,1445.86,2022.47]
["2024-08-16",780.71,3698.36,1457.49,1675.35,539.6,1229.99,3553.92,1147.73,2385.21,1465.72,1428.97,1998.4]
["2024-08-23",776.69,3581.44,1398.44,1632.22,517.78,1264.43,3487.73,1236.8399999999999,2337.9299999999998,1427.06,1378.43,1875.53]
["2024-08-30",786.49,3424.58,1407.56,1628.61,544.14,1191.53,3422.94,1289.3499999999999,2338.4699999999998,1379.57,1396.47,1840.45]
["2024-09-06",805.05,3274.95,1372.23,1623.36,505.09,1154.3900000000001,3293.24,1381.54,2195.04,1357.37,1332.25,1773.87]
["2024-09-13",805.32,3017.44,1336.62,1500.4,533.49,1099.6500000000001,3130.3,1449.4,2316.11,1402.84,1316.94,1605.14]
["2024-09-20",811.99,2801.71,1335.05,1401.75,540.5,1030.1300000000001,2971.03,1534.69,2200.81,1453.7,1304.76,1537.29]
["2024-09-27",839.68,2519.13,1304.6300000000001,1345.52,525.48,999.71,2740.74,1550.34,2174.14,1398.35,1244.53,1396.66]
["2024-10-04","No CCFI due to Golden week China Holiday"]
["2024-10-11",877,2156,1251,1233,512,949,2413,1438,2137,1261,1139,1077]
["2024-10-18",864,1993,1214,1184,500,926,2253,1427,2030,1202,1114,1043]
["2024-10-25",865,1865,1228,1177,499,935,2099,1431,1976,1167,1105,1035]
["2024-11-01",856,1846,1220,1185,502,939,2052,1447,1961,1167,1079,1178]
["2024-11-08",842,1847,1227,1225,483,1005,2041,1462,2018,1168,1090,1292]
["2024-11-15",845,1955,1215,1184,499,1115,2242,1505,1936,1192,1145,1350]
["2024-11-22",849,2022,1152,1224,487,1194,2399,1523,1955,1104,1139,1451]
["2024-11-29",928,2031,1083,1247,501,1259,2467,1525,1890,1073,1165,1440]
["2024-12-06",961,2071,1024,1224,520,1280,2488,1453,1794.02,1017,1119,1423]
["2024-12-13",936,2174,980,1252,487,1314,2605,1354,1774,1036,1102,1417]
["2024-12-20",954,2208,972,1209,508,1300,2675,1303,1734,1040,1071,1420]
["2024-12-27",955,2273,997,1221,505,1300,2736,1326,1663,1010,1097,1442]

{"sheet":"2023_CCFI","index":36,"n_rows":54,"n_cols":13,"rows_kept":54,"cut":false,"hidden":false,"merged":[[5,1,5,12],[41,1,41,12]]}
["CHINA CONTAINERIZED FREIGHT INDEX"]
["DATE","JAPAN","EUROPE","W/C AMERICA","E/C AMERICA","KOREA","SOUTHEAST","MEDITERRANEAN","AUSTRALIA/NEW ZEALAND","SOUTH AFRICA","SOUTH AMERICA","WEST EAST AFRICA","PERSIAN GULF/RED SEA"]
["2023-01-06",1054.19,1753.37,843.96,1364.14,1003,696.27,2170.08,1247.58,1675.81,676.51,792.54,1167.45]
["2023-01-13",1020.63,1584.12,822.62,1333,901.38,672.11,2183.06,1260.5999999999999,1604.75,667.25,718.91,1154.69]
["2023-01-20",1073.04,1502.35,818.48,1239.8800000000001,964.54,680.63,2088.83,1125.18,1510.89,599.88,693.99,1080.9100000000001]
["2023-01-27","CHINA CHINESE NEW YEAR HOLIDAY"]
["2023-02-03",984.24,1465.34,794.74,1199.03,910.36,654.94000000000005,1974.65,1057.96,1443.99,537.96,628.80999999999995,1025.98]
["2023-02-10",1068.74,1449.61,846.32,1218.5,935.99,689.6,1983.61,966.64,1386.69,570.77,609.51,1068.6199999999999]
["2023-02-17",1035.23,1411.53,794.49,1144.03,773.32,629.44000000000005,1949.31,1024.8900000000001,1322.1,623.92999999999995,619.1,1091.24]
["2023-02-24",1027.08,1394.8,779.96,1118.3699999999999,830.12,634.70000000000005,1863.22,969.18,1260.46,608.02,607.5,1115.8599999999999]
["2023-03-03",961.19,1379.05,781.02,1083.6600000000001,788.38,605.36,1835.08,935.14,1208.5899999999999,640.77,582.26,1116.45]
["2023-03-10",982.13,1301.6400000000001,746.83,1048.5,751.86,608.14,1803.34,896.61,1105.1300000000001,620.87,574.65,1057.47]
["2023-03-17",906.79,1234.78,738.04,1065.24,757.55,645.82000000000005,1766.54,792.24,1061.6500000000001,590.59,567.54999999999995,1012.19]
["2023-03-24",939.67,1238.43,709.22,1071.26,724.6,641.91999999999996,1755.82,766.87,984.29,571.29,555.94000000000005,920.46]
["2023-03-31",863.97,1215.22,694.46,1042.05,723,650.94000000000005,1707.87,741.68,951.95,548.89,554.73,975.15]
["2023-04-07",902.3,1201.7,704.45,917.68,673.76,667.82,1714.53,705.97,940.98,572.08000000000004,546.35,1001.51]
["2023-04-14",860.35,1177.7,708.93,931.72,642.66999999999996,666.7,1661.47,727.74,882.33,618.38,558.07000000000005,996.18]
["2023-04-21",880.88,1160.94,676.48,867.65,600.76,653.62,1659.32,661.47,834.36,655.69,557.41,1135.8599999999999]
["2023-04-28",913.7,1183.3599999999999,723.27,923.24,611.42999999999995,657.46,1692.45,677.34,820.18,672.2,563.34,1180.1600000000001]
["2023-05-05",883,1170.67,750.81,933.14,599.4,644.66999999999996,1696.22,641.91,780.97,710.51,550.94000000000005,1226.51]
["2023-05-12",845.02,1170.32,745.17,910.59,578.13,629.95000000000005,1687.81,597.19000000000005,771.98,734.21,585.30999999999995,1190.73]
["2023-05-19",863.12,1165.19,707.57,897.13,581.64,634.15,1681.2,592.91,795.89,745.78,596.03,1156.02]
["2023-05-26",899.69,1147.57,703.31,885.38,574.15,630.51,1678.89,576.82000000000005,772.21,751.85,604.35,1104.97]
["2023-06-02",870.51,1149.52,699.48,860.07,556.96,608.57000000000005,1684.25,600.15,765.78,740.09,576.16999999999996,1118.08]
["2023-06-09",869.94,1134.3499999999999,679.75,847.79,521.25,618.15,1688.84,581.04,762.29,720.05,584.71,1118.96]
["2023-06-16",854.96,1124.82,717.57,868.11,525.80999999999995,607.5,1649.82,590.85,766.59,735.46,603.48,1134.3900000000001]
["2023-06-23",858.59,1119.3800000000001,714.67,857.98,500.38,598.58000000000004,1628.44,595.95000000000005,731.72,712.96,583.26,1153.3900000000001]
["2023-06-30",838.88,1101.25,665.41,814.22,489.1,599.61,1621.61,605.4,704.21,699.16,571.27,1129.31]
["2023-07-07",815.35,1080.19,654.88,790.49,486.97,585.91999999999996,1601.4,588.49,708.45,678.18,586.03,1121.21]
["2023-07-14",817.36,1052.27,659.13,793.02,458.59,578.42999999999995,1568.12,575.69000000000005,719.62,702.77,587.73,1084.8599999999999]
["2023-07-21",812.23,1027.6600000000001,670.35,829.06,445.94,583.16999999999996,1515.35,580.51,712.07,703.05,581.79,1091.58]
["2023-07-28",807.7,1031,702.62,859.58,414.38,559.95000000000005,1505.01,561.46,705.52,680.23,587.64,1007.35]
["2023-08-04",795.82,1026.52,736.26,874.41,395.74,568.70000000000005,1483.74,583.62,701.94,681.63,582.13,948.01]
["2023-08-11",788.46,1074.3599999999999,733.29,880.06,424.35,551.09,1533.86,609.72,705.28,699.27,591.91,899.02]
["2023-08-18",753.66,1128.49,754.56,905.5,435.18,546.78,1556.71,623.82000000000005,723.29,713.21,607.01,854.99]
["2023-08-25",783.26,1110.98,776.9,904.8,429.21,526.76,1545.57,648.14,707.62,727.74,608.74,904.35]
["2023-09-01",771.98,1109.82,766.87,917.47,432.66,540.48,1529.1,668.85,722.86,714.37,592.65,910.45]
["2023-09-08",788.99,1074.2,784.04,914.66,430.61,548.91,1495.42,676.58,724.17,700.02,596.86,935.43]
["2023-09-15",772.54,1038.04,772.12,895.92,438.2,549.72,1438,724.8,724.42,675.47,596.25,965.02]
["2023-09-22",792.2,1025.82,767.28,882.06,417.78,579.72,1404.61,731.82,726.22,643.92999999999995,572.95000000000005,986.84]
["2023-09-29",810.82,992.55,747.28,860.47,439.61,582.04,1345.4,753.55,721.04,627.32000000000005,552.65,935.61]
["2023-10-06","CHINA GOLDEN WEEK HOLIDAY"]
["2023-10-13",805.78,948.33,721.2,823.44,431.11,594.4,1274.4100000000001,723.08,706.09,569.71,516.26,881.41]
["2023-10-20",827.71,939.52,708.61,845.96,441.92,611.04999999999995,1240.47,742.73,716.14,577.38,513.39,844.65]
["2023-10-27",780.81,939.27,718.34,808.58,436,586.67999999999995,1221.31,759.5,700.07,602.44000000000005,549.15,871.81]
["2023-11-03",780.07,903.5,733.84,811.9,448,646.1,1234.07,784.58,741.09,640.82000000000005,554.66,978.74]
["2023-11-10",793.37,952.58,722.55,824.8,455.92,642.34,1237.25,804.46,769.08,636.1,576.88,1038.4100000000001]
["2023-11-17",775.77,994.18,740.52,846.69,434.06,669.4,1314.2,838.54,765.67,672.72,583.91,1097.32]
["2023-11-24",773.29,998.94,745.82,850.55,451.47,670.71,1302.03,867.24,769.68,668.68,579.84,1126.05]
["2023-12-01",754.48,974.24,720.4,853.34,438.53,686.04,1261.95,887.15,773.5,659.99,576.39,1056.23]
["2023-12-08",771.3,983.75,718.95,837.49,435.36,678.73,1283.67,875.39,764.4,651.72,548.82000000000005,1053.33]
["2023-12-15",772.36,1023.75,718.5,845.31,455.82,678.75,1310.3900000000001,862.07,818.78,644.75,536.73,1037.31]
["2023-12-22",804.91,1049.6300000000001,703.99,854.8,454.56,680.9,1352.49,849.19,823.12,650.16,522.98,1053.3699999999999]
["2023-12-29",792.31,1107.46,741.98,867.28,425.56,684.32,1493.29,874.69,829.27,621.29999999999995,511.85,1050.27]

{"sheet":"2022_CCFI","index":37,"n_rows":54,"n_cols":13,"rows_kept":54,"cut":false,"hidden":false,"merged":[[6,1,6,12],[41,1,41,12]]}
["CHINA CONTAINERIZED FREIGHT INDEX"]
["DATE","JAPAN","EUROPE","W/C AMERICA","E/C AMERICA","KOREA","SOUTHEAST","MEDITERRANEAN","AUSTRALIA/NEW ZEALAND","SOUTH AFRICA","SOUTH AMERICA","WEST EAST AFRICA","PERSIAN GULF/RED SEA"]
["2022-01-07",1170.51,5239.46,2630.05,2649.67,1239.99,2311.08,6200.15,2829.49,3364.03,2940.66,1862.97,4155.2700000000004]
["2022-01-14",1190.32,5451.97,2608.48,2638.48,1284.21,2322.5500000000002,6274.17,2918.3,3353.29,2921.3,1942.71,4241.58]
["2022-01-21",1281.92,5636.83,2590.39,2738.93,1307.3699999999999,2293.13,6472.06,3034.83,3406.29,2942.83,1941.16,4187.1000000000004]
["2022-01-28",1219.81,5639.26,2628.62,2770.26,1369,2294.88,6577.1,2917.77,3336.96,2834.44,1952.07,4232.1400000000003]
["2022-02-04","CHINA CHINESE NEW YEAR HOLIDAY"]
["2022-02-11",1227.8699999999999,5854.14,2745.24,2801.93,1264.83,2213.5100000000002,6614.07,2839.66,3257.02,2669.63,1936.97,3882.36]
["2022-02-18",1110.27,5720.19,2626.33,2693.16,1278.6500000000001,2067.6,6472.64,2787.84,3328.87,2634.41,1932.95,4057.34]
["2022-02-25",1166.5999999999999,5589.16,2591.7800000000002,2658.14,1284.99,2018.86,6135.7,2771.15,3293.73,2611.73,1884.8,3974.8]
["2022-03-04",1128.75,5528.5,2578.94,2667.82,1262.2,1941.06,6271.72,2659.69,3258.92,2472.23,1920.67,3824.46]
["2022-03-11",1118.6199999999999,5474.9,2568.88,2592.59,1202.0899999999999,1922.23,6262.4,2708.33,3312.56,2388.19,1912.05,3885.53]
["2022-03-18",1124.72,5372.2,2470.7600000000002,2646.21,1268.5999999999999,1848.47,6229.19,2641,3333.78,2331.9299999999998,1842.41,3696.16]
["2022-03-25",1123.02,5284.06,2520.33,2641.88,1231.3699999999999,1836.72,6209.8,2561.81,3267.55,2256.29,1874.08,3596.72]
["2022-04-01",1159.7,5162.2299999999996,2436.6,2710.1,1249.33,1832.21,6025.65,2496.94,3254.62,2169.2199999999998,1792.96,3418.92]
["2022-04-08",1178.22,5104.3999999999996,2286.79,2608.64,1249.1099999999999,1765.12,5928.69,2507.58,3190.66,2035.08,1810.13,3245.9]
["2022-04-15",1192.69,5067.2700000000004,2354.1,2648.78,1271.9000000000001,1780.33,6002.97,2455.2399999999998,3171.85,2019.96,1779.99,3162.8]
["2022-04-22",1221.93,5082.92,2336.96,2645.47,1228.95,1761.57,6004.53,2556.4,3102.21,1954.15,1660.15,3013.83]
["2022-04-29",1218.67,5063.3500000000004,2324.0500000000002,2561.15,1244.04,1764.62,6021.42,2646.36,3112.71,1944.27,1754.7,2943.57]
["2022-05-06",1197.05,5039.2299999999996,2339.09,2517.59,1179.54,1712.04,5947.17,2658.9,2997.41,1970.44,1676.08,2746.89]
["2022-05-13",1223.69,5049.9399999999996,2413.36,2671.47,1238.4000000000001,1681.52,5988.43,2634.45,3017.01,1910.27,1701.97,2716.29]
["2022-05-20",1218.83,4978,2598.5,2916.52,1224.03,1723.94,6010.56,2710.37,2993.9,1922.3,1703.71,2633.23]
["2022-05-27",1228.27,5051.92,2714.62,3017.27,1238.6400000000001,1648.58,6070.4,2724.5,3010.17,1932.31,1660.38,2748.92]
["2022-06-03",1219.25,5024.21,2682.4,3024.65,1221.4000000000001,1692.98,6065.34,2749.14,3003.44,1885.95,1672.81,2828.98]
["2022-06-10",1221.57,5069.07,2665.78,3023.22,1318.34,1727.89,6095.67,2794.21,2967.3,1983.65,1692.15,3122.05]
["2022-06-17",1222.9000000000001,5068.91,2691.53,3022.06,1223.54,1738.3,6145.5,2821.29,3060.78,1999.35,1640.4,3291.83]
["2022-06-24",1205.3699999999999,5024.16,2676.02,2982.23,1211.95,1764.58,5976.09,2835.29,3115.2,2132.36,1686.6,3440.49]
["2022-07-01",1184.6500000000001,5098.72,2643.55,3012.13,1296.3699999999999,1758.78,6026.07,2801.11,3051.48,2148.3000000000002,1682.52,3613.78]
["2022-07-08",1189.0999999999999,4994.3500000000004,2577.61,2959.47,1261.68,1799.47,5906.55,2866.82,3012.55,2242.39,1661.71,3639.88]
["2022-07-15",1200.3,5085.87,2642.41,2927.72,1263,1748.99,6012.58,2878.02,3083.11,2314.23,1665.94,3707.59]
["2022-07-22",1190.1600000000001,5086.4799999999996,2536.56,2946.35,1271.07,1702.96,5813.46,2885.33,3051.05,2399.8000000000002,1638.27,3612.35]
["2022-07-29",1208.25,4997.28,2529,2949.48,1298.8800000000001,1665.57,5749.89,2888.2,3016.69,2480.5,1654.33,3362.68]
["2022-08-05",1171.3900000000001,5075.59,2457.62,2898.19,1275.04,1671.19,5610.49,2945.75,2961.83,2477.8000000000002,1632.86,3290.14]
["2022-08-12",1192.98,4910.6099999999997,2471.12,2876.22,1299.45,1483.01,5507.71,2902.29,3030.7,2420.29,1603.03,2910.29]
["2022-08-19",1183.73,4817.93,2362.71,2907.32,1250.23,1421.08,5313.46,2871.87,2946.07,2387.2399999999998,1625.05,2764.77]
["2022-08-26",1180.1199999999999,4689.3100000000004,2360.4,2835.84,1300.8800000000001,1291.72,5163.95,2792.71,2878.11,2279.25,1570.19,2484.17]
["2022-09-02",1184.5999999999999,4616.87,2232.89,2837.09,1259.06,1217.25,5108.3999999999996,2768.04,2907.95,2170.6,1551.94,2317.5500000000002]
["2022-09-09",1165.83,4455.4799999999996,2194.66,2799.37,1261.4100000000001,1131.24,4833.04,2789.66,2842.58,2061.2399999999998,1525.51,2022.84]
["2022-09-16",1142.22,4335,2012.7,2784.02,1219.1099999999999,1025.9100000000001,4676.99,2700.89,2830.84,1848.34,1492.11,1931.49]
["2022-09-23",1174.3900000000001,4178.1400000000003,1913.8,2600.25,1211.33,985.67,4381.0600000000004,2603.15,2709.43,1623.3,1472.45,1659.55]
["2022-09-30",1142.76,3995.68,1697.24,2480.83,1285.28,957.67,4129.46,2468.2399999999998,2636.91,1441.9,1387.43,1486.18]
["2022-10-07","CHINA GOLDEN WEEK"]
["2022-10-14",1156.29,3435.82,1486.37,2195.67,1130.94,852.89,3505.76,"\t2316.13",2455.9699999999998,1156.27,1288.6600000000001,1124.1099999999999]
["2022-10-21",1151.58,3339.09,1389.53,2143.1,1105.97,866.42,3314.62,2173.84,2420.39,1156.47,1282.32,1104.7]
["2022-10-28",1159.23,3113.46,1241.6500000000001,2035.04,1121.31,844.86,3099.43,2050.89,2379.0300000000002,1265.43,1263.17,1191.8599999999999]
["2022-11-04",1149.94,2894.69,1171.56,1964.56,1072.25,887.69,2917.04,1886.41,2336.69,1262.93,1242.6500000000001,1355.79]
["2022-11-11",1160.3499999999999,2689.82,1138.42,1881.53,1045.18,863.08,2771.26,1782.67,2367.34,1229.71,1229.67,1529.17]
["2022-11-18",1127.8699999999999,2514.6999999999998,1036.96,1780.34,1084.83,846.32,2668.72,1630.54,2332.71,1129.45,1148.96,1672.14]
["2022-11-25",1141.9000000000001,2296.33,988.72,1676.37,1055.43,842.58,2547.4299999999998,1559.48,2268.19,960.37,1146.32,1643.67]
["2022-12-02",1126.02,2162.27,927.76,1558.91,1036.8,819.11,2376.75,1444.57,2135.0500000000002,799.67,1075.21,1467.73]
["2022-12-09",1118.9100000000001,2035.28,927.2,1515.6,1049.48,759.45,2374.3200000000002,1414.66,2036.39,727.39,977.95,1353.54]
["2022-12-16",1091.22,1893.97,894.62,1433.23,1022.7,761.23,2246.64,1250.9100000000001,1903.42,713.66,916.19,1294.27]
["2022-12-23",1096.01,1823.1,906.35,1391.15,1030.27,721.61,2188.2199999999998,1255.3,1829.56,670.63,893.19,1251.3399999999999]
["2022-12-30",1071.92,1766.36,837.77,1377.49,1029.8499999999999,709.93,2184.1799999999998,1276.1099999999999,1772.81,674.85,817.49,1218.43]

{"sheet":"2021_CCFI","index":38,"n_rows":54,"n_cols":13,"rows_kept":54,"cut":false,"hidden":false,"merged":[]}
["CHINA CONTAINERIZED FREIGHT INDEX"]
["DATE","JAPAN","EUROPE","W/C AMERICA","E/C AMERICA","KOREA","SOUTHEAST","MEDITERRANEAN","AUSTRALIA/NEW ZEALAND","SOUTH AFRICA","SOUTH AMERICA","WEST EAST AFRICA","PERSIAN GULF/RED SEA"]
["2021-01-08",841.69,2531.3000000000002,1270.74,1419.08,659.94,1433.79,3025.34,1447.02,1481.15,1659.94,1218.9000000000001,2012.13]
["2021-01-15",844.36,2867.73,1310.82,1404.14,712.78,1411.21,3254.08,1508.44,1734.97,1776.57,1417.37,1975.51]
["2021-01-22",837.75,3169.54,1280.99,1432.13,747.6,1443.16,3465.61,1586.08,1753.56,1945.5,1496.08,2128.06]
["2021-01-29",856.71,3318.75,1331.15,1508.9,773.55,1472.97,3669.38,1621.26,1765.94,1940.7,1544.56,2145.58]
["2021-02-05",861.88,3335.82,1338.38,1470.41,815.62,1483.39,3838.24,1591.99,1765.89,1963.7,1591.12,2143.7199999999998]
["2021-02-12",841.75,3316.22,1389.13,1544.29,869.6,1494.69,3696.45,1601.96,1723.22,2012.29,1551.88,2112.46]
["2021-02-19",833.71,3371.04,1379.93,1582.71,837.69,1500.3,3698.63,1572.77,1671.56,2023.6,1597.87,2102.4899999999998]
["2021-02-26",912.21,3327.5,1418.84,1602.7,1245.06,1452.07,3539,1583.89,1626.84,1856.3,1470.74,2057.42]
["2021-03-05",895,3202.18,1336.39,1534.1,973.52,1469.91,3273.57,1510.75,1639.15,1828.89,1459.78,1974.65]
["2021-03-12",893.82,2960.77,1335.48,1524.05,914.45,1455.98,3334.37,1558.03,1548.67,1784.38,1465.84,1884.62]
["2021-03-19",896.96,2964.14,1301.49,1464.09,933.68,1442.7,3462.82,1569.72,1610.2,1784.17,1516.62,1810.82]
["2021-03-26",921.13,2911.42,1307.26,1433.68,867.24,1351.81,3328.43,1445.78,1583.51,1708.57,1384.36,1809.86]
["2021-04-02",926.22,2953.88,1309.8,1484.44,859.96,1333.76,3372.37,1493.92,1557.23,1685,1426.5,1710.58]
["2021-04-09",937.24,2975.54,1298.83,1459.88,814.67,1297.03,3373.03,1413.8,1539.67,1660.89,1366.54,1660.44]
["2021-04-16",926.99,2944.09,1287.2,1492.93,849.16,1278.3499999999999,3340.48,1465.59,1543.5,1649.25,1452.46,1699.54]
["2021-04-23",933.74,3047.68,1307.6099999999999,1488.65,814.26,1260.6199999999999,3447.22,1460.48,1632.81,1739.45,1481.55,1849.99]
["2021-04-30",916.56,3196.86,1355.39,1549.47,913.46,1242.3699999999999,3611.36,1492.73,1689.63,1791.37,1463.45,2173.13]
["2021-05-07",919.29,3354.56,1371.96,1675.29,864.41,1271.4000000000001,3886.27,1513.79,1778.33,1811.22,1561.41,2255.11]
["2021-05-14",916.45,3462.84,1464.75,1749.12,853.96,1255.98,3908.94,1552.13,1819.62,1862.63,1554.37,2361.11]
["2021-05-21",915.13,3560.66,1541.02,1855.86,831.71,1297.97,4066.4,1519.92,1926.8,1823.87,1574.75,2622.35]
["2021-05-28",912.63,3739.5,1590.53,1893.27,848.24,1274.92,4458.22,1545.11,1955.68,1808.3,1546.55,2623.51]
["2021-06-04",917.48,3835.78,1619.89,1942.21,910.12,1326.89,4600.84,1635.91,2037.13,1921.1,1567.52,2844.6]
["2021-06-11",929.84,4013.86,1643.48,1977.92,888.09,1340.88,4797.74,1585.7,2104.9,1984.9,1620.66,2865.45]
["2021-06-18",914.74,4187.33,1718.08,2134.62,899.04,1316.29,4775.7700000000004,1662.47,2151.9299999999998,2121.02,1629.24,3062.19]
["2021-06-25",908.71,4226.75,1783.56,2137.08,936.62,1307.05,5067.82,1664.36,2311.65,2144.1999999999998,1775.34,3189.09]
["2021-07-02",934.15,4392.57,1811.62,2200.9,847.29,1300.3699999999999,5124.72,1734.32,2339.69,2288.94,1751.11,3250.96]
["2021-07-09",907.18,4432.43,1923.19,2185.91,911.25,1318.1,5180.33,1744.07,2492.2399999999998,2210.69,1888.74,3313.46]
["2021-07-16",911.65,4702.8599999999997,1840.64,2170.8000000000002,884.8,1350.7,5341.5,1888.69,2546.5,2324.31,2086.8200000000002,3380.75]
["2021-07-23",919.63,4853.84,1971.5,2185.2800000000002,866.83,1289.71,5649.76,1972.5,2519.7800000000002,2375.84,2006.53,3412.71]
["2021-07-30",923,5066.32,1969.97,2341.37,883.53,1307.9100000000001,5638.18,2041.9,2634.85,2376.06,2031.94,3579.87]
["2021-08-06",923.29,5230.1099999999997,2019.74,2240.62,889.73,1407.19,5809.34,2169.48,2785.87,2418.02,2070.7399999999998,3662.46]
["2021-08-13",918.6,5165.62,2022.62,2336.52,1016.84,1311.75,5712.91,2207.83,2682.1,2412.13,2012.73,3580.9]
["2021-08-20",927.49,5439.44,2005.99,2273.94,1017.75,1443.57,5691.7,2201.5500000000002,2761.5,2456.9699999999998,2037.89,3636.12]
["2021-08-27",928.92,5356.26,2099.31,2433.9699999999998,921.04,1365.65,5838.46,2312.16,2959.05,2467.04,2170.8000000000002,3666.26]
["2021-09-03",934.02,5305.97,2319.37,2289.71,937.42,1324.3,5706.33,2377.27,2990.97,2491.9,2081.38,3762.09]
["2021-09-10",957.11,5459.48,2225.7199999999998,2435.87,866.95,1422.66,5871.46,2424.84,3186.09,2530.21,2189.64,3775.25]
["2021-09-17",973.29,5364.25,2183.4299999999998,2507.94,940.67,1410.42,5936.6,2563.42,3349.35,2567.4,2217.58,3808.57]
["2021-09-24",1004.99,5424.15,2271.4,2534.41,966.68,1471.16,6089.2,2397.63,3512.35,2771.84,2061.73,4012.14]
["2021-10-01",1032.23,5393.79,2217.2800000000002,2512.38,1048.8399999999999,1412.16,6087.31,2592.0700000000002,3566.99,2737.06,2089.35,4026.02]
["2021-10-08",1034.47,5539.71,2135.83,2687.91,1050.5899999999999,1533.33,5991.8,2695.69,3528.1,2808.91,2143.4899999999998,4178.8500000000004]
["2021-10-15",1041.8599999999999,5530.61,2295.6,2547.7800000000002,1054.22,1579.91,6053.66,2668.88,3602.37,2835.45,2056.98,4138.3599999999997]
["2021-10-22",1006.63,5457.89,2381.2399999999998,2502.65,993.24,1582.26,6249.77,2807.19,3657.93,2921.06,2103.92,4051.4]
["2021-10-29",1052.3800000000001,5362.27,2220.11,2480.58,1059.19,1643.35,6210.41,2843.49,3763.81,3000.72,2137.59,4040.84]
["2021-11-05",1057.46,5426.49,2251.6999999999998,2465.83,1060.05,1596.88,6185.97,2848.96,3761.38,3029.47,2082.29,3980.06]
["2021-11-12",1046.32,5342.13,2243.42,2428.0100000000002,1038.6600000000001,1494.49,6058.38,2798.57,3630.15,2966.74,2056.79,4004.81]
["2021-11-19",1100.04,5292.4,2268.13,2431.04,1053.0999999999999,1568.62,6126.6,2833.57,3669.44,3038.47,1972.02,3938.09]
["2021-11-26",1104.23,5062.62,2292.9499999999998,2447.1799999999998,1108.2,1647.4,6047.57,2867.47,3436.49,3017.31,2024.34,3866.38]
["2021-12-03",1089.76,5121.53,2340.73,2513.66,1112.53,1651.53,5824.9,2798.17,3331.95,2919.39,1968.62,3883.6]
["2021-12-10",1100.3499999999999,5161.8900000000003,2438.17,2489.21,1107.8800000000001,1793.92,5844.85,2658.7,3429.84,2855.98,1965.19,3861.7]
["2021-12-17",1075.56,5055.51,2430.46,2521.84,1183.1199999999999,1938.94,5887.73,2757.99,3403.16,2884.35,1867.87,3944.26]
["2021-12-24",1063.29,5111.9799999999996,2412.5100000000002,2661.71,1177.75,2088.5700000000002,6045.86,2787.48,3441.2,2936.81,1935.6,3952.87]
["2021-12-31",1133.8599999999999,5114.92,2423.54,2678.34,1221.58,2235.8000000000002,6131.45,2809.4,3340.48,2988.16,1865,4083.56]

{"sheet":"2020_CCFI","index":39,"n_rows":37,"n_cols":13,"rows_kept":37,"cut":false,"hidden":false,"merged":[]}
["CHINA CONTAINERIZED FREIGHT INDEX"]
["DATE","JAPAN","EUROPE","W/C AMERICA","E/C AMERICA","KOREA","SOUTHEAST","MEDITERRANEAN","AUSTRALIA/NEW ZEALAND","WEST EAST AFRICA","SOUTH AFRICA","SOUTH AMERICA","PERSIAN GULF/RED SEA"]
["2020-05-08",747.89,970.09,723.83,922.2,588.36,713.54,1142.1400000000001,802.86,625.37,640.94000000000005,497.07,874.28]
["2020-05-15",755.35,974.91,736.17,935.36,550.79999999999995,704.45,1137.78,796.07,578.74,620.09,485.85,862.4]
["2020-05-22",753.41,984.51,732.3,941.23,557.35,692.79,1137.83,803.23,562.23,606.15,503.59,885.66]
["2020-05-29",745.63,1002.95,722.79,917.98,533.37,676.43,1141.17,808.45,552.09,585.49,513.5,969.05]
["2020-06-05",749.67,1010.52,734.87,910.34,549.89,656.64,1156.8800000000001,804.88,558.99,584.29999999999995,520.64,942.92]
["2020-06-12",729.82,1015.22,741.4,912.18,538.04999999999995,671.69,1147.25,821.86,555.02,562.04,519.45000000000005,905.16]
["2020-06-19",740.95,1020.07,775.38,920.76,551.09,655.03,1183.24,819.05,508.21,547.92999999999995,524.05999999999995,815.77]
["2020-06-26",747.12,1032.6099999999999,793.86,931.78,541.36,637.36,1177.33,820.47,537.13,537.95000000000005,511.38,738.6]
["2020-07-03",740.78,1025.6600000000001,838.73,976.95,546.59,654.51,1156.3699999999999,827.54,522.41999999999996,527.65,483.71,765.95]
["2020-07-10",740.47,1029.1500000000001,860.41,987.62,577.95000000000005,639.78,1199.3900000000001,838.83,531.71,546.48,460.5,789.38]
["2020-07-17",742.51,1026.6099999999999,883.92,972.08,516.79,630.66,1149.9100000000001,844.67,520.36,546.63,446.67,817.67]
["2020-07-24",740.95,1037.8599999999999,867.17,977.68,540.51,646.1,1169.42,878.58,512.19000000000005,543.66,439,889.3]
["2020-07-31",731.4,1027.5999999999999,863.43,976.04,527.92999999999995,633.41999999999996,1162.07,875.67,510.43,553.38,428.14,908.21]
["2020-08-07",734.96,1031.48,867.5,964.48,529.1,619.46,1146.76,853.91,517.63,586.83000000000004,421.45,920.47]
["2020-08-14",733.63,1038.74,902.1,979.83,526.87,642.61,1151.1199999999999,895.73,507.35,571.21,447.9,934.35]
["2020-08-21",731.32,1034.93,915.76,993.56,526.17999999999995,627.1,1176.7,886.31,513.57000000000005,564.79999999999995,465.68,944.71]
["2020-08-28",734.25,1053.02,954.01,1026.8599999999999,536.30999999999995,640.71,1178.49,910.58,530.79999999999995,583.46,497.15,939.53]
["2020-09-04",732.24,1056.9000000000001,982.06,1060.96,512.80999999999995,624.66,1242.57,908.27,522.15,606.73,526.83000000000004,974.83]
["2020-09-11",734.34,1081.1400000000001,1009.47,1087.2,545.82000000000005,644.4,1279.17,944.19,528.69000000000005,663.45,611.30999999999995,987.57]
["2020-09-18",745.16,1108.9100000000001,1037.56,1144.79,543.47,660.63,1278.68,958.53,574.04999999999995,750.73,724.31,1080.58]
["2020-09-25",729.14,1117.6600000000001,1059.8,1164.69,558.39,660.04,1328.01,958.42,584.97,812.13,837.1,1119.26]
["2020-10-02",752.49,1111.28,1073.25,1168.98,557.41999999999996,664.37,1350.91,983.02,631.70000000000005,867.74,893.99,1158.3599999999999]
["2020-10-09",726.44,1137.8499999999999,1069.27,1217.1099999999999,515.78,666.43,1385.99,1007.98,645.04999999999995,950.28,998.52,1300.31]
["2020-10-16",739.08,1137.18,1088.3399999999999,1210.49,525.89,674.31,1373.5,1061.5899999999999,647.22,992.64,1027.98,1229.94]
["2020-10-23",744.73,1146.3599999999999,1065.9100000000001,1187.27,510.86,674.05,1389.54,1104.75,665.17,1058.26,1017.05,1249.29]
["2020-10-30",741.95,1163.81,1069.78,1235.8800000000001,514.16,687.42,1409.56,1135.19,698.41,1133.98,1050.93,1287]
["2020-11-06",750.46,1192.76,1113.3599999999999,1248.92,541.89,769.13,1439.86,1206.5999999999999,706.73,1149.2,1085.74,1323.41]
["2020-11-13",748.26,1212.82,1106.71,1260.2,542.15,774.68,1408.57,1105.58,717.96,1153.27,1082.3499999999999,1289.02]
["2020-11-20",755.12,1232.1600000000001,1138.19,1260.18,566.45000000000005,830.65,1481.7,1222.08,784.33,1185.4100000000001,1150.3800000000001,1357.22]
["2020-11-27",755.33,1300.32,1167.23,1283.1400000000001,538.77,995.67,1546.98,1290.1400000000001,816.11,1179.68,1149.25,1438.1]
["2020-12-04",764.86,1510.85,1207.96,1309.26,562.28,1211.08,1787.32,1356.4,869.71,1195.19,1256.79,1671.08]
["2020-12-11",775.3,1745.22,1215.99,1309.96,601.71,1321.3,1943.54,1393.25,998.01,1219.81,1279.53,1749.63]
["2020-12-18",810.28,1893.28,1238.08,1350.15,644.70000000000005,1376.7,2135.58,1372.62,1071.33,1212.43,1333.99,1860.05]
["2020-12-25",812.74,2137.27,1222.31,1329.22,641.88,1411.45,2489.39,1419.9,1118.1600000000001,1328.53,1482.18,1838.67]
["2020-12-31",815.96,2318.13,1241.48,1370.95,682.36,1436.14,2709.6,1438.15,1180.31,1415.26,1559.71,1923.5]